Workbook
Name __DemandLoad: TRUE

Sheet 편입용지조서(총괄)
A1: 편 입 용 지 조 서 | R1: 공시지가 | S1: 보상금액 | T1: 조정액(3배)
A2: 토 지 소 재 지 | F2: 지목 | G2: 지 적 | H2: 편입지적 | I2: 실제 이용 현황 | J2: 소 유 자 (토 지 대 장) | L2: 관 계 인 (등 기 부 등 본) | N2: 비 고 | O2: 필지수 | P2: 소유구분
A3: 번호 | B3: 군 | C3: 읍,면 | D3: 동,리 | E3: 지 번 | G3: (㎡) | H3: (㎡) | J3: 성 명 | K3: 주 소 | L3: 성 명 | M3: 주 소
A4: 1 | B4: 진도 | C4: 의신 | D4: 돈지 | E4: 82-16 | F4: 답 | G4: 877 | H4: 41 | J4: 이*안 | K4: 전라남도 진도군 의신면 돈지리 | O4: =COUNTIF(E4,E:E) -> 1 | P4: =IF(J4="국유지", "국유지", "사유지") -> 사유지 | Q4: =P4&F4 -> 사유지답 | R4: 4900 | S4: =IF(R4="-","-",H4*R4) -> 200900 | T4: =IF(R4="-","-",S4*3) -> 602700
A5: 2 | B5: 진도 | C5: 의신 | D5: 돈지 | E5: 53-2 | F5: 천 | G5: 258 | H5: 157 | J5: 임* | K5: 전라남도 진도군 의신면 돈지리 | O5: =COUNTIF(E5,E:E) -> 1 | P5: =IF(J5="국유지", "국유지", "사유지") -> 사유지 | Q5: =P5&F5 -> 사유지천 | R5: 3150 | S5: =IF(R5="-","-",H5*R5) -> 494550 | T5: =IF(R5="-","-",S5*3) -> 1483650
A6: 3 | B6: 진도 | C6: 의신 | D6: 돈지 | E6: 82-15 | F6: 답 | G6: 1986 | H6: 325 | J6: 이*안 | K6: 전라남도 진도군 의신면 돈지리 | O6: =COUNTIF(E6,E:E) -> 1 | P6: =IF(J6="국유지", "국유지", "사유지") -> 사유지 | Q6: =P6&F6 -> 사유지답 | R6: 4800 | S6: =IF(R6="-","-",H6*R6) -> 1560000 | T6: =IF(R6="-","-",S6*3) -> 4680000
A7: 4 | B7: 진도 | C7: 의신 | D7: 돈지 | E7: 110 | F7: 구 | G7: 1967 | H7: 381.8 | J7: 국유지 | K7: 농림축산식품부 | O7: =COUNTIF(E7,E:E) -> 1 | P7: =IF(J7="국유지", "국유지", "사유지") -> 국유지 | Q7: =P7&F7 -> 국유지구 | R7: - | S7: =IF(R7="-","-",H7*R7) -> - | T7: =IF(R7="-","-",S7*3) -> -
A8: 5 | B8: 진도 | C8: 의신 | D8: 돈지 | E8: 82-14 | F8: 답 | G8: 912 | H8: 195 | J8: 박*본 | K8: 전라남도 진도군 의신면 돈지리 | O8: =COUNTIF(E8,E:E) -> 1 | P8: =IF(J8="국유지", "국유지", "사유지") -> 사유지 | Q8: =P8&F8 -> 사유지답 | R8: 4800 | S8: =IF(R8="-","-",H8*R8) -> 936000 | T8: =IF(R8="-","-",S8*3) -> 2808000
A9: 6 | B9: 진도 | C9: 의신 | D9: 돈지 | E9: 52-2 | F9: 천 | G9: 631 | H9: 631 | J9: 박*환 | K9: 전라남도 진도군 의신면 돈지리 | O9: =COUNTIF(E9,E:E) -> 1 | P9: =IF(J9="국유지", "국유지", "사유지") -> 사유지 | Q9: =P9&F9 -> 사유지천 | R9: 3150 | S9: =IF(R9="-","-",H9*R9) -> 1987650 | T9: =IF(R9="-","-",S9*3) -> 5962950
A10: 7 | B10: 진도 | C10: 의신 | D10: 돈지 | E10: 82-13 | F10: 답 | G10: 1155 | H10: 192.1 | J10: 박*본 | K10: 전라남도 진도군 의신면 돈지리 | O10: =COUNTIF(E10,E:E) -> 1 | P10: =IF(J10="국유지", "국유지", "사유지") -> 사유지 | Q10: =P10&F10 -> 사유지답 | R10: 4800 | S10: =IF(R10="-","-",H10*R10) -> 922080 | T10: =IF(R10="-","-",S10*3) -> 2766240
A11: 8 | B11: 진도 | C11: 의신 | D11: 돈지 | E11: 82-12 | F11: 답 | G11: 2587 | H11: 247.4 | J11: 이*원 | K11: 전라남도 진도군 의신면 돈지리 | O11: =COUNTIF(E11,E:E) -> 1 | P11: =IF(J11="국유지", "국유지", "사유지") -> 사유지 | Q11: =P11&F11 -> 사유지답 | R11: 4800 | S11: =IF(R11="-","-",H11*R11) -> 1187520 | T11: =IF(R11="-","-",S11*3) -> 3562560
A12: 9 | B12: 진도 | C12: 의신 | D12: 돈지 | E12: 82-11 | F12: 답 | G12: 905 | H12: 38 | J12: 조*희외 2인 | K12: 전라남도 진도군 의신면 돈지리 | O12: =COUNTIF(E12,E:E) -> 1 | P12: =IF(J12="국유지", "국유지", "사유지") -> 사유지 | Q12: =P12&F12 -> 사유지답 | R12: 4800 | S12: =IF(R12="-","-",H12*R12) -> 182400 | T12: =IF(R12="-","-",S12*3) -> 547200
A13: 10 | B13: 진도 | C13: 의신 | D13: 돈지 | E13: 82-10 | F13: 답 | G13: 1990 | H13: 9.5 | J13: 박*언외 3인 | K13: 전라남도 진도군 의신면 돈지리 | O13: =COUNTIF(E13,E:E) -> 1 | P13: =IF(J13="국유지", "국유지", "사유지") -> 사유지 | Q13: =P13&F13 -> 사유지답 | R13: 4800 | S13: =IF(R13="-","-",H13*R13) -> 45600 | T13: =IF(R13="-","-",S13*3) -> 136800
A14: 11 | B14: 진도 | C14: 의신 | D14: 돈지 | E14: 83-6 | F14: 답 | G14: 1274 | H14: 649.5 | J14: 박*식외 2인 | K14: 전라남도 진도군 의신면 돈지리 | O14: =COUNTIF(E14,E:E) -> 1 | P14: =IF(J14="국유지", "국유지", "사유지") -> 사유지 | Q14: =P14&F14 -> 사유지답 | R14: 4650 | S14: =IF(R14="-","-",H14*R14) -> 3020175 | T14: =IF(R14="-","-",S14*3) -> 9060525
A15: 12 | B15: 진도 | C15: 의신 | D15: 돈지 | E15: 1029 | F15: 천 | G15: 13048 | H15: 13048 | J15: 국유지 | K15: 국토교통부 | O15: =COUNTIF(E15,E:E) -> 1 | P15: =IF(J15="국유지", "국유지", "사유지") -> 국유지 | Q15: =P15&F15 -> 국유지천 | R15: - | S15: =IF(R15="-","-",H15*R15) -> - | T15: =IF(R15="-","-",S15*3) -> -
A16: 13 | B16: 진도 | C16: 의신 | D16: 돈지 | E16: 48 | F16: 천 | G16: 1304 | H16: 1304 | J16: 조* | K16: 서울특별시 송파구 올림픽로 43길 30,) | O16: =COUNTIF(E16,E:E) -> 1 | P16: =IF(J16="국유지", "국유지", "사유지") -> 사유지 | Q16: =P16&F16 -> 사유지천 | R16: 3150 | S16: =IF(R16="-","-",H16*R16) -> 4107600 | T16: =IF(R16="-","-",S16*3) -> 12322800
A17: 14 | B17: 진도 | C17: 의신 | D17: 돈지 | E17: 83-5 | F17: 답 | G17: 2285 | H17: 536.1 | J17: 박*심 | K17: 전라남도 진도군 의신면 돈지리 | O17: =COUNTIF(E17,E:E) -> 1 | P17: =IF(J17="국유지", "국유지", "사유지") -> 사유지 | Q17: =P17&F17 -> 사유지답 | R17: 4650 | S17: =IF(R17="-","-",H17*R17) -> 2492865 | T17: =IF(R17="-","-",S17*3) -> 7478595
A18: 15 | B18: 진도 | C18: 의신 | D18: 돈지 | E18: 111 | F18: 구 | G18: 403 | H18: 395 | J18: 국유지 | K18: 농림축산식품부 | O18: =COUNTIF(E18,E:E) -> 1 | P18: =IF(J18="국유지", "국유지", "사유지") -> 국유지 | Q18: =P18&F18 -> 국유지구 | R18: - | S18: =IF(R18="-","-",H18*R18) -> - | T18: =IF(R18="-","-",S18*3) -> -
A19: 16 | B19: 진도 | C19: 의신 | D19: 돈지 | E19: 72-1 | F19: 답 | G19: 453 | H19: 453 | J19: 이*덕 | K19: 전라남도 진도군 의신면 돈지리 | O19: =COUNTIF(E19,E:E) -> 1 | P19: =IF(J19="국유지", "국유지", "사유지") -> 사유지 | Q19: =P19&F19 -> 사유지답 | R19: 990 | S19: =IF(R19="-","-",H19*R19) -> 448470 | T19: =IF(R19="-","-",S19*3) -> 1345410
A20: 17 | B20: 진도 | C20: 의신 | D20: 돈지 | E20: 83-4 | F20: 답 | G20: 1418 | H20: 301 | J20: 박*심 | K20: 전라남도 진도군 의신면 돈지리 | O20: =COUNTIF(E20,E:E) -> 1 | P20: =IF(J20="국유지", "국유지", "사유지") -> 사유지 | Q20: =P20&F20 -> 사유지답 | R20: 4650 | S20: =IF(R20="-","-",H20*R20) -> 1399650 | T20: =IF(R20="-","-",S20*3) -> 4198950
A21: 18 | B21: 진도 | C21: 의신 | D21: 돈지 | E21: 83-3 | F21: 답 | G21: 3056 | H21: 459 | J21: 박*락 | K21: 부산시 남구 수영동 437-1 현대APT | O21: =COUNTIF(E21,E:E) -> 1 | P21: =IF(J21="국유지", "국유지", "사유지") -> 사유지 | Q21: =P21&F21 -> 사유지답 | R21: 4650 | S21: =IF(R21="-","-",H21*R21) -> 2134350 | T21: =IF(R21="-","-",S21*3) -> 6403050
A22: 19 | B22: 진도 | C22: 의신 | D22: 돈지 | E22: 83-2 | F22: 답 | G22: 2000 | H22: 115 | J22: 이*덕 | K22: 전라남도 진도군 의신면 돈지리 | O22: =COUNTIF(E22,E:E) -> 1 | P22: =IF(J22="국유지", "국유지", "사유지") -> 사유지 | Q22: =P22&F22 -> 사유지답 | R22: 4650 | S22: =IF(R22="-","-",H22*R22) -> 534750 | T22: =IF(R22="-","-",S22*3) -> 1604250
A23: 20 | B23: 진도 | C23: 의신 | D23: 돈지 | E23: 83-1 | F23: 답 | G23: 1000 | H23: 29 | J23: 조*식 | K23: 전라남도 광양시 진등6길 51, | O23: =COUNTIF(E23,E:E) -> 1 | P23: =IF(J23="국유지", "국유지", "사유지") -> 사유지 | Q23: =P23&F23 -> 사유지답 | R23: 4650 | S23: =IF(R23="-","-",H23*R23) -> 134850 | T23: =IF(R23="-","-",S23*3) -> 404550
A24: 21 | B24: 진도 | C24: 의신 | D24: 돈지 | E24: 112 | F24: 도 | G24: 176 | H24: 176 | J24: 국유지 | K24: 농림축산식품부 | O24: =COUNTIF(E24,E:E) -> 1 | P24: =IF(J24="국유지", "국유지", "사유지") -> 국유지 | Q24: =P24&F24 -> 국유지도 | R24: - | S24: =IF(R24="-","-",H24*R24) -> - | T24: =IF(R24="-","-",S24*3) -> -
A25: 22 | B25: 진도 | C25: 의신 | D25: 돈지 | E25: 84 | F25: 답 | G25: 1100 | H25: 1100 | J25: 이*덕 | K25: 전라남도 진도군 의신면 돈지리 | O25: =COUNTIF(E25,E:E) -> 1 | P25: =IF(J25="국유지", "국유지", "사유지") -> 사유지 | Q25: =P25&F25 -> 사유지답 | R25: 4650 | S25: =IF(R25="-","-",H25*R25) -> 5115000 | T25: =IF(R25="-","-",S25*3) -> 15345000
A26: 23 | B26: 진도 | C26: 의신 | D26: 돈지 | E26: 72 | F26: 답 | G26: 253 | H26: 253 | J26: 이*덕 | K26: 전라남도 진도군 의신면 돈지리 | O26: =COUNTIF(E26,E:E) -> 1 | P26: =IF(J26="국유지", "국유지", "사유지") -> 사유지 | Q26: =P26&F26 -> 사유지답 | R26: 990 | S26: =IF(R26="-","-",H26*R26) -> 250470 | T26: =IF(R26="-","-",S26*3) -> 751410
A27: 24 | B27: 진도 | C27: 의신 | D27: 돈지 | E27: 95 | F27: 구 | G27: 7161 | H27: 786 | J27: 국유지 | K27: 농림축산식품부 | O27: =COUNTIF(E27,E:E) -> 1 | P27: =IF(J27="국유지", "국유지", "사유지") -> 국유지 | Q27: =P27&F27 -> 국유지구 | R27: - | S27: =IF(R27="-","-",H27*R27) -> - | T27: =IF(R27="-","-",S27*3) -> -
A28: 25 | B28: 진도 | C28: 의신 | D28: 돈지 | E28: 1033-2 | F28: 도 | G28: 29 | H28: 29 | J28: 국유지 | K28: 국토교통부 | O28: =COUNTIF(E28,E:E) -> 1 | P28: =IF(J28="국유지", "국유지", "사유지") -> 국유지 | Q28: =P28&F28 -> 국유지도 | R28: - | S28: =IF(R28="-","-",H28*R28) -> - | T28: =IF(R28="-","-",S28*3) -> -
A29: 26 | B29: 진도 | C29: 의신 | D29: 돈지 | E29: 80-23 | F29: 답 | G29: 1474 | H29: 864 | J29: 김*덕 | K29: 전라남도 진도군 의신면 돈지리 | O29: =COUNTIF(E29,E:E) -> 1 | P29: =IF(J29="국유지", "국유지", "사유지") -> 사유지 | Q29: =P29&F29 -> 사유지답 | R29: 4800 | S29: =IF(R29="-","-",H29*R29) -> 4147200 | T29: =IF(R29="-","-",S29*3) -> 12441600
A30: 27 | B30: 진도 | C30: 의신 | D30: 돈지 | E30: 80-22 | F30: 답 | G30: 1111 | H30: 516 | J30: 김*덕 | K30: 전라남도 진도군 의신면 돈지리 | O30: =COUNTIF(E30,E:E) -> 1 | P30: =IF(J30="국유지", "국유지", "사유지") -> 사유지 | Q30: =P30&F30 -> 사유지답 | R30: 4800 | S30: =IF(R30="-","-",H30*R30) -> 2476800 | T30: =IF(R30="-","-",S30*3) -> 7430400
A31: 28 | B31: 진도 | C31: 의신 | D31: 돈지 | E31: 80-21 | F31: 답 | G31: 1846 | H31: 163 | J31: 채*일 | K31: 전라남도 진도군 의신면 만길리 | O31: =COUNTIF(E31,E:E) -> 1 | P31: =IF(J31="국유지", "국유지", "사유지") -> 사유지 | Q31: =P31&F31 -> 사유지답 | R31: 4800 | S31: =IF(R31="-","-",H31*R31) -> 782400 | T31: =IF(R31="-","-",S31*3) -> 2347200
A32: 29 | B32: 진도 | C32: 의신 | D32: 돈지 | E32: 105 | F32: 구 | G32: 1904 | H32: 286 | J32: 국유지 | K32: 농림축산식품부 | O32: =COUNTIF(E32,E:E) -> 1 | P32: =IF(J32="국유지", "국유지", "사유지") -> 국유지 | Q32: =P32&F32 -> 국유지구 | R32: - | S32: =IF(R32="-","-",H32*R32) -> - | T32: =IF(R32="-","-",S32*3) -> -
A33: 30 | B33: 진도 | C33: 의신 | D33: 돈지 | E33: 106 | F33: 제 | G33: 2788 | H33: 468 | J33: 국유지 | K33: 농림축산식품부 | O33: =COUNTIF(E33,E:E) -> 1 | P33: =IF(J33="국유지", "국유지", "사유지") -> 국유지 | Q33: =P33&F33 -> 국유지제 | R33: - | S33: =IF(R33="-","-",H33*R33) -> - | T33: =IF(R33="-","-",S33*3) -> -
A34: 31 | B34: 진도 | C34: 의신 | D34: 돈지 | E34: 107 | F34: 천 | G34: 7332 | H34: 1099 | J34: 국유지 | K34: 농림축산식품부 | O34: =COUNTIF(E34,E:E) -> 1 | P34: =IF(J34="국유지", "국유지", "사유지") -> 국유지 | Q34: =P34&F34 -> 국유지천 | R34: - | S34: =IF(R34="-","-",H34*R34) -> - | T34: =IF(R34="-","-",S34*3) -> -
A35: 32 | B35: 진도 | C35: 의신 | D35: 돈지 | E35: 50-2 | F35: 천 | G35: 1458 | H35: 608 | J35: 조*희 | K35: 전라남도 진도군 의신면 돈지리 | O35: =COUNTIF(E35,E:E) -> 1 | P35: =IF(J35="국유지", "국유지", "사유지") -> 사유지 | Q35: =P35&F35 -> 사유지천 | R35: 3150 | S35: =IF(R35="-","-",H35*R35) -> 1915200 | T35: =IF(R35="-","-",S35*3) -> 5745600
A36: 33 | B36: 진도 | C36: 의신 | D36: 돈지 | E36: 1054 | F36: 천 | G36: 1024.5 | H36: 220 | J36: 국유지 | K36: 국토교통부 | O36: =COUNTIF(E36,E:E) -> 1 | P36: =IF(J36="국유지", "국유지", "사유지") -> 국유지 | Q36: =P36&F36 -> 국유지천 | R36: - | S36: =IF(R36="-","-",H36*R36) -> - | T36: =IF(R36="-","-",S36*3) -> -
A37: 34 | B37: 진도 | C37: 의신 | D37: 돈지 | E37: 1045 | F37: 도 | G37: 2871.2 | H37: 275 | J37: 국유지 | K37: 농림축산식품부 | O37: =COUNTIF(E37,E:E) -> 1 | P37: =IF(J37="국유지", "국유지", "사유지") -> 국유지 | Q37: =P37&F37 -> 국유지도 | R37: - | S37: =IF(R37="-","-",H37*R37) -> - | T37: =IF(R37="-","-",S37*3) -> -
A38: 35 | B38: 진도 | C38: 의신 | D38: 돈지 | E38: 1046 | F38: 구 | G38: 1095.2 | H38: 78 | J38: 국유지 | K38: 농림축산식품부 | O38: =COUNTIF(E38,E:E) -> 1 | P38: =IF(J38="국유지", "국유지", "사유지") -> 국유지 | Q38: =P38&F38 -> 국유지구 | R38: - | S38: =IF(R38="-","-",H38*R38) -> - | T38: =IF(R38="-","-",S38*3) -> -
A39: 36 | B39: 진도 | C39: 의신 | D39: 돈지 | E39: 1041-7 | F39: 답 | G39: 1034.6 | H39: 408 | J39: 박*심 | K39: 전라남도 진도군 의신면 돈지2길 | O39: =COUNTIF(E39,E:E) -> 1 | P39: =IF(J39="국유지", "국유지", "사유지") -> 사유지 | Q39: =P39&F39 -> 사유지답 | R39: 4040 | S39: =IF(R39="-","-",H39*R39) -> 1648320 | T39: =IF(R39="-","-",S39*3) -> 4944960
A40: 37 | B40: 진도 | C40: 의신 | D40: 돈지 | E40: 1048-2 | F40: 구 | G40: 3773.5 | H40: 427 | J40: 국유지 | K40: 농림축산식품부 | O40: =COUNTIF(E40,E:E) -> 1 | P40: =IF(J40="국유지", "국유지", "사유지") -> 국유지 | Q40: =P40&F40 -> 국유지구 | R40: - | S40: =IF(R40="-","-",H40*R40) -> - | T40: =IF(R40="-","-",S40*3) -> -
...

Sheet 편입용지집계표(상류)
A1: 편 입 면 적 집 계 표 (돈 지 지 구)
A3: 의신천 하천재해예방사업 실시설계
A4: 지목별 | C4: 계 | D4: 전 | E4: 답 | F4: 임야 | G4: 대지 | H4: 도로 | I4: 하천 | J4: 구 거 | K4: 묘 | L4: 제방 | M4: 유지 | N4: 종교 | O4: 공유 수면 | P4: 잡종지 | Q4: 철 도 용 지 | R4: 창 고 | S4: 공장 | T4: 비고
A5: 소유자별
A6: 국유지 | B6: 필지 | C6: =SUM(D6:S6) -> 55 | D6: =COUNTIF('편입용지조서(상류)'!$Q:$Q,CONCATENATE('편입용지집계표(상류)'!$A6,LEFT('편입용지집계표(상류)'!D$4,1))) -> 0 | E6: =COUNTIF('편입용지조서(상류)'!$Q:$Q,CONCATENATE('편입용지집계표(상류)'!$A6,LEFT('편입용지집계표(상류)'!E$4,1))) -> 3 | F6: =COUNTIF('편입용지조서(상류)'!$Q:$Q,CONCATENATE('편입용지집계표(상류)'!$A6,LEFT('편입용지집계표(상류)'!F$4,1))) -> 0 | G6: =COUNTIF('편입용지조서(상류)'!$Q:$Q,CONCATENATE('편입용지집계표(상류)'!$A6,LEFT('편입용지집계표(상류)'!G$4,1))) -> 0 | H6: =COUNTIF('편입용지조서(상류)'!$Q:$Q,CONCATENATE('편입용지집계표(상류)'!$A6,LEFT('편입용지집계표(상류)'!H$4,1))) -> 11 | I6: =COUNTIF('편입용지조서(상류)'!$Q:$Q,CONCATENATE('편입용지집계표(상류)'!$A6,RIGHT('편입용지집계표(상류)'!I$4,1))) -> 19 | J6: =COUNTIF('편입용지조서(상류)'!$Q:$Q,CONCATENATE('편입용지집계표(상류)'!$A6,LEFT('편입용지집계표(상류)'!J$4,1))) -> 16 | K6: =COUNTIF('편입용지조서(상류)'!$Q:$Q,CONCATENATE('편입용지집계표(상류)'!$A6,LEFT('편입용지집계표(상류)'!K$4,1))) -> 0 | L6: =COUNTIF('편입용지조서(상류)'!$Q:$Q,CONCATENATE('편입용지집계표(상류)'!$A6,LEFT('편입용지집계표(상류)'!L$4,1))) -> 6 | M6: =COUNTIF('편입용지조서(상류)'!$Q:$Q,CONCATENATE('편입용지집계표(상류)'!$A6,LEFT('편입용지집계표(상류)'!M$4,1))) -> 0 | N6: =COUNTIF('편입용지조서(상류)'!$Q:$Q,CONCATENATE('편입용지집계표(상류)'!$A6,LEFT('편입용지집계표(상류)'!N$4,1))) -> 0 | O6: =COUNTIF('편입용지조서(상류)'!$Q:$Q,CONCATENATE('편입용지집계표(상류)'!$A6,LEFT('편입용지집계표(상류)'!O$4,1))) -> 0 | P6: =COUNTIF('편입용지조서(상류)'!$Q:$Q,CONCATENATE('편입용지집계표(상류)'!$A6,LEFT('편입용지집계표(상류)'!P$4,1))) -> 0 | Q6: =COUNTIF('편입용지조서(상류)'!$Q:$Q,CONCATENATE('편입용지집계표(상류)'!$A6,LEFT('편입용지집계표(상류)'!Q$4,1))) -> 0 | R6: =COUNTIF('편입용지조서(상류)'!$Q:$Q,CONCATENATE('편입용지집계표(상류)'!$A6,LEFT('편입용지집계표(상류)'!R$4,1))) -> 0 | S6: 0
B7: 면적 | C7: =SUM(D7:S7) -> 65961 | D7: =SUMIF('편입용지조서(상류)'!$Q:$Q,CONCATENATE('편입용지집계표(상류)'!$A6,LEFT('편입용지집계표(상류)'!D$4,1)),'편입용지조서(상류)'!$H:$H) -> 0 | E7: =SUMIF('편입용지조서(상류)'!$Q:$Q,CONCATENATE('편입용지집계표(상류)'!$A6,LEFT('편입용지집계표(상류)'!E$4,1)),'편입용지조서(상류)'!$H:$H) -> 2182 | F7: =SUMIF('편입용지조서(상류)'!$Q:$Q,CONCATENATE('편입용지집계표(상류)'!$A6,LEFT('편입용지집계표(상류)'!F$4,1)),'편입용지조서(상류)'!$H:$H) -> 0 | G7: =SUMIF('편입용지조서(상류)'!$Q:$Q,CONCATENATE('편입용지집계표(상류)'!$A6,LEFT('편입용지집계표(상류)'!G$4,1)),'편입용지조서(상류)'!$H:$H) -> 0 | H7: =SUMIF('편입용지조서(상류)'!$Q:$Q,CONCATENATE('편입용지집계표(상류)'!$A6,LEFT('편입용지집계표(상류)'!H$4,1)),'편입용지조서(상류)'!$H:$H) -> 3813 | I7: =SUMIF('편입용지조서(상류)'!$Q:$Q,CONCATENATE('편입용지집계표(상류)'!$A6,RIGHT('편입용지집계표(상류)'!I$4,1)),'편입용지조서(상류)'!$H:$H) -> 49674 | J7: =SUMIF('편입용지조서(상류)'!$Q:$Q,CONCATENATE('편입용지집계표(상류)'!$A6,LEFT('편입용지집계표(상류)'!J$4,1)),'편입용지조서(상류)'!$H:$H) -> 5047 | K7: =SUMIF('편입용지조서(상류)'!$Q:$Q,CONCATENATE('편입용지집계표(상류)'!$A6,LEFT('편입용지집계표(상류)'!K$4,1)),'편입용지조서(상류)'!$H:$H) -> 0 | L7: =SUMIF('편입용지조서(상류)'!$Q:$Q,CONCATENATE('편입용지집계표(상류)'!$A6,LEFT('편입용지집계표(상류)'!L$4,1)),'편입용지조서(상류)'!$H:$H) -> 5245 | M7: =SUMIF('편입용지조서(상류)'!$Q:$Q,CONCATENATE('편입용지집계표(상류)'!$A6,LEFT('편입용지집계표(상류)'!M$4,1)),'편입용지조서(상류)'!$H:$H) -> 0 | N7: =SUMIF('편입용지조서(상류)'!$Q:$Q,CONCATENATE('편입용지집계표(상류)'!$A6,LEFT('편입용지집계표(상류)'!N$4,1)),'편입용지조서(상류)'!$H:$H) -> 0 | O7: =SUMIF('편입용지조서(상류)'!$Q:$Q,CONCATENATE('편입용지집계표(상류)'!$A6,LEFT('편입용지집계표(상류)'!O$4,1)),'편입용지조서(상류)'!$H:$H) -> 0 | P7: =SUMIF('편입용지조서(상류)'!$Q:$Q,CONCATENATE('편입용지집계표(상류)'!$A6,LEFT('편입용지집계표(상류)'!P$4,1)),'편입용지조서(상류)'!$H:$H) -> 0 | Q7: =SUMIF('편입용지조서(상류)'!$Q:$Q,CONCATENATE('편입용지집계표(상류)'!$A6,LEFT('편입용지집계표(상류)'!Q$4,1)),'편입용지조서(상류)'!$H:$H) -> 0 | R7: =SUMIF('편입용지조서(상류)'!$Q:$Q,CONCATENATE('편입용지집계표(상류)'!$A6,LEFT('편입용지집계표(상류)'!R$4,1)),'편입용지조서(상류)'!$H:$H) -> 0 | S7: 0
A8: 사유지 | B8: 필지 | C8: =SUM(D8:S8) -> 96 | D8: =COUNTIF('편입용지조서(상류)'!$Q:$Q,CONCATENATE('편입용지집계표(상류)'!$A8,LEFT('편입용지집계표(상류)'!D$4,1))) -> 0 | E8: =COUNTIF('편입용지조서(상류)'!$Q:$Q,CONCATENATE('편입용지집계표(상류)'!$A8,LEFT('편입용지집계표(상류)'!E$4,1))) -> 83 | F8: =COUNTIF('편입용지조서(상류)'!$Q:$Q,CONCATENATE('편입용지집계표(상류)'!$A8,LEFT('편입용지집계표(상류)'!F$4,1))) -> 2 | G8: =COUNTIF('편입용지조서(상류)'!$Q:$Q,CONCATENATE('편입용지집계표(상류)'!$A8,LEFT('편입용지집계표(상류)'!G$4,1))) -> 0 | H8: =COUNTIF('편입용지조서(상류)'!$Q:$Q,CONCATENATE('편입용지집계표(상류)'!$A8,LEFT('편입용지집계표(상류)'!H$4,1))) -> 0 | I8: =COUNTIF('편입용지조서(상류)'!$Q:$Q,CONCATENATE('편입용지집계표(상류)'!$A8,RIGHT('편입용지집계표(상류)'!I$4,1))) -> 11 | J8: =COUNTIF('편입용지조서(상류)'!$Q:$Q,CONCATENATE('편입용지집계표(상류)'!$A8,LEFT('편입용지집계표(상류)'!J$4,1))) -> 0 | K8: 0 | L8: =COUNTIF('편입용지조서(상류)'!$Q:$Q,CONCATENATE('편입용지집계표(상류)'!$A8,LEFT('편입용지집계표(상류)'!L$4,1))) -> 0 | M8: =COUNTIF('편입용지조서(상류)'!$Q:$Q,CONCATENATE('편입용지집계표(상류)'!$A8,LEFT('편입용지집계표(상류)'!M$4,1))) -> 0 | N8: =COUNTIF('편입용지조서(상류)'!$Q:$Q,CONCATENATE('편입용지집계표(상류)'!$A8,LEFT('편입용지집계표(상류)'!N$4,1))) -> 0 | O8: =COUNTIF('편입용지조서(상류)'!$Q:$Q,CONCATENATE('편입용지집계표(상류)'!$A8,LEFT('편입용지집계표(상류)'!O$4,1))) -> 0 | P8: =COUNTIF('편입용지조서(상류)'!$Q:$Q,CONCATENATE('편입용지집계표(상류)'!$A8,LEFT('편입용지집계표(상류)'!P$4,1))) -> 0 | Q8: =COUNTIF('편입용지조서(상류)'!$Q:$Q,CONCATENATE('편입용지집계표(상류)'!$A8,LEFT('편입용지집계표(상류)'!Q$4,1))) -> 0 | R8: =COUNTIF('편입용지조서(상류)'!$Q:$Q,CONCATENATE('편입용지집계표(상류)'!$A8,LEFT('편입용지집계표(상류)'!R$4,1))) -> 0 | S8: 0
B9: 면적 | C9: =SUM(D9:S9) -> 69304 | D9: =SUMIF('편입용지조서(상류)'!$Q:$Q,CONCATENATE('편입용지집계표(상류)'!$A8,LEFT('편입용지집계표(상류)'!D$4,1)),'편입용지조서(상류)'!$H:$H) -> 0 | E9: =SUMIF('편입용지조서(상류)'!$Q:$Q,CONCATENATE('편입용지집계표(상류)'!$A8,LEFT('편입용지집계표(상류)'!E$4,1)),'편입용지조서(상류)'!$H:$H) -> 53027 | F9: =SUMIF('편입용지조서(상류)'!$Q:$Q,CONCATENATE('편입용지집계표(상류)'!$A8,LEFT('편입용지집계표(상류)'!F$4,1)),'편입용지조서(상류)'!$H:$H) -> 627 | G9: =SUMIF('편입용지조서(상류)'!$Q:$Q,CONCATENATE('편입용지집계표(상류)'!$A8,LEFT('편입용지집계표(상류)'!G$4,1)),'편입용지조서(상류)'!$H:$H) -> 0 | H9: =SUMIF('편입용지조서(상류)'!$Q:$Q,CONCATENATE('편입용지집계표(상류)'!$A8,LEFT('편입용지집계표(상류)'!H$4,1)),'편입용지조서(상류)'!$H:$H) -> 0 | I9: =SUMIF('편입용지조서(상류)'!$Q:$Q,CONCATENATE('편입용지집계표(상류)'!$A8,RIGHT('편입용지집계표(상류)'!I$4,1)),'편입용지조서(상류)'!$H:$H) -> 15650 | J9: =SUMIF('편입용지조서(상류)'!$Q:$Q,CONCATENATE('편입용지집계표(상류)'!$A8,LEFT('편입용지집계표(상류)'!J$4,1)),'편입용지조서(상류)'!$H:$H) -> 0 | K9: =SUMIF('편입용지조서(상류)'!$Q:$Q,CONCATENATE('편입용지집계표(상류)'!$A8,LEFT('편입용지집계표(상류)'!K$4,1)),'편입용지조서(상류)'!$H:$H) -> 0 | L9: =SUMIF('편입용지조서(상류)'!$Q:$Q,CONCATENATE('편입용지집계표(상류)'!$A8,LEFT('편입용지집계표(상류)'!L$4,1)),'편입용지조서(상류)'!$H:$H) -> 0 | M9: =SUMIF('편입용지조서(상류)'!$Q:$Q,CONCATENATE('편입용지집계표(상류)'!$A8,LEFT('편입용지집계표(상류)'!M$4,1)),'편입용지조서(상류)'!$H:$H) -> 0 | N9: =SUMIF('편입용지조서(상류)'!$Q:$Q,CONCATENATE('편입용지집계표(상류)'!$A8,LEFT('편입용지집계표(상류)'!N$4,1)),'편입용지조서(상류)'!$H:$H) -> 0 | O9: =SUMIF('편입용지조서(상류)'!$Q:$Q,CONCATENATE('편입용지집계표(상류)'!$A8,LEFT('편입용지집계표(상류)'!O$4,1)),'편입용지조서(상류)'!$H:$H) -> 0 | P9: =SUMIF('편입용지조서(상류)'!$Q:$Q,CONCATENATE('편입용지집계표(상류)'!$A8,LEFT('편입용지집계표(상류)'!P$4,1)),'편입용지조서(상류)'!$H:$H) -> 0 | Q9: =SUMIF('편입용지조서(상류)'!$Q:$Q,CONCATENATE('편입용지집계표(상류)'!$A8,LEFT('편입용지집계표(상류)'!Q$4,1)),'편입용지조서(상류)'!$H:$H) -> 0 | R9: =SUMIF('편입용지조서(상류)'!$Q:$Q,CONCATENATE('편입용지집계표(상류)'!$A8,LEFT('편입용지집계표(상류)'!R$4,1)),'편입용지조서(상류)'!$H:$H) -> 0 | S9: 0
A10: 총 계 | B10: 필지 | C10: =C6+C8 -> 151 | D10: =D6+D8 -> 0 | E10: =E6+E8 -> 86 | F10: =F6+F8 -> 2 | G10: =G6+G8 -> 0 | H10: =H6+H8 -> 11 | I10: =I6+I8 -> 30 | J10: =J6+J8 -> 16 | ... S10: =S6+S8 -> 0
B11: 면적 | C11: =C7+C9 -> 135265 | D11: =D7+D9 -> 0 | E11: =E7+E9 -> 55209 | F11: =F7+F9 -> 627 | G11: =G7+G9 -> 0 | H11: =H7+H9 -> 3813 | I11: =I7+I9 -> 65324 | J11: =J7+J9 -> 5047 | ... S11: =S7+S9 -> 0
A12: 포 락 면 적 집 계 표 (돈 지 지 구)
A14: =A3 -> 의신천 하천재해예방사업 실시설계
A15: 지목별 | C15: 계 | D15: 전 | E15: 답 | F15: 임야 | G15: 대지 | H15: 도로 | I15: 하천 | J15: 구 거 | K15: 묘 | L15: 제방 | M15: 유지 | N15: 종교 | O15: 공유 수면 | P15: 잡종지 | Q15: 철 도 용 지 | R15: 창 고 | S15: 공장 | T15: 비고
A16: 소유자별
A17: 국유지 | B17: 필지 | C17: =SUM(D17:S17) -> 55 | D17: =COUNTIF('편입용지조서(상류)'!$Q:$Q,CONCATENATE('편입용지집계표(상류)'!$A17,LEFT('편입용지집계표(상류)'!D$4,1))) -> 0 | E17: =COUNTIF('편입용지조서(상류)'!$Q:$Q,CONCATENATE('편입용지집계표(상류)'!$A17,LEFT('편입용지집계표(상류)'!E$4,1))) -> 3 | F17: =COUNTIF('편입용지조서(상류)'!$Q:$Q,CONCATENATE('편입용지집계표(상류)'!$A17,LEFT('편입용지집계표(상류)'!F$4,1))) -> 0 | G17: =COUNTIF('편입용지조서(상류)'!$Q:$Q,CONCATENATE('편입용지집계표(상류)'!$A17,LEFT('편입용지집계표(상류)'!G$4,1))) -> 0 | H17: =COUNTIF('편입용지조서(상류)'!$Q:$Q,CONCATENATE('편입용지집계표(상류)'!$A17,LEFT('편입용지집계표(상류)'!H$4,1))) -> 11 | I17: =COUNTIF('편입용지조서(상류)'!$Q:$Q,CONCATENATE('편입용지집계표(상류)'!$A17,RIGHT('편입용지집계표(상류)'!I$4,1))) -> 19 | J17: =COUNTIF('편입용지조서(상류)'!$Q:$Q,CONCATENATE('편입용지집계표(상류)'!$A17,LEFT('편입용지집계표(상류)'!J$4,1))) -> 16 | K17: =COUNTIF('편입용지조서(상류)'!$Q:$Q,CONCATENATE('편입용지집계표(상류)'!$A17,LEFT('편입용지집계표(상류)'!K$4,1))) -> 0 | L17: =COUNTIF('편입용지조서(상류)'!$Q:$Q,CONCATENATE('편입용지집계표(상류)'!$A17,LEFT('편입용지집계표(상류)'!L$4,1))) -> 6 | M17: =COUNTIF('편입용지조서(상류)'!$Q:$Q,CONCATENATE('편입용지집계표(상류)'!$A17,LEFT('편입용지집계표(상류)'!M$4,1))) -> 0 | N17: =COUNTIF('편입용지조서(상류)'!$Q:$Q,CONCATENATE('편입용지집계표(상류)'!$A17,LEFT('편입용지집계표(상류)'!N$4,1))) -> 0 | O17: =COUNTIF('편입용지조서(상류)'!$Q:$Q,CONCATENATE('편입용지집계표(상류)'!$A17,LEFT('편입용지집계표(상류)'!O$4,1))) -> 0 | P17: =COUNTIF('편입용지조서(상류)'!$Q:$Q,CONCATENATE('편입용지집계표(상류)'!$A17,LEFT('편입용지집계표(상류)'!P$4,1))) -> 0 | Q17: =COUNTIF('편입용지조서(상류)'!$Q:$Q,CONCATENATE('편입용지집계표(상류)'!$A17,LEFT('편입용지집계표(상류)'!Q$4,1))) -> 0 | R17: =COUNTIF('편입용지조서(상류)'!$Q:$Q,CONCATENATE('편입용지집계표(상류)'!$A17,LEFT('편입용지집계표(상류)'!R$4,1))) -> 0 | S17: 0
B18: 면적 | C18: =SUM(D18:S18) -> 117986.3 | D18: =SUMIF('편입용지조서(상류)'!$Q:$Q,CONCATENATE('편입용지집계표(상류)'!$A17,LEFT('편입용지집계표(상류)'!D$4,1)),'편입용지조서(상류)'!$G:$G) -> 0 | E18: =SUMIF('편입용지조서(상류)'!$Q:$Q,CONCATENATE('편입용지집계표(상류)'!$A17,LEFT('편입용지집계표(상류)'!E$4,1)),'편입용지조서(상류)'!$G:$G) -> 2679 | F18: =SUMIF('편입용지조서(상류)'!$Q:$Q,CONCATENATE('편입용지집계표(상류)'!$A17,LEFT('편입용지집계표(상류)'!F$4,1)),'편입용지조서(상류)'!$G:$G) -> 0 | G18: =SUMIF('편입용지조서(상류)'!$Q:$Q,CONCATENATE('편입용지집계표(상류)'!$A17,LEFT('편입용지집계표(상류)'!G$4,1)),'편입용지조서(상류)'!$G:$G) -> 0 | H18: =SUMIF('편입용지조서(상류)'!$Q:$Q,CONCATENATE('편입용지집계표(상류)'!$A17,LEFT('편입용지집계표(상류)'!H$4,1)),'편입용지조서(상류)'!$G:$G) -> 11000.3 | I18: =SUMIF('편입용지조서(상류)'!$Q:$Q,CONCATENATE('편입용지집계표(상류)'!$A17,RIGHT('편입용지집계표(상류)'!I$4,1)),'편입용지조서(상류)'!$G:$G) -> 58697 | J18: =SUMIF('편입용지조서(상류)'!$Q:$Q,CONCATENATE('편입용지집계표(상류)'!$A17,LEFT('편입용지집계표(상류)'!J$4,1)),'편입용지조서(상류)'!$G:$G) -> 34637 | K18: =SUMIF('편입용지조서(상류)'!$Q:$Q,CONCATENATE('편입용지집계표(상류)'!$A17,LEFT('편입용지집계표(상류)'!K$4,1)),'편입용지조서(상류)'!$G:$G) -> 0 | L18: =SUMIF('편입용지조서(상류)'!$Q:$Q,CONCATENATE('편입용지집계표(상류)'!$A17,LEFT('편입용지집계표(상류)'!L$4,1)),'편입용지조서(상류)'!$G:$G) -> 10973 | M18: =SUMIF('편입용지조서(상류)'!$Q:$Q,CONCATENATE('편입용지집계표(상류)'!$A17,LEFT('편입용지집계표(상류)'!M$4,1)),'편입용지조서(상류)'!$G:$G) -> 0 | N18: =SUMIF('편입용지조서(상류)'!$Q:$Q,CONCATENATE('편입용지집계표(상류)'!$A17,LEFT('편입용지집계표(상류)'!N$4,1)),'편입용지조서(상류)'!$G:$G) -> 0 | O18: =SUMIF('편입용지조서(상류)'!$Q:$Q,CONCATENATE('편입용지집계표(상류)'!$A17,LEFT('편입용지집계표(상류)'!O$4,1)),'편입용지조서(상류)'!$G:$G) -> 0 | P18: =SUMIF('편입용지조서(상류)'!$Q:$Q,CONCATENATE('편입용지집계표(상류)'!$A17,LEFT('편입용지집계표(상류)'!P$4,1)),'편입용지조서(상류)'!$G:$G) -> 0 | Q18: =SUMIF('편입용지조서(상류)'!$Q:$Q,CONCATENATE('편입용지집계표(상류)'!$A17,LEFT('편입용지집계표(상류)'!Q$4,1)),'편입용지조서(상류)'!$G:$G) -> 0 | R18: =SUMIF('편입용지조서(상류)'!$Q:$Q,CONCATENATE('편입용지집계표(상류)'!$A17,LEFT('편입용지집계표(상류)'!R$4,1)),'편입용지조서(상류)'!$G:$G) -> 0 | S18: 0
A19: 사유지 | B19: 필지 | C19: =SUM(D19:S19) -> 96 | D19: =COUNTIF('편입용지조서(상류)'!$Q:$Q,CONCATENATE('편입용지집계표(상류)'!$A19,LEFT('편입용지집계표(상류)'!D$4,1))) -> 0 | E19: =COUNTIF('편입용지조서(상류)'!$Q:$Q,CONCATENATE('편입용지집계표(상류)'!$A19,LEFT('편입용지집계표(상류)'!E$4,1))) -> 83 | F19: =COUNTIF('편입용지조서(상류)'!$Q:$Q,CONCATENATE('편입용지집계표(상류)'!$A19,LEFT('편입용지집계표(상류)'!F$4,1))) -> 2 | G19: =COUNTIF('편입용지조서(상류)'!$Q:$Q,CONCATENATE('편입용지집계표(상류)'!$A19,LEFT('편입용지집계표(상류)'!G$4,1))) -> 0 | H19: =COUNTIF('편입용지조서(상류)'!$Q:$Q,CONCATENATE('편입용지집계표(상류)'!$A19,LEFT('편입용지집계표(상류)'!H$4,1))) -> 0 | I19: =COUNTIF('편입용지조서(상류)'!$Q:$Q,CONCATENATE('편입용지집계표(상류)'!$A19,RIGHT('편입용지집계표(상류)'!I$4,1))) -> 11 | J19: =COUNTIF('편입용지조서(상류)'!$Q:$Q,CONCATENATE('편입용지집계표(상류)'!$A19,LEFT('편입용지집계표(상류)'!J$4,1))) -> 0 | K19: 국.공유지 | L19: =COUNTIF('편입용지조서(상류)'!$Q:$Q,CONCATENATE('편입용지집계표(상류)'!$A19,LEFT('편입용지집계표(상류)'!L$4,1))) -> 0 | M19: =COUNTIF('편입용지조서(상류)'!$Q:$Q,CONCATENATE('편입용지집계표(상류)'!$A19,LEFT('편입용지집계표(상류)'!M$4,1))) -> 0 | N19: =COUNTIF('편입용지조서(상류)'!$Q:$Q,CONCATENATE('편입용지집계표(상류)'!$A19,LEFT('편입용지집계표(상류)'!N$4,1))) -> 0 | O19: =COUNTIF('편입용지조서(상류)'!$Q:$Q,CONCATENATE('편입용지집계표(상류)'!$A19,LEFT('편입용지집계표(상류)'!O$4,1))) -> 0 | P19: =COUNTIF('편입용지조서(상류)'!$Q:$Q,CONCATENATE('편입용지집계표(상류)'!$A19,LEFT('편입용지집계표(상류)'!P$4,1))) -> 0 | Q19: =COUNTIF('편입용지조서(상류)'!$Q:$Q,CONCATENATE('편입용지집계표(상류)'!$A19,LEFT('편입용지집계표(상류)'!Q$4,1))) -> 0 | R19: =COUNTIF('편입용지조서(상류)'!$Q:$Q,CONCATENATE('편입용지집계표(상류)'!$A19,LEFT('편입용지집계표(상류)'!R$4,1))) -> 0 | S19: 0
B20: 면적 | C20: =SUM(D20:S20) -> 204512.7 | D20: =SUMIF('편입용지조서(상류)'!$Q:$Q,CONCATENATE('편입용지집계표(상류)'!$A19,LEFT('편입용지집계표(상류)'!D$4,1)),'편입용지조서(상류)'!$G:$G) -> 0 | E20: =SUMIF('편입용지조서(상류)'!$Q:$Q,CONCATENATE('편입용지집계표(상류)'!$A19,LEFT('편입용지집계표(상류)'!E$4,1)),'편입용지조서(상류)'!$G:$G) -> 143983.7 | F20: =SUMIF('편입용지조서(상류)'!$Q:$Q,CONCATENATE('편입용지집계표(상류)'!$A19,LEFT('편입용지집계표(상류)'!F$4,1)),'편입용지조서(상류)'!$G:$G) -> 15163 | G20: =SUMIF('편입용지조서(상류)'!$Q:$Q,CONCATENATE('편입용지집계표(상류)'!$A19,LEFT('편입용지집계표(상류)'!G$4,1)),'편입용지조서(상류)'!$G:$G) -> 0 | H20: =SUMIF('편입용지조서(상류)'!$Q:$Q,CONCATENATE('편입용지집계표(상류)'!$A19,LEFT('편입용지집계표(상류)'!H$4,1)),'편입용지조서(상류)'!$G:$G) -> 0 | I20: =SUMIF('편입용지조서(상류)'!$Q:$Q,CONCATENATE('편입용지집계표(상류)'!$A19,RIGHT('편입용지집계표(상류)'!I$4,1)),'편입용지조서(상류)'!$G:$G) -> 45366 | J20: =SUMIF('편입용지조서(상류)'!$Q:$Q,CONCATENATE('편입용지집계표(상류)'!$A19,LEFT('편입용지집계표(상류)'!J$4,1)),'편입용지조서(상류)'!$G:$G) -> 0 | K20: =SUMIF('편입용지조서(상류)'!$Q:$Q,CONCATENATE('편입용지집계표(상류)'!$A19,LEFT('편입용지집계표(상류)'!K$4,1)),'편입용지조서(상류)'!$G:$G) -> 0 | L20: =SUMIF('편입용지조서(상류)'!$Q:$Q,CONCATENATE('편입용지집계표(상류)'!$A19,LEFT('편입용지집계표(상류)'!L$4,1)),'편입용지조서(상류)'!$G:$G) -> 0 | M20: =SUMIF('편입용지조서(상류)'!$Q:$Q,CONCATENATE('편입용지집계표(상류)'!$A19,LEFT('편입용지집계표(상류)'!M$4,1)),'편입용지조서(상류)'!$G:$G) -> 0 | N20: =SUMIF('편입용지조서(상류)'!$Q:$Q,CONCATENATE('편입용지집계표(상류)'!$A19,LEFT('편입용지집계표(상류)'!N$4,1)),'편입용지조서(상류)'!$G:$G) -> 0 | O20: =SUMIF('편입용지조서(상류)'!$Q:$Q,CONCATENATE('편입용지집계표(상류)'!$A19,LEFT('편입용지집계표(상류)'!O$4,1)),'편입용지조서(상류)'!$G:$G) -> 0 | P20: =SUMIF('편입용지조서(상류)'!$Q:$Q,CONCATENATE('편입용지집계표(상류)'!$A19,LEFT('편입용지집계표(상류)'!P$4,1)),'편입용지조서(상류)'!$G:$G) -> 0 | Q20: =SUMIF('편입용지조서(상류)'!$Q:$Q,CONCATENATE('편입용지집계표(상류)'!$A19,LEFT('편입용지집계표(상류)'!Q$4,1)),'편입용지조서(상류)'!$G:$G) -> 0 | R20: =SUMIF('편입용지조서(상류)'!$Q:$Q,CONCATENATE('편입용지집계표(상류)'!$A19,LEFT('편입용지집계표(상류)'!R$4,1)),'편입용지조서(상류)'!$G:$G) -> 0 | S20: 0
A21: 총 계 | B21: 필지 | C21: =C17+C19 -> 151 | D21: =D17+D19 -> 0 | E21: =E17+E19 -> 86 | F21: =F17+F19 -> 2 | G21: =G17+G19 -> 0 | H21: =H17+H19 -> 11 | I21: =I17+I19 -> 30 | J21: =J17+J19 -> 16 | ... S21: =S17+S19 -> 0
B22: 면적 | C22: =C18+C20 -> 322499 | D22: =D18+D20 -> 0 | E22: =E18+E20 -> 146662.7 | F22: =F18+F20 -> 15163 | G22: =G18+G20 -> 0 | H22: =H18+H20 -> 11000.3 | I22: =I18+I20 -> 104063 | J22: =J18+J20 -> 34637 | ... S22: =S18+S20 -> 0

Sheet 편입용지조서(상류)
A1: 편 입 용 지 조 서 (돈 지 지 구) | R1: 공시지가 | S1: 보상금액 | T1: 조정액(3배)
A2: 토 지 소 재 지 | F2: 지목 | G2: 지 적 | H2: 편입지적 | I2: 실제 이용 현황 | J2: 소 유 자 (토 지 대 장) | L2: 관 계 인 (등 기 부 등 본) | N2: 비 고 | O2: 필지수 | P2: 소유구분
A3: 번호 | B3: 군 | C3: 면 | D3: 리 | E3: 지 번 | G3: (㎡) | H3: (㎡) | J3: 성 명 | K3: 주 소 | L3: 성 명 | M3: 주 소
A4: 1 | B4: 진도 | C4: 의신 | D4: 돈지 | E4: 82-16 | F4: 답 | G4: 877 | H4: 41 | J4: 이부안 | K4: 전라남도 진도군 의신면 돈지리 592번지 | O4: =COUNTIF(E4,E:E) -> 1 | P4: =IF(J4="국유지", "국유지", "사유지") -> 사유지 | Q4: =P4&F4 -> 사유지답 | R4: 4900 | S4: =IF(R4="-","-",H4*R4) -> 200900 | T4: =IF(R4="-","-",S4*3) -> 602700
A5: 2 | B5: 진도 | C5: 의신 | D5: 돈지 | E5: 53-2 | F5: 천 | G5: 258 | H5: 157 | J5: 임향 | K5: 전라남도 진도군 의신면 돈지리 648번지 | O5: =COUNTIF(E5,E:E) -> 1 | P5: =IF(J5="국유지", "국유지", "사유지") -> 사유지 | Q5: =P5&F5 -> 사유지천 | R5: 3150 | S5: =IF(R5="-","-",H5*R5) -> 494550 | T5: =IF(R5="-","-",S5*3) -> 1483650
A6: 3 | B6: 진도 | C6: 의신 | D6: 돈지 | E6: 82-15 | F6: 답 | G6: 1986 | H6: 325 | J6: 이부안 | K6: 전라남도 진도군 의신면 돈지리 592번지 | O6: =COUNTIF(E6,E:E) -> 1 | P6: =IF(J6="국유지", "국유지", "사유지") -> 사유지 | Q6: =P6&F6 -> 사유지답 | R6: 4800 | S6: =IF(R6="-","-",H6*R6) -> 1560000 | T6: =IF(R6="-","-",S6*3) -> 4680000
A7: 4 | B7: 진도 | C7: 의신 | D7: 돈지 | E7: 100 | F7: 구 | G7: 1967 | H7: 389 | J7: 국유지 | K7: 농림축산식품부 | O7: =COUNTIF(E7,E:E) -> 1 | P7: =IF(J7="국유지", "국유지", "사유지") -> 국유지 | Q7: =P7&F7 -> 국유지구 | R7: - | S7: =IF(R7="-","-",H7*R7) -> - | T7: =IF(R7="-","-",S7*3) -> -
A8: 5 | B8: 진도 | C8: 의신 | D8: 돈지 | E8: 82-14 | F8: 답 | G8: 912 | H8: 195 | J8: 박기본 | K8: 전라남도 진도군 의신면 돈지리 793번지 | O8: =COUNTIF(E8,E:E) -> 1 | P8: =IF(J8="국유지", "국유지", "사유지") -> 사유지 | Q8: =P8&F8 -> 사유지답 | R8: 4800 | S8: =IF(R8="-","-",H8*R8) -> 936000 | T8: =IF(R8="-","-",S8*3) -> 2808000
A9: 6 | B9: 진도 | C9: 의신 | D9: 돈지 | E9: 52-2 | F9: 천 | G9: 631 | H9: 640 | J9: 박호환 | K9: 전라남도 진도군 의신면 돈지리 141번지 | O9: =COUNTIF(E9,E:E) -> 1 | P9: =IF(J9="국유지", "국유지", "사유지") -> 사유지 | Q9: =P9&F9 -> 사유지천 | R9: 3150 | S9: =IF(R9="-","-",H9*R9) -> 2016000 | T9: =IF(R9="-","-",S9*3) -> 6048000
A10: 7 | B10: 진도 | C10: 의신 | D10: 돈지 | E10: 82-13 | F10: 답 | G10: 1155 | H10: 226 | J10: 박기본 | K10: 전라남도 진도군 의신면 돈지리 793번지 | O10: =COUNTIF(E10,E:E) -> 1 | P10: =IF(J10="국유지", "국유지", "사유지") -> 사유지 | Q10: =P10&F10 -> 사유지답 | R10: 4800 | S10: =IF(R10="-","-",H10*R10) -> 1084800 | T10: =IF(R10="-","-",S10*3) -> 3254400
A11: 8 | B11: 진도 | C11: 의신 | D11: 돈지 | E11: 82-12 | F11: 답 | G11: 2587 | H11: 263 | J11: 이병원 | K11: 전라남도 진도군 의신면 돈지리 304번지 | O11: =COUNTIF(E11,E:E) -> 1 | P11: =IF(J11="국유지", "국유지", "사유지") -> 사유지 | Q11: =P11&F11 -> 사유지답 | R11: 4800 | S11: =IF(R11="-","-",H11*R11) -> 1262400 | T11: =IF(R11="-","-",S11*3) -> 3787200
A12: 9 | B12: 진도 | C12: 의신 | D12: 돈지 | E12: 82-11 | F12: 답 | G12: 905 | H12: 38 | J12: 조정희외 2인 | K12: 전라남도 진도군 의신면 돈지리 332번지 | O12: =COUNTIF(E12,E:E) -> 1 | P12: =IF(J12="국유지", "국유지", "사유지") -> 사유지 | Q12: =P12&F12 -> 사유지답 | R12: 4800 | S12: =IF(R12="-","-",H12*R12) -> 182400 | T12: =IF(R12="-","-",S12*3) -> 547200
A13: 10 | B13: 진도 | C13: 의신 | D13: 돈지 | E13: 82-10 | F13: 답 | G13: 1990 | H13: 14 | J13: 박치언외 3인 | K13: 전라남도 진도군 의신면 돈지리 804번지 | O13: =COUNTIF(E13,E:E) -> 1 | P13: =IF(J13="국유지", "국유지", "사유지") -> 사유지 | Q13: =P13&F13 -> 사유지답 | R13: 4800 | S13: =IF(R13="-","-",H13*R13) -> 67200 | T13: =IF(R13="-","-",S13*3) -> 201600
A14: 11 | B14: 진도 | C14: 의신 | D14: 돈지 | E14: 83-6 | F14: 답 | G14: 1274 | H14: 683 | J14: 박흥식외 2인 | K14: 전라남도 진도군 의신면 돈지리 162번지 | O14: =COUNTIF(E14,E:E) -> 1 | P14: =IF(J14="국유지", "국유지", "사유지") -> 사유지 | Q14: =P14&F14 -> 사유지답 | R14: 4650 | S14: =IF(R14="-","-",H14*R14) -> 3175950 | T14: =IF(R14="-","-",S14*3) -> 9527850
A15: 12 | B15: 진도 | C15: 의신 | D15: 돈지 | E15: 1029 | F15: 천 | G15: 13048 | H15: 13197 | J15: 국유지 | K15: 국토교통부 | O15: =COUNTIF(E15,E:E) -> 1 | P15: =IF(J15="국유지", "국유지", "사유지") -> 국유지 | Q15: =P15&F15 -> 국유지천 | R15: - | S15: =IF(R15="-","-",H15*R15) -> - | T15: =IF(R15="-","-",S15*3) -> -
A16: 13 | B16: 진도 | C16: 의신 | D16: 돈지 | E16: 48 | F16: 천 | G16: 1304 | H16: 1322 | J16: 조영 | K16: 서울특별시 송파구 올림픽로 43길 30, 5동 1311호(풍납동,우성APT) | O16: =COUNTIF(E16,E:E) -> 1 | P16: =IF(J16="국유지", "국유지", "사유지") -> 사유지 | Q16: =P16&F16 -> 사유지천 | R16: 3150 | S16: =IF(R16="-","-",H16*R16) -> 4164300 | T16: =IF(R16="-","-",S16*3) -> 12492900
A17: 14 | B17: 진도 | C17: 의신 | D17: 돈지 | E17: 83-5 | F17: 답 | G17: 2285 | H17: 550 | J17: 박복심 | K17: 전라남도 진도군 의신면 돈지리 817번지 | O17: =COUNTIF(E17,E:E) -> 1 | P17: =IF(J17="국유지", "국유지", "사유지") -> 사유지 | Q17: =P17&F17 -> 사유지답 | R17: 4650 | S17: =IF(R17="-","-",H17*R17) -> 2557500 | T17: =IF(R17="-","-",S17*3) -> 7672500
A18: 15 | B18: 진도 | C18: 의신 | D18: 돈지 | E18: 111 | F18: 구 | G18: 403 | H18: 395 | J18: 국유지 | K18: 농림축산식품부 | O18: =COUNTIF(E18,E:E) -> 1 | P18: =IF(J18="국유지", "국유지", "사유지") -> 국유지 | Q18: =P18&F18 -> 국유지구 | R18: - | S18: =IF(R18="-","-",H18*R18) -> - | T18: =IF(R18="-","-",S18*3) -> -
A19: 16 | B19: 진도 | C19: 의신 | D19: 돈지 | E19: 72-1 | F19: 답 | G19: 453 | H19: 455 | J19: 이기덕 | K19: 전라남도 진도군 의신면 돈지리 631번지 | O19: =COUNTIF(E19,E:E) -> 1 | P19: =IF(J19="국유지", "국유지", "사유지") -> 사유지 | Q19: =P19&F19 -> 사유지답 | R19: 990 | S19: =IF(R19="-","-",H19*R19) -> 450450 | T19: =IF(R19="-","-",S19*3) -> 1351350
A20: 17 | B20: 진도 | C20: 의신 | D20: 돈지 | E20: 83-4 | F20: 답 | G20: 1418 | H20: 301 | J20: 박복심 | K20: 전라남도 진도군 의신면 돈지리 817번지 | O20: =COUNTIF(E20,E:E) -> 1 | P20: =IF(J20="국유지", "국유지", "사유지") -> 사유지 | Q20: =P20&F20 -> 사유지답 | R20: 4650 | S20: =IF(R20="-","-",H20*R20) -> 1399650 | T20: =IF(R20="-","-",S20*3) -> 4198950
A21: 18 | B21: 진도 | C21: 의신 | D21: 돈지 | E21: 83-3 | F21: 답 | G21: 3056 | H21: 459 | J21: 박병락 | K21: 부산시 남구 수영동 437-1 현대APT 101-1406 | O21: =COUNTIF(E21,E:E) -> 1 | P21: =IF(J21="국유지", "국유지", "사유지") -> 사유지 | Q21: =P21&F21 -> 사유지답 | R21: 4650 | S21: =IF(R21="-","-",H21*R21) -> 2134350 | T21: =IF(R21="-","-",S21*3) -> 6403050
A22: 19 | B22: 진도 | C22: 의신 | D22: 돈지 | E22: 83-2 | F22: 답 | G22: 2000 | H22: 115 | J22: 이기덕 | K22: 전라남도 진도군 의신면 돈지리 631번지 | O22: =COUNTIF(E22,E:E) -> 1 | P22: =IF(J22="국유지", "국유지", "사유지") -> 사유지 | Q22: =P22&F22 -> 사유지답 | R22: 4650 | S22: =IF(R22="-","-",H22*R22) -> 534750 | T22: =IF(R22="-","-",S22*3) -> 1604250
A23: 20 | B23: 진도 | C23: 의신 | D23: 돈지 | E23: 83-1 | F23: 답 | G23: 1000 | H23: 29 | J23: 조정식 | K23: 전라남도 광양시 진등6길 51, 601동 903호 | O23: =COUNTIF(E23,E:E) -> 1 | P23: =IF(J23="국유지", "국유지", "사유지") -> 사유지 | Q23: =P23&F23 -> 사유지답 | R23: 4650 | S23: =IF(R23="-","-",H23*R23) -> 134850 | T23: =IF(R23="-","-",S23*3) -> 404550
A24: 21 | B24: 진도 | C24: 의신 | D24: 돈지 | E24: 112 | F24: 도 | G24: 176 | H24: 180 | J24: 국유지 | K24: 농림축산식품부 | O24: =COUNTIF(E24,E:E) -> 1 | P24: =IF(J24="국유지", "국유지", "사유지") -> 국유지 | Q24: =P24&F24 -> 국유지도 | R24: - | S24: =IF(R24="-","-",H24*R24) -> - | T24: =IF(R24="-","-",S24*3) -> -
A25: 22 | B25: 진도 | C25: 의신 | D25: 돈지 | E25: 84 | F25: 답 | G25: 1100 | H25: 1101 | J25: 이기덕 | K25: 전라남도 진도군 의신면 돈지리 631번지 | O25: =COUNTIF(E25,E:E) -> 1 | P25: =IF(J25="국유지", "국유지", "사유지") -> 사유지 | Q25: =P25&F25 -> 사유지답 | R25: 4650 | S25: =IF(R25="-","-",H25*R25) -> 5119650 | T25: =IF(R25="-","-",S25*3) -> 15358950
A26: 23 | B26: 진도 | C26: 의신 | D26: 돈지 | E26: 72 | F26: 답 | G26: 253 | H26: 254 | J26: 이기덕 | K26: 전라남도 진도군 의신면 돈지리 631번지 | O26: =COUNTIF(E26,E:E) -> 1 | P26: =IF(J26="국유지", "국유지", "사유지") -> 사유지 | Q26: =P26&F26 -> 사유지답 | R26: 990 | S26: =IF(R26="-","-",H26*R26) -> 251460 | T26: =IF(R26="-","-",S26*3) -> 754380
A27: 24 | B27: 진도 | C27: 의신 | D27: 돈지 | E27: 95 | F27: 구 | G27: 7161 | H27: 786 | J27: 국유지 | K27: 농림축산식품부 | O27: =COUNTIF(E27,E:E) -> 1 | P27: =IF(J27="국유지", "국유지", "사유지") -> 국유지 | Q27: =P27&F27 -> 국유지구 | R27: - | S27: =IF(R27="-","-",H27*R27) -> - | T27: =IF(R27="-","-",S27*3) -> -
A28: 25 | B28: 진도 | C28: 의신 | D28: 돈지 | E28: 1033-2 | F28: 도 | G28: 29 | H28: 31 | J28: 국유지 | K28: 국토교통부 | O28: =COUNTIF(E28,E:E) -> 1 | P28: =IF(J28="국유지", "국유지", "사유지") -> 국유지 | Q28: =P28&F28 -> 국유지도 | R28: - | S28: =IF(R28="-","-",H28*R28) -> - | T28: =IF(R28="-","-",S28*3) -> -
A29: 26 | B29: 진도 | C29: 의신 | D29: 돈지 | E29: 80-23 | F29: 답 | G29: 1474 | H29: 864 | J29: 김현덕 | K29: 전라남도 진도군 의신면 돈지리 602-1번지 | O29: =COUNTIF(E29,E:E) -> 1 | P29: =IF(J29="국유지", "국유지", "사유지") -> 사유지 | Q29: =P29&F29 -> 사유지답 | R29: 4800 | S29: =IF(R29="-","-",H29*R29) -> 4147200 | T29: =IF(R29="-","-",S29*3) -> 12441600
A30: 27 | B30: 진도 | C30: 의신 | D30: 돈지 | E30: 80-22 | F30: 답 | G30: 1111 | H30: 516 | J30: 김현덕 | K30: 전라남도 진도군 의신면 돈지리 602-1번지 | O30: =COUNTIF(E30,E:E) -> 1 | P30: =IF(J30="국유지", "국유지", "사유지") -> 사유지 | Q30: =P30&F30 -> 사유지답 | R30: 4800 | S30: =IF(R30="-","-",H30*R30) -> 2476800 | T30: =IF(R30="-","-",S30*3) -> 7430400
A31: 28 | B31: 진도 | C31: 의신 | D31: 돈지 | E31: 80-21 | F31: 답 | G31: 1846 | H31: 163 | J31: 채성일 | K31: 전라남도 진도군 의신면 만길리 1578-1번지 | O31: =COUNTIF(E31,E:E) -> 1 | P31: =IF(J31="국유지", "국유지", "사유지") -> 사유지 | Q31: =P31&F31 -> 사유지답 | R31: 4800 | S31: =IF(R31="-","-",H31*R31) -> 782400 | T31: =IF(R31="-","-",S31*3) -> 2347200
A32: 29 | B32: 진도 | C32: 의신 | D32: 돈지 | E32: 105 | F32: 구 | G32: 1904 | H32: 286 | J32: 국유지 | K32: 농림축산식품부 | O32: =COUNTIF(E32,E:E) -> 1 | P32: =IF(J32="국유지", "국유지", "사유지") -> 국유지 | Q32: =P32&F32 -> 국유지구 | R32: - | S32: =IF(R32="-","-",H32*R32) -> - | T32: =IF(R32="-","-",S32*3) -> -
A33: 30 | B33: 진도 | C33: 의신 | D33: 돈지 | E33: 106 | F33: 제 | G33: 2788 | H33: 468 | J33: 국유지 | K33: 농림축산식품부 | O33: =COUNTIF(E33,E:E) -> 1 | P33: =IF(J33="국유지", "국유지", "사유지") -> 국유지 | Q33: =P33&F33 -> 국유지제 | R33: - | S33: =IF(R33="-","-",H33*R33) -> - | T33: =IF(R33="-","-",S33*3) -> -
A34: 31 | B34: 진도 | C34: 의신 | D34: 돈지 | E34: 107 | F34: 천 | G34: 7332 | H34: 1099 | J34: 국유지 | K34: 농림축산식품부 | O34: =COUNTIF(E34,E:E) -> 1 | P34: =IF(J34="국유지", "국유지", "사유지") -> 국유지 | Q34: =P34&F34 -> 국유지천 | R34: - | S34: =IF(R34="-","-",H34*R34) -> - | T34: =IF(R34="-","-",S34*3) -> -
A35: 32 | B35: 진도 | C35: 의신 | D35: 돈지 | E35: 50-2 | F35: 천 | G35: 1458 | H35: 608 | J35: 조정희 | K35: 전라남도 진도군 의신면 돈지리 332번지 | O35: =COUNTIF(E35,E:E) -> 1 | P35: =IF(J35="국유지", "국유지", "사유지") -> 사유지 | Q35: =P35&F35 -> 사유지천 | R35: 3150 | S35: =IF(R35="-","-",H35*R35) -> 1915200 | T35: =IF(R35="-","-",S35*3) -> 5745600
A36: 33 | B36: 진도 | C36: 의신 | D36: 돈지 | E36: 1054 | F36: 천 | G36: 1024.5 | H36: 220 | J36: 국유지 | K36: 국토교통부 | O36: =COUNTIF(E36,E:E) -> 1 | P36: =IF(J36="국유지", "국유지", "사유지") -> 국유지 | Q36: =P36&F36 -> 국유지천 | R36: - | S36: =IF(R36="-","-",H36*R36) -> - | T36: =IF(R36="-","-",S36*3) -> -
A37: 34 | B37: 진도 | C37: 의신 | D37: 돈지 | E37: 1045 | F37: 도 | G37: 2871.2 | H37: 275 | J37: 국유지 | K37: 농림축산식품부 | O37: =COUNTIF(E37,E:E) -> 1 | P37: =IF(J37="국유지", "국유지", "사유지") -> 국유지 | Q37: =P37&F37 -> 국유지도 | R37: - | S37: =IF(R37="-","-",H37*R37) -> - | T37: =IF(R37="-","-",S37*3) -> -
A38: 35 | B38: 진도 | C38: 의신 | D38: 돈지 | E38: 1046 | F38: 구 | G38: 1095.2 | H38: 78 | J38: 국유지 | K38: 농림축산식품부 | O38: =COUNTIF(E38,E:E) -> 1 | P38: =IF(J38="국유지", "국유지", "사유지") -> 국유지 | Q38: =P38&F38 -> 국유지구 | R38: - | S38: =IF(R38="-","-",H38*R38) -> - | T38: =IF(R38="-","-",S38*3) -> -
A39: 36 | B39: 진도 | C39: 의신 | D39: 돈지 | E39: 1041-7 | F39: 답 | G39: 1034.6 | H39: 408 | J39: 박소심 | K39: 전라남도 진도군 의신면 돈지2길 27-20 | O39: =COUNTIF(E39,E:E) -> 1 | P39: =IF(J39="국유지", "국유지", "사유지") -> 사유지 | Q39: =P39&F39 -> 사유지답 | R39: 4040 | S39: =IF(R39="-","-",H39*R39) -> 1648320 | T39: =IF(R39="-","-",S39*3) -> 4944960
A40: 37 | B40: 진도 | C40: 의신 | D40: 돈지 | E40: 1048-2 | F40: 구 | G40: 3773.5 | H40: 427 | J40: 국유지 | K40: 농림축산식품부 | O40: =COUNTIF(E40,E:E) -> 1 | P40: =IF(J40="국유지", "국유지", "사유지") -> 국유지 | Q40: =P40&F40 -> 국유지구 | R40: - | S40: =IF(R40="-","-",H40*R40) -> - | T40: =IF(R40="-","-",S40*3) -> -
...

Sheet 편입용지집계표(하류)
A1: 편 입 면 적 집 계 표 (의 신 지 구)
A3: 의신천 하천재해예방사업 실시설계
A4: 지목별 | C4: 계 | D4: 전 | E4: 답 | F4: 임야 | G4: 대지 | H4: 도로 | I4: 하천 | J4: 구 거 | K4: 묘 | L4: 제방 | M4: 유지 | N4: 종교 | O4: 공유 수면 | P4: 잡종지 | Q4: 철 도 용 지 | R4: 창 고 | S4: 공장 | T4: 비고
A5: 소유자별
A6: 국유지 | B6: 필지 | C6: =SUM(D6:S6) -> 50 | D6: =COUNTIF('편입용지조서(하류)'!$Q:$Q,CONCATENATE('편입용지집계표(하류)'!$A6,LEFT('편입용지집계표(하류)'!D$4,1))) -> 0 | E6: =COUNTIF('편입용지조서(하류)'!$Q:$Q,CONCATENATE('편입용지집계표(하류)'!$A6,LEFT('편입용지집계표(하류)'!E$4,1))) -> 8 | F6: =COUNTIF('편입용지조서(하류)'!$Q:$Q,CONCATENATE('편입용지집계표(하류)'!$A6,LEFT('편입용지집계표(하류)'!F$4,1))) -> 0 | G6: =COUNTIF('편입용지조서(하류)'!$Q:$Q,CONCATENATE('편입용지집계표(하류)'!$A6,LEFT('편입용지집계표(하류)'!G$4,1))) -> 0 | H6: =COUNTIF('편입용지조서(하류)'!$Q:$Q,CONCATENATE('편입용지집계표(하류)'!$A6,LEFT('편입용지집계표(하류)'!H$4,1))) -> 19 | I6: =COUNTIF('편입용지조서(하류)'!$Q:$Q,CONCATENATE('편입용지집계표(하류)'!$A6,RIGHT('편입용지집계표(하류)'!I$4,1))) -> 1 | J6: =COUNTIF('편입용지조서(하류)'!$Q:$Q,CONCATENATE('편입용지집계표(하류)'!$A6,LEFT('편입용지집계표(하류)'!J$4,1))) -> 21 | K6: =COUNTIF('편입용지조서(하류)'!$Q:$Q,CONCATENATE('편입용지집계표(하류)'!$A6,LEFT('편입용지집계표(하류)'!K$4,1))) -> 0 | L6: =COUNTIF('편입용지조서(하류)'!$Q:$Q,CONCATENATE('편입용지집계표(하류)'!$A6,LEFT('편입용지집계표(하류)'!L$4,1))) -> 1 | M6: =COUNTIF('편입용지조서(하류)'!$Q:$Q,CONCATENATE('편입용지집계표(하류)'!$A6,LEFT('편입용지집계표(하류)'!M$4,1))) -> 0 | N6: =COUNTIF('편입용지조서(하류)'!$Q:$Q,CONCATENATE('편입용지집계표(하류)'!$A6,LEFT('편입용지집계표(하류)'!N$4,1))) -> 0 | O6: =COUNTIF('편입용지조서(하류)'!$Q:$Q,CONCATENATE('편입용지집계표(하류)'!$A6,LEFT('편입용지집계표(하류)'!O$4,1))) -> 0 | P6: =COUNTIF('편입용지조서(하류)'!$Q:$Q,CONCATENATE('편입용지집계표(하류)'!$A6,LEFT('편입용지집계표(하류)'!P$4,1))) -> 0 | Q6: =COUNTIF('편입용지조서(하류)'!$Q:$Q,CONCATENATE('편입용지집계표(하류)'!$A6,LEFT('편입용지집계표(하류)'!Q$4,1))) -> 0 | R6: =COUNTIF('편입용지조서(하류)'!$Q:$Q,CONCATENATE('편입용지집계표(하류)'!$A6,LEFT('편입용지집계표(하류)'!R$4,1))) -> 0 | S6: 0
B7: 면적 | C7: =SUM(D7:S7) -> 11914 | D7: =SUMIF('편입용지조서(하류)'!$Q:$Q,CONCATENATE('편입용지집계표(하류)'!$A6,LEFT('편입용지집계표(하류)'!D$4,1)),'편입용지조서(하류)'!$H:$H) -> 0 | E7: =SUMIF('편입용지조서(하류)'!$Q:$Q,CONCATENATE('편입용지집계표(하류)'!$A6,LEFT('편입용지집계표(하류)'!E$4,1)),'편입용지조서(하류)'!$H:$H) -> 2511 | F7: =SUMIF('편입용지조서(하류)'!$Q:$Q,CONCATENATE('편입용지집계표(하류)'!$A6,LEFT('편입용지집계표(하류)'!F$4,1)),'편입용지조서(하류)'!$H:$H) -> 0 | G7: =SUMIF('편입용지조서(하류)'!$Q:$Q,CONCATENATE('편입용지집계표(하류)'!$A6,LEFT('편입용지집계표(하류)'!G$4,1)),'편입용지조서(하류)'!$H:$H) -> 0 | H7: =SUMIF('편입용지조서(하류)'!$Q:$Q,CONCATENATE('편입용지집계표(하류)'!$A6,LEFT('편입용지집계표(하류)'!H$4,1)),'편입용지조서(하류)'!$H:$H) -> 3241 | I7: =SUMIF('편입용지조서(하류)'!$Q:$Q,CONCATENATE('편입용지집계표(하류)'!$A6,RIGHT('편입용지집계표(하류)'!I$4,1)),'편입용지조서(하류)'!$H:$H) -> 2295 | J7: =SUMIF('편입용지조서(하류)'!$Q:$Q,CONCATENATE('편입용지집계표(하류)'!$A6,LEFT('편입용지집계표(하류)'!J$4,1)),'편입용지조서(하류)'!$H:$H) -> 2961 | K7: =SUMIF('편입용지조서(하류)'!$Q:$Q,CONCATENATE('편입용지집계표(하류)'!$A6,LEFT('편입용지집계표(하류)'!K$4,1)),'편입용지조서(하류)'!$H:$H) -> 0 | L7: =SUMIF('편입용지조서(하류)'!$Q:$Q,CONCATENATE('편입용지집계표(하류)'!$A6,LEFT('편입용지집계표(하류)'!L$4,1)),'편입용지조서(하류)'!$H:$H) -> 906 | M7: =SUMIF('편입용지조서(하류)'!$Q:$Q,CONCATENATE('편입용지집계표(하류)'!$A6,LEFT('편입용지집계표(하류)'!M$4,1)),'편입용지조서(하류)'!$H:$H) -> 0 | N7: =SUMIF('편입용지조서(하류)'!$Q:$Q,CONCATENATE('편입용지집계표(하류)'!$A6,LEFT('편입용지집계표(하류)'!N$4,1)),'편입용지조서(하류)'!$H:$H) -> 0 | O7: =SUMIF('편입용지조서(하류)'!$Q:$Q,CONCATENATE('편입용지집계표(하류)'!$A6,LEFT('편입용지집계표(하류)'!O$4,1)),'편입용지조서(하류)'!$H:$H) -> 0 | P7: =SUMIF('편입용지조서(하류)'!$Q:$Q,CONCATENATE('편입용지집계표(하류)'!$A6,LEFT('편입용지집계표(하류)'!P$4,1)),'편입용지조서(하류)'!$H:$H) -> 0 | Q7: =SUMIF('편입용지조서(하류)'!$Q:$Q,CONCATENATE('편입용지집계표(하류)'!$A6,LEFT('편입용지집계표(하류)'!Q$4,1)),'편입용지조서(하류)'!$H:$H) -> 0 | R7: =SUMIF('편입용지조서(하류)'!$Q:$Q,CONCATENATE('편입용지집계표(하류)'!$A6,LEFT('편입용지집계표(하류)'!R$4,1)),'편입용지조서(하류)'!$H:$H) -> 0 | S7: 0
A8: 사유지 | B8: 필지 | C8: =SUM(D8:S8) -> 58 | D8: =COUNTIF('편입용지조서(하류)'!$Q:$Q,CONCATENATE('편입용지집계표(하류)'!$A8,LEFT('편입용지집계표(하류)'!D$4,1))) -> 0 | E8: =COUNTIF('편입용지조서(하류)'!$Q:$Q,CONCATENATE('편입용지집계표(하류)'!$A8,LEFT('편입용지집계표(하류)'!E$4,1))) -> 49 | F8: =COUNTIF('편입용지조서(하류)'!$Q:$Q,CONCATENATE('편입용지집계표(하류)'!$A8,LEFT('편입용지집계표(하류)'!F$4,1))) -> 2 | G8: =COUNTIF('편입용지조서(하류)'!$Q:$Q,CONCATENATE('편입용지집계표(하류)'!$A8,LEFT('편입용지집계표(하류)'!G$4,1))) -> 0 | H8: =COUNTIF('편입용지조서(하류)'!$Q:$Q,CONCATENATE('편입용지집계표(하류)'!$A8,LEFT('편입용지집계표(하류)'!H$4,1))) -> 0 | I8: =COUNTIF('편입용지조서(하류)'!$Q:$Q,CONCATENATE('편입용지집계표(하류)'!$A8,RIGHT('편입용지집계표(하류)'!I$4,1))) -> 2 | J8: =COUNTIF('편입용지조서(하류)'!$Q:$Q,CONCATENATE('편입용지집계표(하류)'!$A8,LEFT('편입용지집계표(하류)'!J$4,1))) -> 1 | K8: 0 | L8: =COUNTIF('편입용지조서(하류)'!$Q:$Q,CONCATENATE('편입용지집계표(하류)'!$A8,LEFT('편입용지집계표(하류)'!L$4,1))) -> 3 | M8: =COUNTIF('편입용지조서(하류)'!$Q:$Q,CONCATENATE('편입용지집계표(하류)'!$A8,LEFT('편입용지집계표(하류)'!M$4,1))) -> 0 | N8: =COUNTIF('편입용지조서(하류)'!$Q:$Q,CONCATENATE('편입용지집계표(하류)'!$A8,LEFT('편입용지집계표(하류)'!N$4,1))) -> 0 | O8: =COUNTIF('편입용지조서(하류)'!$Q:$Q,CONCATENATE('편입용지집계표(하류)'!$A8,LEFT('편입용지집계표(하류)'!O$4,1))) -> 0 | P8: =COUNTIF('편입용지조서(하류)'!$Q:$Q,CONCATENATE('편입용지집계표(하류)'!$A8,LEFT('편입용지집계표(하류)'!P$4,1))) -> 1 | Q8: =COUNTIF('편입용지조서(하류)'!$Q:$Q,CONCATENATE('편입용지집계표(하류)'!$A8,LEFT('편입용지집계표(하류)'!Q$4,1))) -> 0 | R8: =COUNTIF('편입용지조서(하류)'!$Q:$Q,CONCATENATE('편입용지집계표(하류)'!$A8,LEFT('편입용지집계표(하류)'!R$4,1))) -> 0 | S8: 0
B9: 면적 | C9: =SUM(D9:S9) -> 124569 | D9: =SUMIF('편입용지조서(하류)'!$Q:$Q,CONCATENATE('편입용지집계표(하류)'!$A8,LEFT('편입용지집계표(하류)'!D$4,1)),'편입용지조서(하류)'!$H:$H) -> 0 | E9: =SUMIF('편입용지조서(하류)'!$Q:$Q,CONCATENATE('편입용지집계표(하류)'!$A8,LEFT('편입용지집계표(하류)'!E$4,1)),'편입용지조서(하류)'!$H:$H) -> 50376 | F9: =SUMIF('편입용지조서(하류)'!$Q:$Q,CONCATENATE('편입용지집계표(하류)'!$A8,LEFT('편입용지집계표(하류)'!F$4,1)),'편입용지조서(하류)'!$H:$H) -> 57 | G9: =SUMIF('편입용지조서(하류)'!$Q:$Q,CONCATENATE('편입용지집계표(하류)'!$A8,LEFT('편입용지집계표(하류)'!G$4,1)),'편입용지조서(하류)'!$H:$H) -> 0 | H9: =SUMIF('편입용지조서(하류)'!$Q:$Q,CONCATENATE('편입용지집계표(하류)'!$A8,LEFT('편입용지집계표(하류)'!H$4,1)),'편입용지조서(하류)'!$H:$H) -> 0 | I9: =SUMIF('편입용지조서(하류)'!$Q:$Q,CONCATENATE('편입용지집계표(하류)'!$A8,RIGHT('편입용지집계표(하류)'!I$4,1)),'편입용지조서(하류)'!$H:$H) -> 47375 | J9: =SUMIF('편입용지조서(하류)'!$Q:$Q,CONCATENATE('편입용지집계표(하류)'!$A8,LEFT('편입용지집계표(하류)'!J$4,1)),'편입용지조서(하류)'!$H:$H) -> 75 | K9: =SUMIF('편입용지조서(하류)'!$Q:$Q,CONCATENATE('편입용지집계표(하류)'!$A8,LEFT('편입용지집계표(하류)'!K$4,1)),'편입용지조서(하류)'!$H:$H) -> 0 | L9: =SUMIF('편입용지조서(하류)'!$Q:$Q,CONCATENATE('편입용지집계표(하류)'!$A8,LEFT('편입용지집계표(하류)'!L$4,1)),'편입용지조서(하류)'!$H:$H) -> 26616 | M9: =SUMIF('편입용지조서(하류)'!$Q:$Q,CONCATENATE('편입용지집계표(하류)'!$A8,LEFT('편입용지집계표(하류)'!M$4,1)),'편입용지조서(하류)'!$H:$H) -> 0 | N9: =SUMIF('편입용지조서(하류)'!$Q:$Q,CONCATENATE('편입용지집계표(하류)'!$A8,LEFT('편입용지집계표(하류)'!N$4,1)),'편입용지조서(하류)'!$H:$H) -> 0 | O9: =SUMIF('편입용지조서(하류)'!$Q:$Q,CONCATENATE('편입용지집계표(하류)'!$A8,LEFT('편입용지집계표(하류)'!O$4,1)),'편입용지조서(하류)'!$H:$H) -> 0 | P9: =SUMIF('편입용지조서(하류)'!$Q:$Q,CONCATENATE('편입용지집계표(하류)'!$A8,LEFT('편입용지집계표(하류)'!P$4,1)),'편입용지조서(하류)'!$H:$H) -> 70 | Q9: =SUMIF('편입용지조서(하류)'!$Q:$Q,CONCATENATE('편입용지집계표(하류)'!$A8,LEFT('편입용지집계표(하류)'!Q$4,1)),'편입용지조서(하류)'!$H:$H) -> 0 | R9: =SUMIF('편입용지조서(하류)'!$Q:$Q,CONCATENATE('편입용지집계표(하류)'!$A8,LEFT('편입용지집계표(하류)'!R$4,1)),'편입용지조서(하류)'!$H:$H) -> 0 | S9: 0
A10: 총 계 | B10: 필지 | C10: =C6+C8 -> 108 | D10: =D6+D8 -> 0 | E10: =E6+E8 -> 57 | F10: =F6+F8 -> 2 | G10: =G6+G8 -> 0 | H10: =H6+H8 -> 19 | I10: =I6+I8 -> 3 | J10: =J6+J8 -> 22 | ... S10: =S6+S8 -> 0
B11: 면적 | C11: =C7+C9 -> 136483 | D11: =D7+D9 -> 0 | E11: =E7+E9 -> 52887 | F11: =F7+F9 -> 57 | G11: =G7+G9 -> 0 | H11: =H7+H9 -> 3241 | I11: =I7+I9 -> 49670 | J11: =J7+J9 -> 3036 | ... S11: =S7+S9 -> 0
A12: 포 락 면 적 집 계 표 (의 신 지 구)
A14: =A3 -> 의신천 하천재해예방사업 실시설계
A15: 지목별 | C15: 계 | D15: 전 | E15: 답 | F15: 임야 | G15: 대지 | H15: 도로 | I15: 하천 | J15: 구 거 | K15: 묘 | L15: 제방 | M15: 유지 | N15: 종교 | O15: 공유 수면 | P15: 잡종지 | Q15: 철 도 용 지 | R15: 창 고 | S15: 공장 | T15: 비고
A16: 소유자별
A17: 국유지 | B17: 필지 | C17: =SUM(D17:S17) -> 50 | D17: =COUNTIF('편입용지조서(하류)'!$Q:$Q,CONCATENATE('편입용지집계표(하류)'!$A17,LEFT('편입용지집계표(하류)'!D$4,1))) -> 0 | E17: =COUNTIF('편입용지조서(하류)'!$Q:$Q,CONCATENATE('편입용지집계표(하류)'!$A17,LEFT('편입용지집계표(하류)'!E$4,1))) -> 8 | F17: =COUNTIF('편입용지조서(하류)'!$Q:$Q,CONCATENATE('편입용지집계표(하류)'!$A17,LEFT('편입용지집계표(하류)'!F$4,1))) -> 0 | G17: =COUNTIF('편입용지조서(하류)'!$Q:$Q,CONCATENATE('편입용지집계표(하류)'!$A17,LEFT('편입용지집계표(하류)'!G$4,1))) -> 0 | H17: =COUNTIF('편입용지조서(하류)'!$Q:$Q,CONCATENATE('편입용지집계표(하류)'!$A17,LEFT('편입용지집계표(하류)'!H$4,1))) -> 19 | I17: =COUNTIF('편입용지조서(하류)'!$Q:$Q,CONCATENATE('편입용지집계표(하류)'!$A17,RIGHT('편입용지집계표(하류)'!I$4,1))) -> 1 | J17: =COUNTIF('편입용지조서(하류)'!$Q:$Q,CONCATENATE('편입용지집계표(하류)'!$A17,LEFT('편입용지집계표(하류)'!J$4,1))) -> 21 | K17: =COUNTIF('편입용지조서(하류)'!$Q:$Q,CONCATENATE('편입용지집계표(하류)'!$A17,LEFT('편입용지집계표(하류)'!K$4,1))) -> 0 | L17: =COUNTIF('편입용지조서(하류)'!$Q:$Q,CONCATENATE('편입용지집계표(하류)'!$A17,LEFT('편입용지집계표(하류)'!L$4,1))) -> 1 | M17: =COUNTIF('편입용지조서(하류)'!$Q:$Q,CONCATENATE('편입용지집계표(하류)'!$A17,LEFT('편입용지집계표(하류)'!M$4,1))) -> 0 | N17: =COUNTIF('편입용지조서(하류)'!$Q:$Q,CONCATENATE('편입용지집계표(하류)'!$A17,LEFT('편입용지집계표(하류)'!N$4,1))) -> 0 | O17: =COUNTIF('편입용지조서(하류)'!$Q:$Q,CONCATENATE('편입용지집계표(하류)'!$A17,LEFT('편입용지집계표(하류)'!O$4,1))) -> 0 | P17: =COUNTIF('편입용지조서(하류)'!$Q:$Q,CONCATENATE('편입용지집계표(하류)'!$A17,LEFT('편입용지집계표(하류)'!P$4,1))) -> 0 | Q17: =COUNTIF('편입용지조서(하류)'!$Q:$Q,CONCATENATE('편입용지집계표(하류)'!$A17,LEFT('편입용지집계표(하류)'!Q$4,1))) -> 0 | R17: =COUNTIF('편입용지조서(하류)'!$Q:$Q,CONCATENATE('편입용지집계표(하류)'!$A17,LEFT('편입용지집계표(하류)'!R$4,1))) -> 0 | S17: 0
B18: 면적 | C18: =SUM(D18:S18) -> 83559 | D18: =SUMIF('편입용지조서(하류)'!$Q:$Q,CONCATENATE('편입용지집계표(하류)'!$A17,LEFT('편입용지집계표(하류)'!D$4,1)),'편입용지조서(하류)'!$G:$G) -> 0 | E18: =SUMIF('편입용지조서(하류)'!$Q:$Q,CONCATENATE('편입용지집계표(하류)'!$A17,LEFT('편입용지집계표(하류)'!E$4,1)),'편입용지조서(하류)'!$G:$G) -> 5613 | F18: =SUMIF('편입용지조서(하류)'!$Q:$Q,CONCATENATE('편입용지집계표(하류)'!$A17,LEFT('편입용지집계표(하류)'!F$4,1)),'편입용지조서(하류)'!$G:$G) -> 0 | G18: =SUMIF('편입용지조서(하류)'!$Q:$Q,CONCATENATE('편입용지집계표(하류)'!$A17,LEFT('편입용지집계표(하류)'!G$4,1)),'편입용지조서(하류)'!$G:$G) -> 0 | H18: =SUMIF('편입용지조서(하류)'!$Q:$Q,CONCATENATE('편입용지집계표(하류)'!$A17,LEFT('편입용지집계표(하류)'!H$4,1)),'편입용지조서(하류)'!$G:$G) -> 28110 | I18: =SUMIF('편입용지조서(하류)'!$Q:$Q,CONCATENATE('편입용지집계표(하류)'!$A17,RIGHT('편입용지집계표(하류)'!I$4,1)),'편입용지조서(하류)'!$G:$G) -> 11408 | J18: =SUMIF('편입용지조서(하류)'!$Q:$Q,CONCATENATE('편입용지집계표(하류)'!$A17,LEFT('편입용지집계표(하류)'!J$4,1)),'편입용지조서(하류)'!$G:$G) -> 31995 | K18: =SUMIF('편입용지조서(하류)'!$Q:$Q,CONCATENATE('편입용지집계표(하류)'!$A17,LEFT('편입용지집계표(하류)'!K$4,1)),'편입용지조서(하류)'!$G:$G) -> 0 | L18: =SUMIF('편입용지조서(하류)'!$Q:$Q,CONCATENATE('편입용지집계표(하류)'!$A17,LEFT('편입용지집계표(하류)'!L$4,1)),'편입용지조서(하류)'!$G:$G) -> 6433 | M18: =SUMIF('편입용지조서(하류)'!$Q:$Q,CONCATENATE('편입용지집계표(하류)'!$A17,LEFT('편입용지집계표(하류)'!M$4,1)),'편입용지조서(하류)'!$G:$G) -> 0 | N18: =SUMIF('편입용지조서(하류)'!$Q:$Q,CONCATENATE('편입용지집계표(하류)'!$A17,LEFT('편입용지집계표(하류)'!N$4,1)),'편입용지조서(하류)'!$G:$G) -> 0 | O18: =SUMIF('편입용지조서(하류)'!$Q:$Q,CONCATENATE('편입용지집계표(하류)'!$A17,LEFT('편입용지집계표(하류)'!O$4,1)),'편입용지조서(하류)'!$G:$G) -> 0 | P18: =SUMIF('편입용지조서(하류)'!$Q:$Q,CONCATENATE('편입용지집계표(하류)'!$A17,LEFT('편입용지집계표(하류)'!P$4,1)),'편입용지조서(하류)'!$G:$G) -> 0 | Q18: =SUMIF('편입용지조서(하류)'!$Q:$Q,CONCATENATE('편입용지집계표(하류)'!$A17,LEFT('편입용지집계표(하류)'!Q$4,1)),'편입용지조서(하류)'!$G:$G) -> 0 | R18: =SUMIF('편입용지조서(하류)'!$Q:$Q,CONCATENATE('편입용지집계표(하류)'!$A17,LEFT('편입용지집계표(하류)'!R$4,1)),'편입용지조서(하류)'!$G:$G) -> 0 | S18: 0
A19: 사유지 | B19: 필지 | C19: =SUM(D19:S19) -> 58 | D19: =COUNTIF('편입용지조서(하류)'!$Q:$Q,CONCATENATE('편입용지집계표(하류)'!$A19,LEFT('편입용지집계표(하류)'!D$4,1))) -> 0 | E19: =COUNTIF('편입용지조서(하류)'!$Q:$Q,CONCATENATE('편입용지집계표(하류)'!$A19,LEFT('편입용지집계표(하류)'!E$4,1))) -> 49 | F19: =COUNTIF('편입용지조서(하류)'!$Q:$Q,CONCATENATE('편입용지집계표(하류)'!$A19,LEFT('편입용지집계표(하류)'!F$4,1))) -> 2 | G19: =COUNTIF('편입용지조서(하류)'!$Q:$Q,CONCATENATE('편입용지집계표(하류)'!$A19,LEFT('편입용지집계표(하류)'!G$4,1))) -> 0 | H19: =COUNTIF('편입용지조서(하류)'!$Q:$Q,CONCATENATE('편입용지집계표(하류)'!$A19,LEFT('편입용지집계표(하류)'!H$4,1))) -> 0 | I19: =COUNTIF('편입용지조서(하류)'!$Q:$Q,CONCATENATE('편입용지집계표(하류)'!$A19,RIGHT('편입용지집계표(하류)'!I$4,1))) -> 2 | J19: =COUNTIF('편입용지조서(하류)'!$Q:$Q,CONCATENATE('편입용지집계표(하류)'!$A19,LEFT('편입용지집계표(하류)'!J$4,1))) -> 1 | K19: 국.공유지 | L19: =COUNTIF('편입용지조서(하류)'!$Q:$Q,CONCATENATE('편입용지집계표(하류)'!$A19,LEFT('편입용지집계표(하류)'!L$4,1))) -> 3 | M19: =COUNTIF('편입용지조서(하류)'!$Q:$Q,CONCATENATE('편입용지집계표(하류)'!$A19,LEFT('편입용지집계표(하류)'!M$4,1))) -> 0 | N19: =COUNTIF('편입용지조서(하류)'!$Q:$Q,CONCATENATE('편입용지집계표(하류)'!$A19,LEFT('편입용지집계표(하류)'!N$4,1))) -> 0 | O19: =COUNTIF('편입용지조서(하류)'!$Q:$Q,CONCATENATE('편입용지집계표(하류)'!$A19,LEFT('편입용지집계표(하류)'!O$4,1))) -> 0 | P19: =COUNTIF('편입용지조서(하류)'!$Q:$Q,CONCATENATE('편입용지집계표(하류)'!$A19,LEFT('편입용지집계표(하류)'!P$4,1))) -> 1 | Q19: =COUNTIF('편입용지조서(하류)'!$Q:$Q,CONCATENATE('편입용지집계표(하류)'!$A19,LEFT('편입용지집계표(하류)'!Q$4,1))) -> 0 | R19: =COUNTIF('편입용지조서(하류)'!$Q:$Q,CONCATENATE('편입용지집계표(하류)'!$A19,LEFT('편입용지집계표(하류)'!R$4,1))) -> 0 | S19: 0
B20: 면적 | C20: =SUM(D20:S20) -> 254117 | D20: =SUMIF('편입용지조서(하류)'!$Q:$Q,CONCATENATE('편입용지집계표(하류)'!$A19,LEFT('편입용지집계표(하류)'!D$4,1)),'편입용지조서(하류)'!$G:$G) -> 0 | E20: =SUMIF('편입용지조서(하류)'!$Q:$Q,CONCATENATE('편입용지집계표(하류)'!$A19,LEFT('편입용지집계표(하류)'!E$4,1)),'편입용지조서(하류)'!$G:$G) -> 125292 | F20: =SUMIF('편입용지조서(하류)'!$Q:$Q,CONCATENATE('편입용지집계표(하류)'!$A19,LEFT('편입용지집계표(하류)'!F$4,1)),'편입용지조서(하류)'!$G:$G) -> 29058 | G20: =SUMIF('편입용지조서(하류)'!$Q:$Q,CONCATENATE('편입용지집계표(하류)'!$A19,LEFT('편입용지집계표(하류)'!G$4,1)),'편입용지조서(하류)'!$G:$G) -> 0 | H20: =SUMIF('편입용지조서(하류)'!$Q:$Q,CONCATENATE('편입용지집계표(하류)'!$A19,LEFT('편입용지집계표(하류)'!H$4,1)),'편입용지조서(하류)'!$G:$G) -> 0 | I20: =SUMIF('편입용지조서(하류)'!$Q:$Q,CONCATENATE('편입용지집계표(하류)'!$A19,RIGHT('편입용지집계표(하류)'!I$4,1)),'편입용지조서(하류)'!$G:$G) -> 62896 | J20: =SUMIF('편입용지조서(하류)'!$Q:$Q,CONCATENATE('편입용지집계표(하류)'!$A19,LEFT('편입용지집계표(하류)'!J$4,1)),'편입용지조서(하류)'!$G:$G) -> 890 | K20: =SUMIF('편입용지조서(하류)'!$Q:$Q,CONCATENATE('편입용지집계표(하류)'!$A19,LEFT('편입용지집계표(하류)'!K$4,1)),'편입용지조서(하류)'!$G:$G) -> 0 | L20: =SUMIF('편입용지조서(하류)'!$Q:$Q,CONCATENATE('편입용지집계표(하류)'!$A19,LEFT('편입용지집계표(하류)'!L$4,1)),'편입용지조서(하류)'!$G:$G) -> 35911 | M20: =SUMIF('편입용지조서(하류)'!$Q:$Q,CONCATENATE('편입용지집계표(하류)'!$A19,LEFT('편입용지집계표(하류)'!M$4,1)),'편입용지조서(하류)'!$G:$G) -> 0 | N20: =SUMIF('편입용지조서(하류)'!$Q:$Q,CONCATENATE('편입용지집계표(하류)'!$A19,LEFT('편입용지집계표(하류)'!N$4,1)),'편입용지조서(하류)'!$G:$G) -> 0 | O20: =SUMIF('편입용지조서(하류)'!$Q:$Q,CONCATENATE('편입용지집계표(하류)'!$A19,LEFT('편입용지집계표(하류)'!O$4,1)),'편입용지조서(하류)'!$G:$G) -> 0 | P20: =SUMIF('편입용지조서(하류)'!$Q:$Q,CONCATENATE('편입용지집계표(하류)'!$A19,LEFT('편입용지집계표(하류)'!P$4,1)),'편입용지조서(하류)'!$G:$G) -> 70 | Q20: =SUMIF('편입용지조서(하류)'!$Q:$Q,CONCATENATE('편입용지집계표(하류)'!$A19,LEFT('편입용지집계표(하류)'!Q$4,1)),'편입용지조서(하류)'!$G:$G) -> 0 | R20: =SUMIF('편입용지조서(하류)'!$Q:$Q,CONCATENATE('편입용지집계표(하류)'!$A19,LEFT('편입용지집계표(하류)'!R$4,1)),'편입용지조서(하류)'!$G:$G) -> 0 | S20: 0
A21: 총 계 | B21: 필지 | C21: =C17+C19 -> 108 | D21: =D17+D19 -> 0 | E21: =E17+E19 -> 57 | F21: =F17+F19 -> 2 | G21: =G17+G19 -> 0 | H21: =H17+H19 -> 19 | I21: =I17+I19 -> 3 | J21: =J17+J19 -> 22 | ... S21: =S17+S19 -> 0
B22: 면적 | C22: =C18+C20 -> 337676 | D22: =D18+D20 -> 0 | E22: =E18+E20 -> 130905 | F22: =F18+F20 -> 29058 | G22: =G18+G20 -> 0 | H22: =H18+H20 -> 28110 | I22: =I18+I20 -> 74304 | J22: =J18+J20 -> 32885 | ... S22: =S18+S20 -> 0

Sheet 편입용지조서(하류)
A1: 편 입 용 지 조 서 (의 신 지 구) | R1: 공시지가 | S1: 보상금액 | T1: 조정액(3배)
A2: 토 지 소 재 지 | F2: 지목 | G2: 지 적 | H2: 편입지적 | I2: 실제 이용 현황 | J2: 소 유 자 (토 지 대 장) | L2: 관 계 인 (등 기 부 등 본) | N2: 비 고 | O2: 필지수 | P2: 소유구분
A3: 번호 | B3: 군 | C3: 면 | D3: 리 | E3: 지 번 | G3: (㎡) | H3: (㎡) | J3: 성 명 | K3: 주 소 | L3: 성 명 | M3: 주 소
A4: 152 | B4: 진도 | C4: 의신 | D4: 옥대 | E4: 산89 | F4: 임 | G4: 2479 | H4: 51 | J4: 주종렬 | K4: 전라남도 진도군 의신면 금갑리 20번지 | O4: =COUNTIF(E4,E:E) -> 1 | P4: =IF(J4="국유지", "국유지", "사유지") -> 사유지 | Q4: =P4&F4 -> 사유지임 | R4: 326 | S4: =IF(R4="-","-",H4*R4) -> 16626 | T4: =IF(R4="-","-",S4*3) -> 49878
A5: 153 | B5: 진도 | C5: 의신 | D5: 옥대 | E5: 1409 | F5: 천 | G5: 32965 | H5: 26822 | J5: 진도토지개량조합 | K5: 진도읍 성내리 43-14 | O5: =COUNTIF(E5,E:E) -> 1 | P5: =IF(J5="국유지", "국유지", "사유지") -> 사유지 | Q5: =P5&F5 -> 사유지천 | R5: - | S5: =IF(R5="-","-",H5*R5) -> - | T5: =IF(R5="-","-",S5*3) -> -
A6: 154 | B6: 진도 | C6: 의신 | D6: 옥대 | E6: 45-18 | F6: 답 | G6: 2987 | H6: 866 | J6: 김준영 | K6: 전라남도 진도군 의신면 중리길 18-10 | O6: =COUNTIF(E6,E:E) -> 1 | P6: =IF(J6="국유지", "국유지", "사유지") -> 사유지 | Q6: =P6&F6 -> 사유지답 | R6: 5590 | S6: =IF(R6="-","-",H6*R6) -> 4840940 | T6: =IF(R6="-","-",S6*3) -> 14522820
A7: 155 | B7: 진도 | C7: 의신 | D7: 옥대 | E7: 1310-8 | F7: 구 | G7: 3288 | H7: 159 | J7: 국유지 | K7: 농림수산부 | O7: =COUNTIF(E7,E:E) -> 1 | P7: =IF(J7="국유지", "국유지", "사유지") -> 국유지 | Q7: =P7&F7 -> 국유지구 | R7: 1550 | S7: =IF(R7="-","-",H7*R7) -> 246450 | T7: =IF(R7="-","-",S7*3) -> 739350
A8: 156 | B8: 진도 | C8: 의신 | D8: 옥대 | E8: 45-17 | F8: 답 | G8: 3465 | H8: 129 | J8: 김준영 | K8: 전라남도 진도군 의신면 중리길 18-10 | O8: =COUNTIF(E8,E:E) -> 1 | P8: =IF(J8="국유지", "국유지", "사유지") -> 사유지 | Q8: =P8&F8 -> 사유지답 | R8: 5590 | S8: =IF(R8="-","-",H8*R8) -> 721110 | T8: =IF(R8="-","-",S8*3) -> 2163330
A9: 157 | B9: 진도 | C9: 의신 | D9: 옥대 | E9: 45-16 | F9: 답 | G9: 2995 | H9: 41 | J9: 채성원 | K9: 전라남도 진도군 의신면 만길로 302-7 | O9: =COUNTIF(E9,E:E) -> 1 | P9: =IF(J9="국유지", "국유지", "사유지") -> 사유지 | Q9: =P9&F9 -> 사유지답 | R9: 5590 | S9: =IF(R9="-","-",H9*R9) -> 229190 | T9: =IF(R9="-","-",S9*3) -> 687570
A10: 158 | B10: 진도 | C10: 의신 | D10: 옥대 | E10: 1170 | F10: 도 | G10: 4616 | H10: 434 | J10: 국유지 | K10: 농림수산부 | O10: =COUNTIF(E10,E:E) -> 1 | P10: =IF(J10="국유지", "국유지", "사유지") -> 국유지 | Q10: =P10&F10 -> 국유지도 | R10: 1580 | S10: =IF(R10="-","-",H10*R10) -> 685720 | T10: =IF(R10="-","-",S10*3) -> 2057160
A11: 159 | B11: 진도 | C11: 의신 | D11: 옥대 | E11: 1171 | F11: 구 | G11: 1153 | H11: 262 | J11: 국유지 | K11: 농림수산부 | O11: =COUNTIF(E11,E:E) -> 1 | P11: =IF(J11="국유지", "국유지", "사유지") -> 국유지 | Q11: =P11&F11 -> 국유지구 | R11: 1580 | S11: =IF(R11="-","-",H11*R11) -> 413960 | T11: =IF(R11="-","-",S11*3) -> 1241880
A12: 160 | B12: 진도 | C12: 의신 | D12: 옥대 | E12: 46-15 | F12: 도 | G12: 931 | H12: 273 | J12: 국유지 | K12: 진도군 | O12: =COUNTIF(E12,E:E) -> 1 | P12: =IF(J12="국유지", "국유지", "사유지") -> 국유지 | Q12: =P12&F12 -> 국유지도 | R12: 1580 | S12: =IF(R12="-","-",H12*R12) -> 431340 | T12: =IF(R12="-","-",S12*3) -> 1294020
A13: 161 | B13: 진도 | C13: 의신 | D13: 옥대 | E13: 46-12 | F13: 답 | G13: 2207 | H13: 60 | J13: 김준영 | K13: 전라남도 진도군 의신면 중리길 18-10 | O13: =COUNTIF(E13,E:E) -> 1 | P13: =IF(J13="국유지", "국유지", "사유지") -> 사유지 | Q13: =P13&F13 -> 사유지답 | R13: 5590 | S13: =IF(R13="-","-",H13*R13) -> 335400 | T13: =IF(R13="-","-",S13*3) -> 1006200
A14: 162 | B14: 진도 | C14: 의신 | D14: 옥대 | E14: 1310-7 | F14: 도 | G14: 1372 | H14: 94 | J14: 국유지 | K14: 농림수산부 | O14: =COUNTIF(E14,E:E) -> 1 | P14: =IF(J14="국유지", "국유지", "사유지") -> 국유지 | Q14: =P14&F14 -> 국유지도 | R14: 1580 | S14: =IF(R14="-","-",H14*R14) -> 148520 | T14: =IF(R14="-","-",S14*3) -> 445560
A15: 163 | B15: 진도 | C15: 의신 | D15: 옥대 | E15: 1310-9 | F15: 도 | G15: 37 | H15: 37 | J15: 국유지 | K15: 진도군 | O15: =COUNTIF(E15,E:E) -> 1 | P15: =IF(J15="국유지", "국유지", "사유지") -> 국유지 | Q15: =P15&F15 -> 국유지도 | R15: 1550 | S15: =IF(R15="-","-",H15*R15) -> 57350 | T15: =IF(R15="-","-",S15*3) -> 172050
A16: 164 | B16: 진도 | C16: 의신 | D16: 옥대 | E16: 1310-6 | F16: 구 | G16: 614 | H16: 83 | J16: 국유지 | K16: 농림수산부 | O16: =COUNTIF(E16,E:E) -> 1 | P16: =IF(J16="국유지", "국유지", "사유지") -> 국유지 | Q16: =P16&F16 -> 국유지구 | R16: 1580 | S16: =IF(R16="-","-",H16*R16) -> 131140 | T16: =IF(R16="-","-",S16*3) -> 393420
A17: 165 | B17: 진도 | C17: 의신 | D17: 옥대 | E17: 1408 | F17: 제 | G17: 12992 | H17: 12992 | J17: 진도토지개량조합 | K17: 진도읍 성내리 43-14 | O17: =COUNTIF(E17,E:E) -> 1 | P17: =IF(J17="국유지", "국유지", "사유지") -> 사유지 | Q17: =P17&F17 -> 사유지제 | R17: 1550 | S17: =IF(R17="-","-",H17*R17) -> 20137600 | T17: =IF(R17="-","-",S17*3) -> 60412800
... A22: 170 | B22: 진도 | C22: 의신 | D22: 옥대 | E22: 1311-6 | F22: 답 | G22: 3126 | H22: 2113 | J22: 채성원 | K22: 전라남도 진도군 의신면 만길리 375 | O22: =COUNTIF(E22,E:E) -> 1 | P22: =IF(J22="국유지", "국유지", "사유지") -> 사유지 | Q22: =P22&F22 -> 사유지답 | R22: 4700 | S22: =IF(R22="-","-",H22*R22) -> 9931100 | T22: =IF(R22="-","-",S22*3) -> 29793300
A23: 171 | B23: 진도 | C23: 의신 | D23: 옥대 | E23: 1311-5 | F23: 답 | G23: 3000 | H23: 9 | J23: 김애신 | K23: 974 | O23: =COUNTIF(E23,E:E) -> 1 | P23: =IF(J23="국유지", "국유지", "사유지") -> 사유지 | Q23: =P23&F23 -> 사유지답 | R23: 4700 | S23: =IF(R23="-","-",H23*R23) -> 42300 | T23: =IF(R23="-","-",S23*3) -> 126900
A24: 172 | B24: 진도 | C24: 의신 | D24: 옥대 | E24: 1312-7 | F24: 도 | G24: 1470 | H24: 167 | J24: 국유지 | K24: 농림수산부 | O24: =COUNTIF(E24,E:E) -> 1 | P24: =IF(J24="국유지", "국유지", "사유지") -> 국유지 | Q24: =P24&F24 -> 국유지도 | R24: 1550 | S24: =IF(R24="-","-",H24*R24) -> 258850 | T24: =IF(R24="-","-",S24*3) -> 776550
A25: 173 | B25: 진도 | C25: 의신 | D25: 옥대 | E25: 1312-6 | F25: 답 | G25: 3465 | H25: 2129 | J25: 박근성 | K25: 전라남도 진도군 의신면 창포길 29 | O25: =COUNTIF(E25,E:E) -> 1 | P25: =IF(J25="국유지", "국유지", "사유지") -> 사유지 | Q25: =P25&F25 -> 사유지답 | R25: 4700 | S25: =IF(R25="-","-",H25*R25) -> 10006300 | T25: =IF(R25="-","-",S25*3) -> 30018900
A26: 174 | B26: 진도 | C26: 의신 | D26: 옥대 | E26: 1313-8 | F26: 도 | G26: 500 | H26: 120 | J26: 국유지 | K26: 농림수산부 | O26: =COUNTIF(E26,E:E) -> 1 | P26: =IF(J26="국유지", "국유지", "사유지") -> 국유지 | Q26: =P26&F26 -> 국유지도 | R26: 1550 | S26: =IF(R26="-","-",H26*R26) -> 186000 | T26: =IF(R26="-","-",S26*3) -> 558000
A27: 175 | B27: 진도 | C27: 의신 | D27: 옥대 | E27: 1313-7 | F27: 구 | G27: 403 | H27: 110 | J27: 국유지 | K27: 농림수산부 | O27: =COUNTIF(E27,E:E) -> 1 | P27: =IF(J27="국유지", "국유지", "사유지") -> 국유지 | Q27: =P27&F27 -> 국유지구 | R27: 1550 | S27: =IF(R27="-","-",H27*R27) -> 170500 | T27: =IF(R27="-","-",S27*3) -> 511500
A28: 176 | B28: 진도 | C28: 의신 | D28: 옥대 | E28: 1313-4 | F28: 답 | G28: 3000 | H28: 6 | J28: 최말례 | K28: 전라남도 진도군 의신면 옥대길 24-4 | O28: =COUNTIF(E28,E:E) -> 1 | P28: =IF(J28="국유지", "국유지", "사유지") -> 사유지 | Q28: =P28&F28 -> 사유지답 | R28: 4700 | S28: =IF(R28="-","-",H28*R28) -> 28200 | T28: =IF(R28="-","-",S28*3) -> 84600
A29: 177 | B29: 진도 | C29: 의신 | D29: 옥대 | E29: 1313-5 | F29: 답 | G29: 3000 | H29: 1041 | J29: 주현석 | K29: 인천광역시 남동구 호구포로 803, 2201동 1004호 | O29: =COUNTIF(E29,E:E) -> 1 | P29: =IF(J29="국유지", "국유지", "사유지") -> 사유지 | Q29: =P29&F29 -> 사유지답 | R29: 4700 | S29: =IF(R29="-","-",H29*R29) -> 4892700 | T29: =IF(R29="-","-",S29*3) -> 14678100
A30: 178 | B30: 진도 | C30: 의신 | D30: 옥대 | E30: 1313-6 | F30: 답 | G30: 1276 | H30: 1269 | J30: 박숙례 | K30: 광주광역시 북구 연제동 1007 연제1차대주피오레 104-1101 | O30: =COUNTIF(E30,E:E) -> 1 | P30: =IF(J30="국유지", "국유지", "사유지") -> 사유지 | Q30: =P30&F30 -> 사유지답 | R30: 4700 | S30: =IF(R30="-","-",H30*R30) -> 5964300 | T30: =IF(R30="-","-",S30*3) -> 17892900
A31: 179 | B31: 진도 | C31: 의신 | D31: 옥대 | E31: 1314-10 | F31: 구 | G31: 1102 | H31: 112 | J31: 국유지 | K31: 농림수산부 | O31: =COUNTIF(E31,E:E) -> 1 | P31: =IF(J31="국유지", "국유지", "사유지") -> 국유지 | Q31: =P31&F31 -> 국유지구 | R31: 1550 | S31: =IF(R31="-","-",H31*R31) -> 173600 | T31: =IF(R31="-","-",S31*3) -> 520800
A32: 180 | B32: 진도 | C32: 의신 | D32: 옥대 | E32: 1314-8 | F32: 답 | G32: 2870 | H32: 1225 | J32: 박종월 | K32: 청용리 443 | O32: =COUNTIF(E32,E:E) -> 1 | P32: =IF(J32="국유지", "국유지", "사유지") -> 사유지 | Q32: =P32&F32 -> 사유지답 | R32: 4700 | S32: =IF(R32="-","-",H32*R32) -> 5757500 | T32: =IF(R32="-","-",S32*3) -> 17272500
A33: 181 | B33: 진도 | C33: 의신 | D33: 옥대 | E33: 1314-9 | F33: 답 | G33: 1024 | H33: 1024 | J33: 박종월 | K33: 청용리 443 | O33: =COUNTIF(E33,E:E) -> 1 | P33: =IF(J33="국유지", "국유지", "사유지") -> 사유지 | Q33: =P33&F33 -> 사유지답 | R33: 4700 | S33: =IF(R33="-","-",H33*R33) -> 4812800 | T33: =IF(R33="-","-",S33*3) -> 14438400
