Workbook
Name __DemandLoad: TRUE

Sheet 편입용지조서(총괄)
A1: 편 입 용 지 조 서 | R1: 공시지가 | S1: 보상금액 | T1: 조정액(3배)
A2: 토 지 소 재 지 | F2: 지목 | G2: 지 적 | H2: 편입지적 | I2: 실제 이용 현황 | J2: 소 유 자 (토 지 대 장) | L2: 관 계 인 (등 기 부 등 본) | N2: 비 고 | O2: 필지수 | P2: 소유구분
A3: 번호 | B3: 군 | C3: 읍,면 | D3: 동,리 | E3: 지 번 | G3: (㎡) | H3: (㎡) | J3: 성 명 | K3: 주 소 | L3: 성 명 | M3: 주 소
A4: 1 | B4: 진도 | C4: 의신 | D4: 돈지 | E4: 82-16 | F4: 답 | G4: 877 | H4: 41 | J4: 이*안 | K4: 전라남도 진도군 의신면 돈지리 | O4: =COUNTIF(E4,E:E) -> 1 | P4: =IF(J4="국유지", "국유지", "사유지") -> 사유지 | Q4: =P4&F4 -> 사유지답 | R4: 4900 | S4: =IF(R4="-","-",H4*R4) -> 200900 | T4: =IF(R4="-","-",S4*3) -> 602700
A5: 2 | B5: 진도 | C5: 의신 | D5: 돈지 | E5: 53-2 | F5: 천 | G5: 258 | H5: 157 | J5: 임* | K5: 전라남도 진도군 의신면 돈지리 | O5: =COUNTIF(E5,E:E) -> 1 | P5: =IF(J5="국유지", "국유지", "사유지") -> 사유지 | Q5: =P5&F5 -> 사유지천 | R5: 3150 | S5: =IF(R5="-","-",H5*R5) -> 494550 | T5: =IF(R5="-","-",S5*3) -> 1483650
A6: 3 | B6: 진도 | C6: 의신 | D6: 돈지 | E6: 82-15 | F6: 답 | G6: 1986 | H6: 325 | J6: 이*안 | K6: 전라남도 진도군 의신면 돈지리 | O6: =COUNTIF(E6,E:E) -> 1 | P6: =IF(J6="국유지", "국유지", "사유지") -> 사유지 | Q6: =P6&F6 -> 사유지답 | R6: 4800 | S6: =IF(R6="-","-",H6*R6) -> 1560000 | T6: =IF(R6="-","-",S6*3) -> 4680000
A7: 4 | B7: 진도 | C7: 의신 | D7: 돈지 | E7: 110 | F7: 구 | G7: 1967 | H7: 381.8 | J7: 국유지 | K7: 농림축산식품부 | O7: =COUNTIF(E7,E:E) -> 1 | P7: =IF(J7="국유지", "국유지", "사유지") -> 국유지 | Q7: =P7&F7 -> 국유지구 | R7: - | S7: =IF(R7="-","-",H7*R7) -> - | T7: =IF(R7="-","-",S7*3) -> -
A8: 5 | B8: 진도 | C8: 의신 | D8: 돈지 | E8: 82-14 | F8: 답 | G8: 912 | H8: 195 | J8: 박*본 | K8: 전라남도 진도군 의신면 돈지리 | O8: =COUNTIF(E8,E:E) -> 1 | P8: =IF(J8="국유지", "국유지", "사유지") -> 사유지 | Q8: =P8&F8 -> 사유지답 | R8: 4800 | S8: =IF(R8="-","-",H8*R8) -> 936000 | T8: =IF(R8="-","-",S8*3) -> 2808000
A9: 6 | B9: 진도 | C9: 의신 | D9: 돈지 | E9: 52-2 | F9: 천 | G9: 631 | H9: 631 | J9: 박*환 | K9: 전라남도 진도군 의신면 돈지리 | O9: =COUNTIF(E9,E:E) -> 1 | P9: =IF(J9="국유지", "국유지", "사유지") -> 사유지 | Q9: =P9&F9 -> 사유지천 | R9: 3150 | S9: =IF(R9="-","-",H9*R9) -> 1987650 | T9: =IF(R9="-","-",S9*3) -> 5962950
A10: 7 | B10: 진도 | C10: 의신 | D10: 돈지 | E10: 82-13 | F10: 답 | G10: 1155 | H10: 192.1 | J10: 박*본 | K10: 전라남도 진도군 의신면 돈지리 | O10: =COUNTIF(E10,E:E) -> 1 | P10: =IF(J10="국유지", "국유지", "사유지") -> 사유지 | Q10: =P10&F10 -> 사유지답 | R10: 4800 | S10: =IF(R10="-","-",H10*R10) -> 922080 | T10: =IF(R10="-","-",S10*3) -> 2766240
A11: 8 | B11: 진도 | C11: 의신 | D11: 돈지 | E11: 82-12 | F11: 답 | G11: 2587 | H11: 247.4 | J11: 이*원 | K11: 전라남도 진도군 의신면 돈지리 | O11: =COUNTIF(E11,E:E) -> 1 | P11: =IF(J11="국유지", "국유지", "사유지") -> 사유지 | Q11: =P11&F11 -> 사유지답 | R11: 4800 | S11: =IF(R11="-","-",H11*R11) -> 1187520 | T11: =IF(R11="-","-",S11*3) -> 3562560
A12: 9 | B12: 진도 | C12: 의신 | D12: 돈지 | E12: 82-11 | F12: 답 | G12: 905 | H12: 38 | J12: 조*희외 2인 | K12: 전라남도 진도군 의신면 돈지리 | O12: =COUNTIF(E12,E:E) -> 1 | P12: =IF(J12="국유지", "국유지", "사유지") -> 사유지 | Q12: =P12&F12 -> 사유지답 | R12: 4800 | S12: =IF(R12="-","-",H12*R12) -> 182400 | T12: =IF(R12="-","-",S12*3) -> 547200
A13: 10 | B13: 진도 | C13: 의신 | D13: 돈지 | E13: 82-10 | F13: 답 | G13: 1990 | H13: 9.5 | J13: 박*언외 3인 | K13: 전라남도 진도군 의신면 돈지리 | O13: =COUNTIF(E13,E:E) -> 1 | P13: =IF(J13="국유지", "국유지", "사유지") -> 사유지 | Q13: =P13&F13 -> 사유지답 | R13: 4800 | S13: =IF(R13="-","-",H13*R13) -> 45600 | T13: =IF(R13="-","-",S13*3) -> 136800
A14: 11 | B14: 진도 | C14: 의신 | D14: 돈지 | E14: 83-6 | F14: 답 | G14: 1274 | H14: 649.5 | J14: 박*식외 2인 | K14: 전라남도 진도군 의신면 돈지리 | O14: =COUNTIF(E14,E:E) -> 1 | P14: =IF(J14="국유지", "국유지", "사유지") -> 사유지 | Q14: =P14&F14 -> 사유지답 | R14: 4650 | S14: =IF(R14="-","-",H14*R14) -> 3020175 | T14: =IF(R14="-","-",S14*3) -> 9060525
A15: 12 | B15: 진도 | C15: 의신 | D15: 돈지 | E15: 1029 | F15: 천 | G15: 13048 | H15: 13048 | J15: 국유지 | K15: 국토교통부 | O15: =COUNTIF(E15,E:E) -> 1 | P15: =IF(J15="국유지", "국유지", "사유지") -> 국유지 | Q15: =P15&F15 -> 국유지천 | R15: - | S15: =IF(R15="-","-",H15*R15) -> - | T15: =IF(R15="-","-",S15*3) -> -
A16: 13 | B16: 진도 | C16: 의신 | D16: 돈지 | E16: 48 | F16: 천 | G16: 1304 | H16: 1304 | J16: 조* | K16: 서울특별시 송파구 올림픽로 43길 30,) | O16: =COUNTIF(E16,E:E) -> 1 | P16: =IF(J16="국유지", "국유지", "사유지") -> 사유지 | Q16: =P16&F16 -> 사유지천 | R16: 3150 | S16: =IF(R16="-","-",H16*R16) -> 4107600 | T16: =IF(R16="-","-",S16*3) -> 12322800
A17: 14 | B17: 진도 | C17: 의신 | D17: 돈지 | E17: 83-5 | F17: 답 | G17: 2285 | H17: 536.1 | J17: 박*심 | K17: 전라남도 진도군 의신면 돈지리 | O17: =COUNTIF(E17,E:E) -> 1 | P17: =IF(J17="국유지", "국유지", "사유지") -> 사유지 | Q17: =P17&F17 -> 사유지답 | R17: 4650 | S17: =IF(R17="-","-",H17*R17) -> 2492865 | T17: =IF(R17="-","-",S17*3) -> 7478595
A18: 15 | B18: 진도 | C18: 의신 | D18: 돈지 | E18: 111 | F18: 구 | G18: 403 | H18: 395 | J18: 국유지 | K18: 농림축산식품부 | O18: =COUNTIF(E18,E:E) -> 1 | P18: =IF(J18="국유지", "국유지", "사유지") -> 국유지 | Q18: =P18&F18 -> 국유지구 | R18: - | S18: =IF(R18="-","-",H18*R18) -> - | T18: =IF(R18="-","-",S18*3) -> -
A19: 16 | B19: 진도 | C19: 의신 | D19: 돈지 | E19: 72-1 | F19: 답 | G19: 453 | H19: 453 | J19: 이*덕 | K19: 전라남도 진도군 의신면 돈지리 | O19: =COUNTIF(E19,E:E) -> 1 | P19: =IF(J19="국유지", "국유지", "사유지") -> 사유지 | Q19: =P19&F19 -> 사유지답 | R19: 990 | S19: =IF(R19="-","-",H19*R19) -> 448470 | T19: =IF(R19="-","-",S19*3) -> 1345410
A20: 17 | B20: 진도 | C20: 의신 | D20: 돈지 | E20: 83-4 | F20: 답 | G20: 1418 | H20: 301 | J20: 박*심 | K20: 전라남도 진도군 의신면 돈지리 | O20: =COUNTIF(E20,E:E) -> 1 | P20: =IF(J20="국유지", "국유지", "사유지") -> 사유지 | Q20: =P20&F20 -> 사유지답 | R20: 4650 | S20: =IF(R20="-","-",H20*R20) -> 1399650 | T20: =IF(R20="-","-",S20*3) -> 4198950
A21: 18 | B21: 진도 | C21: 의신 | D21: 돈지 | E21: 83-3 | F21: 답 | G21: 3056 | H21: 459 | J21: 박*락 | K21: 부산시 남구 수영동 437-1 현대APT | O21: =COUNTIF(E21,E:E) -> 1 | P21: =IF(J21="국유지", "국유지", "사유지") -> 사유지 | Q21: =P21&F21 -> 사유지답 | R21: 4650 | S21: =IF(R21="-","-",H21*R21) -> 2134350 | T21: =IF(R21="-","-",S21*3) -> 6403050
A22: 19 | B22: 진도 | C22: 의신 | D22: 돈지 | E22: 83-2 | F22: 답 | G22: 2000 | H22: 115 | J22: 이*덕 | K22: 전라남도 진도군 의신면 돈지리 | O22: =COUNTIF(E22,E:E) -> 1 | P22: =IF(J22="국유지", "국유지", "사유지") -> 사유지 | Q22: =P22&F22 -> 사유지답 | R22: 4650 | S22: =IF(R22="-","-",H22*R22) -> 534750 | T22: =IF(R22="-","-",S22*3) -> 1604250
A23: 20 | B23: 진도 | C23: 의신 | D23: 돈지 | E23: 83-1 | F23: 답 | G23: 1000 | H23: 29 | J23: 조*식 | K23: 전라남도 광양시 진등6길 51, | O23: =COUNTIF(E23,E:E) -> 1 | P23: =IF(J23="국유지", "국유지", "사유지") -> 사유지 | Q23: =P23&F23 -> 사유지답 | R23: 4650 | S23: =IF(R23="-","-",H23*R23) -> 134850 | T23: =IF(R23="-","-",S23*3) -> 404550
A24: 21 | B24: 진도 | C24: 의신 | D24: 돈지 | E24: 112 | F24: 도 | G24: 176 | H24: 176 | J24: 국유지 | K24: 농림축산식품부 | O24: =COUNTIF(E24,E:E) -> 1 | P24: =IF(J24="국유지", "국유지", "사유지") -> 국유지 | Q24: =P24&F24 -> 국유지도 | R24: - | S24: =IF(R24="-","-",H24*R24) -> - | T24: =IF(R24="-","-",S24*3) -> -
A25: 22 | B25: 진도 | C25: 의신 | D25: 돈지 | E25: 84 | F25: 답 | G25: 1100 | H25: 1100 | J25: 이*덕 | K25: 전라남도 진도군 의신면 돈지리 | O25: =COUNTIF(E25,E:E) -> 1 | P25: =IF(J25="국유지", "국유지", "사유지") -> 사유지 | Q25: =P25&F25 -> 사유지답 | R25: 4650 | S25: =IF(R25="-","-",H25*R25) -> 5115000 | T25: =IF(R25="-","-",S25*3) -> 15345000
A26: 23 | B26: 진도 | C26: 의신 | D26: 돈지 | E26: 72 | F26: 답 | G26: 253 | H26: 253 | J26: 이*덕 | K26: 전라남도 진도군 의신면 돈지리 | O26: =COUNTIF(E26,E:E) -> 1 | P26: =IF(J26="국유지", "국유지", "사유지") -> 사유지 | Q26: =P26&F26 -> 사유지답 | R26: 990 | S26: =IF(R26="-","-",H26*R26) -> 250470 | T26: =IF(R26="-","-",S26*3) -> 751410
A27: 24 | B27: 진도 | C27: 의신 | D27: 돈지 | E27: 95 | F27: 구 | G27: 7161 | H27: 786 | J27: 국유지 | K27: 농림축산식품부 | O27: =COUNTIF(E27,E:E) -> 1 | P27: =IF(J27="국유지", "국유지", "사유지") -> 국유지 | Q27: =P27&F27 -> 국유지구 | R27: - | S27: =IF(R27="-","-",H27*R27) -> - | T27: =IF(R27="-","-",S27*3) -> -
A28: 25 | B28: 진도 | C28: 의신 | D28: 돈지 | E28: 1033-2 | F28: 도 | G28: 29 | H28: 29 | J28: 국유지 | K28: 국토교통부 | O28: =COUNTIF(E28,E:E) -> 1 | P28: =IF(J28="국유지", "국유지", "사유지") -> 국유지 | Q28: =P28&F28 -> 국유지도 | R28: - | S28: =IF(R28="-","-",H28*R28) -> - | T28: =IF(R28="-","-",S28*3) -> -
A29: 26 | B29: 진도 | C29: 의신 | D29: 돈지 | E29: 80-23 | F29: 답 | G29: 1474 | H29: 864 | J29: 김*덕 | K29: 전라남도 진도군 의신면 돈지리 | O29: =COUNTIF(E29,E:E) -> 1 | P29: =IF(J29="국유지", "국유지", "사유지") -> 사유지 | Q29: =P29&F29 -> 사유지답 | R29: 4800 | S29: =IF(R29="-","-",H29*R29) -> 4147200 | T29: =IF(R29="-","-",S29*3) -> 12441600
A30: 27 | B30: 진도 | C30: 의신 | D30: 돈지 | E30: 80-22 | F30: 답 | G30: 1111 | H30: 516 | J30: 김*덕 | K30: 전라남도 진도군 의신면 돈지리 | O30: =COUNTIF(E30,E:E) -> 1 | P30: =IF(J30="국유지", "국유지", "사유지") -> 사유지 | Q30: =P30&F30 -> 사유지답 | R30: 4800 | S30: =IF(R30="-","-",H30*R30) -> 2476800 | T30: =IF(R30="-","-",S30*3) -> 7430400
A31: 28 | B31: 진도 | C31: 의신 | D31: 돈지 | E31: 80-21 | F31: 답 | G31: 1846 | H31: 163 | J31: 채*일 | K31: 전라남도 진도군 의신면 만길리 | O31: =COUNTIF(E31,E:E) -> 1 | P31: =IF(J31="국유지", "국유지", "사유지") -> 사유지 | Q31: =P31&F31 -> 사유지답 | R31: 4800 | S31: =IF(R31="-","-",H31*R31) -> 782400 | T31: =IF(R31="-","-",S31*3) -> 2347200
A32: 29 | B32: 진도 | C32: 의신 | D32: 돈지 | E32: 105 | F32: 구 | G32: 1904 | H32: 286 | J32: 국유지 | K32: 농림축산식품부 | O32: =COUNTIF(E32,E:E) -> 1 | P32: =IF(J32="국유지", "국유지", "사유지") -> 국유지 | Q32: =P32&F32 -> 국유지구 | R32: - | S32: =IF(R32="-","-",H32*R32) -> - | T32: =IF(R32="-","-",S32*3) -> -
A33: 30 | B33: 진도 | C33: 의신 | D33: 돈지 | E33: 106 | F33: 제 | G33: 2788 | H33: 468 | J33: 국유지 | K33: 농림축산식품부 | O33: =COUNTIF(E33,E:E) -> 1 | P33: =IF(J33="국유지", "국유지", "사유지") -> 국유지 | Q33: =P33&F33 -> 국유지제 | R33: - | S33: =IF(R33="-","-",H33*R33) -> - | T33: =IF(R33="-","-",S33*3) -> -
A34: 31 | B34: 진도 | C34: 의신 | D34: 돈지 | E34: 107 | F34: 천 | G34: 7332 | H34: 1099 | J34: 국유지 | K34: 농림축산식품부 | O34: =COUNTIF(E34,E:E) -> 1 | P34: =IF(J34="국유지", "국유지", "사유지") -> 국유지 | Q34: =P34&F34 -> 국유지천 | R34: - | S34: =IF(R34="-","-",H34*R34) -> - | T34: =IF(R34="-","-",S34*3) -> -
A35: 32 | B35: 진도 | C35: 의신 | D35: 돈지 | E35: 50-2 | F35: 천 | G35: 1458 | H35: 608 | J35: 조*희 | K35: 전라남도 진도군 의신면 돈지리 | O35: =COUNTIF(E35,E:E) -> 1 | P35: =IF(J35="국유지", "국유지", "사유지") -> 사유지 | Q35: =P35&F35 -> 사유지천 | R35: 3150 | S35: =IF(R35="-","-",H35*R35) -> 1915200 | T35: =IF(R35="-","-",S35*3) -> 5745600
A36: 33 | B36: 진도 | C36: 의신 | D36: 돈지 | E36: 1054 | F36: 천 | G36: 1024.5 | H36: 220 | J36: 국유지 | K36: 국토교통부 | O36: =COUNTIF(E36,E:E) -> 1 | P36: =IF(J36="국유지", "국유지", "사유지") -> 국유지 | Q36: =P36&F36 -> 국유지천 | R36: - | S36: =IF(R36="-","-",H36*R36) -> - | T36: =IF(R36="-","-",S36*3) -> -
A37: 34 | B37: 진도 | C37: 의신 | D37: 돈지 | E37: 1045 | F37: 도 | G37: 2871.2 | H37: 275 | J37: 국유지 | K37: 농림축산식품부 | O37: =COUNTIF(E37,E:E) -> 1 | P37: =IF(J37="국유지", "국유지", "사유지") -> 국유지 | Q37: =P37&F37 -> 국유지도 | R37: - | S37: =IF(R37="-","-",H37*R37) -> - | T37: =IF(R37="-","-",S37*3) -> -
A38: 35 | B38: 진도 | C38: 의신 | D38: 돈지 | E38: 1046 | F38: 구 | G38: 1095.2 | H38: 78 | J38: 국유지 | K38: 농림축산식품부 | O38: =COUNTIF(E38,E:E) -> 1 | P38: =IF(J38="국유지", "국유지", "사유지") -> 국유지 | Q38: =P38&F38 -> 국유지구 | R38: - | S38: =IF(R38="-","-",H38*R38) -> - | T38: =IF(R38="-","-",S38*3) -> -
A39: 36 | B39: 진도 | C39: 의신 | D39: 돈지 | E39: 1041-7 | F39: 답 | G39: 1034.6 | H39: 408 | J39: 박*심 | K39: 전라남도 진도군 의신면 돈지2길 | O39: =COUNTIF(E39,E:E) -> 1 | P39: =IF(J39="국유지", "국유지", "사유지") -> 사유지 | Q39: =P39&F39 -> 사유지답 | R39: 4040 | S39: =IF(R39="-","-",H39*R39) -> 1648320 | T39: =IF(R39="-","-",S39*3) -> 4944960
A40: 37 | B40: 진도 | C40: 의신 | D40: 돈지 | E40: 1048-2 | F40: 구 | G40: 3773.5 | H40: 427 | J40: 국유지 | K40: 농림축산식품부 | O40: =COUNTIF(E40,E:E) -> 1 | P40: =IF(J40="국유지", "국유지", "사유지") -> 국유지 | Q40: =P40&F40 -> 국유지구 | R40: - | S40: =IF(R40="-","-",H40*R40) -> - | T40: =IF(R40="-","-",S40*3) -> -
A41: 38 | B41: 진도 | C41: 의신 | D41: 돈지 | E41: 1052 | F41: 도 | G41: 426.9 | H41: 274 | J41: 국유지 | K41: 농림축산식품부 | O41: =COUNTIF(E41,E:E) -> 1 | P41: =IF(J41="국유지", "국유지", "사유지") -> 국유지 | Q41: =P41&F41 -> 국유지도 | R41: - | S41: =IF(R41="-","-",H41*R41) -> - | T41: =IF(R41="-","-",S41*3) -> -
A42: 39 | B42: 진도 | C42: 의신 | D42: 돈지 | E42: 51-2 | F42: 천 | G42: 2215 | H42: 2215 | J42: 이*수 외2인 | K42: 전라남도 진도군 의신면 돈지리 | O42: =COUNTIF(E42,E:E) -> 1 | P42: =IF(J42="국유지", "국유지", "사유지") -> 사유지 | Q42: =P42&F42 -> 사유지천 | R42: 1050 | S42: =IF(R42="-","-",H42*R42) -> 2325750 | T42: =IF(R42="-","-",S42*3) -> 6977250
A43: 40 | B43: 진도 | C43: 의신 | D43: 돈지 | E43: 1042-1 | F43: 답 | G43: 2606.7 | H43: 832.4 | J43: 조*창 | K43: 전라남도 진도군 의신면 돈지리 | O43: =COUNTIF(E43,E:E) -> 1 | P43: =IF(J43="국유지", "국유지", "사유지") -> 사유지 | Q43: =P43&F43 -> 사유지답 | R43: 4600 | S43: =IF(R43="-","-",H43*R43) -> 3829040 | T43: =IF(R43="-","-",S43*3) -> 11487120
A44: 41 | B44: 진도 | C44: 의신 | D44: 돈지 | E44: 1049 | F44: 도 | G44: 1806.2 | H44: 1793 | J44: 국유지 | K44: 농림축산식품부 | O44: =COUNTIF(E44,E:E) -> 1 | P44: =IF(J44="국유지", "국유지", "사유지") -> 국유지 | Q44: =P44&F44 -> 국유지도 | R44: - | S44: =IF(R44="-","-",H44*R44) -> - | T44: =IF(R44="-","-",S44*3) -> -
A45: 42 | B45: 진도 | C45: 의신 | D45: 돈지 | E45: 1050 | F45: 구 | G45: 846 | H45: 846 | J45: 국유지 | K45: 농림축산식품부 | O45: =COUNTIF(E45,E:E) -> 1 | P45: =IF(J45="국유지", "국유지", "사유지") -> 국유지 | Q45: =P45&F45 -> 국유지구 | R45: - | S45: =IF(R45="-","-",H45*R45) -> - | T45: =IF(R45="-","-",S45*3) -> -
A46: 43 | B46: 진도 | C46: 의신 | D46: 돈지 | E46: 1042-2 | F46: 답 | G46: 342.2 | H46: 89 | J46: 박*식 | K46: 전라남도 진도군 의신면 돈지리 | O46: =COUNTIF(E46,E:E) -> 1 | P46: =IF(J46="국유지", "국유지", "사유지") -> 사유지 | Q46: =P46&F46 -> 사유지답 | R46: 4600 | S46: =IF(R46="-","-",H46*R46) -> 409400 | T46: =IF(R46="-","-",S46*3) -> 1228200
A47: 44 | B47: 진도 | C47: 의신 | D47: 돈지 | E47: 1051 | F47: 도 | G47: 271 | H47: 85 | J47: 국유지 | K47: 농림축산식품부 | O47: =COUNTIF(E47,E:E) -> 1 | P47: =IF(J47="국유지", "국유지", "사유지") -> 국유지 | Q47: =P47&F47 -> 국유지도 | R47: - | S47: =IF(R47="-","-",H47*R47) -> - | T47: =IF(R47="-","-",S47*3) -> -
A48: 45 | B48: 진도 | C48: 의신 | D48: 돈지 | E48: 1043-1 | F48: 답 | G48: 4218.9 | H48: 983 | J48: 박*식 | K48: 전라남도 진도군 의신면 돈지리 | O48: =COUNTIF(E48,E:E) -> 1 | P48: =IF(J48="국유지", "국유지", "사유지") -> 사유지 | Q48: =P48&F48 -> 사유지답 | R48: 4600 | S48: =IF(R48="-","-",H48*R48) -> 4521800 | T48: =IF(R48="-","-",S48*3) -> 13565400
A49: 46 | B49: 진도 | C49: 의신 | D49: 돈지 | E49: 1043-2 | F49: 답 | G49: 847.8 | H49: 218 | J49: 박*식 | K49: 전라남도 진도군 의신면 돈지리 | O49: =COUNTIF(E49,E:E) -> 1 | P49: =IF(J49="국유지", "국유지", "사유지") -> 사유지 | Q49: =P49&F49 -> 사유지답 | R49: 4600 | S49: =IF(R49="-","-",H49*R49) -> 1002800 | T49: =IF(R49="-","-",S49*3) -> 3008400
A50: 47 | B50: 진도 | C50: 의신 | D50: 돈지 | E50: 1043-3 | F50: 답 | G50: 2847.4 | H50: 838.3 | J50: 박*현 | K50: 서울시 송파구 방이동 225 한양3차APT | O50: =COUNTIF(E50,E:E) -> 1 | P50: =IF(J50="국유지", "국유지", "사유지") -> 사유지 | Q50: =P50&F50 -> 사유지답 | R50: 4600 | S50: =IF(R50="-","-",H50*R50) -> 3856180 | T50: =IF(R50="-","-",S50*3) -> 11568540
A51: 48 | B51: 진도 | C51: 의신 | D51: 돈지 | E51: 1043-4 | F51: 답 | G51: 2499.1 | H51: 860.6 | J51: 박*대 | K51: 전라남도 진도군 의신면 돈지리 | O51: =COUNTIF(E51,E:E) -> 1 | P51: =IF(J51="국유지", "국유지", "사유지") -> 사유지 | Q51: =P51&F51 -> 사유지답 | R51: 4600 | S51: =IF(R51="-","-",H51*R51) -> 3958760 | T51: =IF(R51="-","-",S51*3) -> 11876280
A52: 49 | B52: 진도 | C52: 의신 | D52: 돈지 | E52: 1043-5 | F52: 답 | G52: 2570.9 | H52: 801.6 | J52: 허*관 | K52: 전라남도 진도군 진도읍 교동리 | O52: =COUNTIF(E52,E:E) -> 1 | P52: =IF(J52="국유지", "국유지", "사유지") -> 사유지 | Q52: =P52&F52 -> 사유지답 | R52: 4600 | S52: =IF(R52="-","-",H52*R52) -> 3687360 | T52: =IF(R52="-","-",S52*3) -> 11062080
A53: 50 | B53: 진도 | C53: 의신 | D53: 돈지 | E53: 1043-6 | F53: 답 | G53: 1780 | H53: 493.7 | J53: 허*관 | K53: 전라남도 진도군 진도읍 교동리 | O53: =COUNTIF(E53,E:E) -> 1 | P53: =IF(J53="국유지", "국유지", "사유지") -> 사유지 | Q53: =P53&F53 -> 사유지답 | R53: 4600 | S53: =IF(R53="-","-",H53*R53) -> 2271020 | T53: =IF(R53="-","-",S53*3) -> 6813060
A54: 51 | B54: 진도 | C54: 의신 | D54: 돈지 | E54: 1055 | F54: 천 | G54: 493.5 | H54: 493.5 | J54: 국유지 | K54: 국토교통부 | O54: =COUNTIF(E54,E:E) -> 1 | P54: =IF(J54="국유지", "국유지", "사유지") -> 국유지 | Q54: =P54&F54 -> 국유지천 | R54: - | S54: =IF(R54="-","-",H54*R54) -> - | T54: =IF(R54="-","-",S54*3) -> -
A55: 52 | B55: 진도 | C55: 의신 | D55: 돈지 | E55: 1043-7 | F55: 답 | G55: 1055.9 | H55: 250 | J55: 허*관 | K55: 전라남도 진도군 진도읍 교동리 | O55: =COUNTIF(E55,E:E) -> 1 | P55: =IF(J55="국유지", "국유지", "사유지") -> 사유지 | Q55: =P55&F55 -> 사유지답 | R55: 4600 | S55: =IF(R55="-","-",H55*R55) -> 1150000 | T55: =IF(R55="-","-",S55*3) -> 3450000
A56: 53 | B56: 진도 | C56: 의신 | D56: 돈지 | E56: 1043-8 | F56: 답 | G56: 3101.1 | H56: 501.8 | J56: 이*예 | K56: 전라남도 진도군 의신면 돈지1길 | O56: =COUNTIF(E56,E:E) -> 1 | P56: =IF(J56="국유지", "국유지", "사유지") -> 사유지 | Q56: =P56&F56 -> 사유지답 | R56: 4600 | S56: =IF(R56="-","-",H56*R56) -> 2308280 | T56: =IF(R56="-","-",S56*3) -> 6924840
A57: 54 | B57: 진도 | C57: 의신 | D57: 돈지 | E57: 1043-9 | F57: 답 | G57: 3333.5 | H57: 350.9 | J57: 채*일 | K57: 전라남도 진도군 의신면 만길리 | O57: =COUNTIF(E57,E:E) -> 1 | P57: =IF(J57="국유지", "국유지", "사유지") -> 사유지 | Q57: =P57&F57 -> 사유지답 | R57: 4600 | S57: =IF(R57="-","-",H57*R57) -> 1614140 | T57: =IF(R57="-","-",S57*3) -> 4842420
A58: 55 | B58: 진도 | C58: 의신 | D58: 돈지 | E58: 1043-10 | F58: 답 | G58: 1451.5 | H58: 154 | J58: 채*일 | K58: 전라남도 진도군 의신면 만길리 | O58: =COUNTIF(E58,E:E) -> 1 | P58: =IF(J58="국유지", "국유지", "사유지") -> 사유지 | Q58: =P58&F58 -> 사유지답 | R58: 4600 | S58: =IF(R58="-","-",H58*R58) -> 708400 | T58: =IF(R58="-","-",S58*3) -> 2125200
A59: 56 | B59: 진도 | C59: 의신 | D59: 돈지 | E59: 1043-11 | F59: 답 | G59: 1923.6 | H59: 251 | J59: 채*일 | K59: 전라남도 진도군 의신면 만길리 | O59: =COUNTIF(E59,E:E) -> 1 | P59: =IF(J59="국유지", "국유지", "사유지") -> 사유지 | Q59: =P59&F59 -> 사유지답 | R59: 4600 | S59: =IF(R59="-","-",H59*R59) -> 1154600 | T59: =IF(R59="-","-",S59*3) -> 3463800
A60: 57 | B60: 진도 | C60: 의신 | D60: 돈지 | E60: 1043-12 | F60: 답 | G60: 1194.2 | H60: 209.8 | J60: 채*일 | K60: 전라남도 진도군 의신면 만길리 | O60: =COUNTIF(E60,E:E) -> 1 | P60: =IF(J60="국유지", "국유지", "사유지") -> 사유지 | Q60: =P60&F60 -> 사유지답 | R60: 4600 | S60: =IF(R60="-","-",H60*R60) -> 965080 | T60: =IF(R60="-","-",S60*3) -> 2895240
A61: 58 | B61: 진도 | C61: 의신 | D61: 돈지 | E61: 1043-13 | F61: 답 | G61: 1839 | H61: 315 | J61: 채*일 | K61: 전라남도 진도군 의신면 만길리 | O61: =COUNTIF(E61,E:E) -> 1 | P61: =IF(J61="국유지", "국유지", "사유지") -> 사유지 | Q61: =P61&F61 -> 사유지답 | R61: 4600 | S61: =IF(R61="-","-",H61*R61) -> 1449000 | T61: =IF(R61="-","-",S61*3) -> 4347000
A62: 59 | B62: 진도 | C62: 의신 | D62: 돈지 | E62: 1043-14 | F62: 답 | G62: 2701 | H62: 412.1 | J62: 홍*례 | K62: 전라남도 진도군 의신면 옥대리 | O62: =COUNTIF(E62,E:E) -> 1 | P62: =IF(J62="국유지", "국유지", "사유지") -> 사유지 | Q62: =P62&F62 -> 사유지답 | R62: 4600 | S62: =IF(R62="-","-",H62*R62) -> 1895660 | T62: =IF(R62="-","-",S62*3) -> 5686980
A63: 60 | B63: 진도 | C63: 의신 | D63: 돈지 | E63: 1043-15 | F63: 답 | G63: 1255.4 | H63: 140.5 | J63: 홍*례 | K63: 전라남도 진도군 의신면 옥대리 | O63: =COUNTIF(E63,E:E) -> 1 | P63: =IF(J63="국유지", "국유지", "사유지") -> 사유지 | Q63: =P63&F63 -> 사유지답 | R63: 4460 | S63: =IF(R63="-","-",H63*R63) -> 626630 | T63: =IF(R63="-","-",S63*3) -> 1879890
A64: 61 | B64: 진도 | C64: 의신 | D64: 돈지 | E64: 1043-16 | F64: 답 | G64: 962 | H64: 63.7 | J64: 홍*례 | K64: 전라남도 진도군 의신면 옥대리 | O64: =COUNTIF(E64,E:E) -> 1 | P64: =IF(J64="국유지", "국유지", "사유지") -> 사유지 | Q64: =P64&F64 -> 사유지답 | R64: 4460 | S64: =IF(R64="-","-",H64*R64) -> 284102 | T64: =IF(R64="-","-",S64*3) -> 852306
A65: 62 | B65: 진도 | C65: 의신 | D65: 돈지 | E65: 1043-17 | F65: 답 | G65: 1206.9 | H65: 13.4 | J65: 홍*례 | K65: 전라남도 진도군 의신면 옥대리 | O65: =COUNTIF(E65,E:E) -> 1 | P65: =IF(J65="국유지", "국유지", "사유지") -> 사유지 | Q65: =P65&F65 -> 사유지답 | R65: 4460 | S65: =IF(R65="-","-",H65*R65) -> 59764 | T65: =IF(R65="-","-",S65*3) -> 179292
A66: 63 | B66: 진도 | C66: 의신 | D66: 돈지 | E66: 1043-20 | F66: 답 | G66: 561 | H66: 56 | J66: 국유지 | K66: 전라남도 | O66: =COUNTIF(E66,E:E) -> 1 | P66: =IF(J66="국유지", "국유지", "사유지") -> 국유지 | Q66: =P66&F66 -> 국유지답 | R66: - | S66: =IF(R66="-","-",H66*R66) -> - | T66: =IF(R66="-","-",S66*3) -> -
A67: 64 | B67: 진도 | C67: 의신 | D67: 돈지 | E67: 1053 | F67: 구 | G67: 3025.3 | H67: 50 | J67: 국유지 | K67: 농림축산식품부 | O67: =COUNTIF(E67,E:E) -> 1 | P67: =IF(J67="국유지", "국유지", "사유지") -> 국유지 | Q67: =P67&F67 -> 국유지구 | R67: - | S67: =IF(R67="-","-",H67*R67) -> - | T67: =IF(R67="-","-",S67*3) -> -
A68: 65 | B68: 진도 | C68: 의신 | D68: 돈지 | E68: 14 | F68: 천 | G68: 179 | H68: 179 | J68: 조*황 | O68: =COUNTIF(E68,E:E) -> 1 | P68: =IF(J68="국유지", "국유지", "사유지") -> 사유지 | Q68: =P68&F68 -> 사유지천 | R68: 1050 | S68: =IF(R68="-","-",H68*R68) -> 187950 | T68: =IF(R68="-","-",S68*3) -> 563850
A69: 66 | B69: 진도 | C69: 의신 | D69: 돈지 | E69: 산98 | F69: 임 | G69: 14777 | H69: 237 | J69: 박*정 외1인 | K69: 전라남도 진도군 의신면 돈지리 | O69: =COUNTIF(E69,E:E) -> 1 | P69: =IF(J69="국유지", "국유지", "사유지") -> 사유지 | Q69: =P69&F69 -> 사유지임 | R69: 252 | S69: =IF(R69="-","-",H69*R69) -> 59724 | T69: =IF(R69="-","-",S69*3) -> 179172
A70: 67 | B70: 진도 | C70: 의신 | D70: 옥대 | E70: 1147 | F70: 제 | G70: 2566 | H70: 446 | J70: 국유지 | K70: 농림축산식품부 | O70: =COUNTIF(E70,E:E) -> 1 | P70: =IF(J70="국유지", "국유지", "사유지") -> 국유지 | Q70: =P70&F70 -> 국유지제 | R70: - | S70: =IF(R70="-","-",H70*R70) -> - | T70: =IF(R70="-","-",S70*3) -> -
A71: 68 | B71: 진도 | C71: 의신 | D71: 옥대 | E71: 1148 | F71: 구 | G71: 1868 | H71: 288 | J71: 국유지 | K71: 농림축산식품부 | O71: =COUNTIF(E71,E:E) -> 1 | P71: =IF(J71="국유지", "국유지", "사유지") -> 국유지 | Q71: =P71&F71 -> 국유지구 | R71: - | S71: =IF(R71="-","-",H71*R71) -> - | T71: =IF(R71="-","-",S71*3) -> -
A72: 69 | B72: 진도 | C72: 의신 | D72: 옥대 | E72: 37-19 | F72: 답 | G72: 1427 | H72: 43 | J72: 박*우 | K72: 전라남도 목포시 중앙동 | O72: =COUNTIF(E72,E:E) -> 1 | P72: =IF(J72="국유지", "국유지", "사유지") -> 사유지 | Q72: =P72&F72 -> 사유지답 | R72: 4600 | S72: =IF(R72="-","-",H72*R72) -> 197800 | T72: =IF(R72="-","-",S72*3) -> 593400
A73: 70 | B73: 진도 | C73: 의신 | D73: 옥대 | E73: 37-18 | F73: 답 | G73: 1600 | H73: 39 | J73: 박*우 | K73: 전라남도 목포시 중앙동 | O73: =COUNTIF(E73,E:E) -> 1 | P73: =IF(J73="국유지", "국유지", "사유지") -> 사유지 | Q73: =P73&F73 -> 사유지답 | R73: 4600 | S73: =IF(R73="-","-",H73*R73) -> 179400 | T73: =IF(R73="-","-",S73*3) -> 538200
A74: 71 | B74: 진도 | C74: 의신 | D74: 옥대 | E74: 37-20 | F74: 답 | G74: 1824 | H74: 429 | J74: 김*곤 | K74: 전라남도 목포시 옥암로96번길 | O74: =COUNTIF(E74,E:E) -> 1 | P74: =IF(J74="국유지", "국유지", "사유지") -> 사유지 | Q74: =P74&F74 -> 사유지답 | R74: 4600 | S74: =IF(R74="-","-",H74*R74) -> 1973400 | T74: =IF(R74="-","-",S74*3) -> 5920200
A75: 72 | B75: 진도 | C75: 의신 | D75: 옥대 | E75: 1128 | F75: 천 | G75: 477 | H75: 474 | J75: 국유지 | K75: 진도군 | O75: =COUNTIF(E75,E:E) -> 1 | P75: =IF(J75="국유지", "국유지", "사유지") -> 국유지 | Q75: =P75&F75 -> 국유지천 | R75: - | S75: =IF(R75="-","-",H75*R75) -> - | T75: =IF(R75="-","-",S75*3) -> -
A76: 73 | B76: 진도 | C76: 의신 | D76: 옥대 | E76: 37-21 | F76: 답 | G76: 452 | H76: 452 | J76: 국유지 | K76: 기획재정부 | O76: =COUNTIF(E76,E:E) -> 1 | P76: =IF(J76="국유지", "국유지", "사유지") -> 국유지 | Q76: =P76&F76 -> 국유지답 | R76: - | S76: =IF(R76="-","-",H76*R76) -> - | T76: =IF(R76="-","-",S76*3) -> -
A77: 74 | B77: 진도 | C77: 의신 | D77: 옥대 | E77: 1296-2 | F77: 천 | G77: 394 | H77: 371 | J77: 국유지 | K77: 국토교통부 | O77: =COUNTIF(E77,E:E) -> 1 | P77: =IF(J77="국유지", "국유지", "사유지") -> 국유지 | Q77: =P77&F77 -> 국유지천 | R77: - | S77: =IF(R77="-","-",H77*R77) -> - | T77: =IF(R77="-","-",S77*3) -> -
A78: 75 | B78: 진도 | C78: 의신 | D78: 옥대 | E78: 1131-3 | F78: 천 | G78: 6148 | H78: 6148 | J78: 국유지 | K78: 전라남도 | O78: =COUNTIF(E78,E:E) -> 1 | P78: =IF(J78="국유지", "국유지", "사유지") -> 국유지 | Q78: =P78&F78 -> 국유지천 | R78: - | S78: =IF(R78="-","-",H78*R78) -> - | T78: =IF(R78="-","-",S78*3) -> -
A79: 76 | B79: 진도 | C79: 의신 | D79: 옥대 | E79: 1149 | F79: 제 | G79: 65 | H79: 64 | J79: 국유지 | K79: 농림축산식품부 | O79: =COUNTIF(E79,E:E) -> 1 | P79: =IF(J79="국유지", "국유지", "사유지") -> 국유지 | Q79: =P79&F79 -> 국유지제 | R79: - | S79: =IF(R79="-","-",H79*R79) -> - | T79: =IF(R79="-","-",S79*3) -> -
A80: 77 | B80: 진도 | C80: 의신 | D80: 옥대 | E80: 1150 | F80: 구 | G80: 1431 | H80: 98 | J80: 국유지 | K80: 농림축산식품부 | O80: =COUNTIF(E80,E:E) -> 1 | P80: =IF(J80="국유지", "국유지", "사유지") -> 국유지 | Q80: =P80&F80 -> 국유지구 | R80: - | S80: =IF(R80="-","-",H80*R80) -> - | T80: =IF(R80="-","-",S80*3) -> -
A81: 78 | B81: 진도 | C81: 의신 | D81: 옥대 | E81: 1151 | F81: 도 | G81: 1738 | H81: 152 | J81: 국유지 | K81: 농림축산식품부 | O81: =COUNTIF(E81,E:E) -> 1 | P81: =IF(J81="국유지", "국유지", "사유지") -> 국유지 | Q81: =P81&F81 -> 국유지도 | R81: - | S81: =IF(R81="-","-",H81*R81) -> - | T81: =IF(R81="-","-",S81*3) -> -
A82: 79 | B82: 진도 | C82: 의신 | D82: 옥대 | E82: 38-22 | F82: 답 | G82: 1665 | H82: 14 | J82: 박*극 | K82: 전라남도 진도군 의신면 옥대리 | O82: =COUNTIF(E82,E:E) -> 1 | P82: =IF(J82="국유지", "국유지", "사유지") -> 사유지 | Q82: =P82&F82 -> 사유지답 | R82: 4600 | S82: =IF(R82="-","-",H82*R82) -> 64400 | T82: =IF(R82="-","-",S82*3) -> 193200
A83: 80 | B83: 진도 | C83: 의신 | D83: 옥대 | E83: 1296 | F83: 도 | G83: 469 | H83: 459 | J83: 국유지 | K83: 국토교통부 | O83: =COUNTIF(E83,E:E) -> 1 | P83: =IF(J83="국유지", "국유지", "사유지") -> 국유지 | Q83: =P83&F83 -> 국유지도 | R83: - | S83: =IF(R83="-","-",H83*R83) -> - | T83: =IF(R83="-","-",S83*3) -> -
A84: 81 | B84: 진도 | C84: 의신 | D84: 옥대 | E84: 1132 | F84: 천 | G84: 812 | H84: 800 | J84: 국유지 | K84: 진도군 | O84: =COUNTIF(E84,E:E) -> 1 | P84: =IF(J84="국유지", "국유지", "사유지") -> 국유지 | Q84: =P84&F84 -> 국유지천 | R84: - | S84: =IF(R84="-","-",H84*R84) -> - | T84: =IF(R84="-","-",S84*3) -> -
A85: 82 | B85: 진도 | C85: 의신 | D85: 옥대 | E85: 1146 | F85: 답 | G85: 46 | H85: 46 | J85: 김*현 | K85: 전라남도 진도군 의신면 옥대리 | O85: =COUNTIF(E85,E:E) -> 1 | P85: =IF(J85="국유지", "국유지", "사유지") -> 사유지 | Q85: =P85&F85 -> 사유지답 | R85: 2080 | S85: =IF(R85="-","-",H85*R85) -> 95680 | T85: =IF(R85="-","-",S85*3) -> 287040
A86: 83 | B86: 진도 | C86: 의신 | D86: 옥대 | E86: 1131 | F86: 임 | G86: 386 | H86: 386 | J86: 옥대리 | O86: =COUNTIF(E86,E:E) -> 1 | P86: =IF(J86="국유지", "국유지", "사유지") -> 사유지 | Q86: =P86&F86 -> 사유지임 | R86: 924 | S86: =IF(R86="-","-",H86*R86) -> 356664 | T86: =IF(R86="-","-",S86*3) -> 1069992
A87: 84 | B87: 진도 | C87: 의신 | D87: 옥대 | E87: 38-23 | F87: 답 | G87: 1805 | H87: 1023 | J87: 박*선 | K87: 광주시 서구 진월동 | O87: =COUNTIF(E87,E:E) -> 1 | P87: =IF(J87="국유지", "국유지", "사유지") -> 사유지 | Q87: =P87&F87 -> 사유지답 | R87: 4600 | S87: =IF(R87="-","-",H87*R87) -> 4705800 | T87: =IF(R87="-","-",S87*3) -> 14117400
A88: 85 | B88: 진도 | C88: 의신 | D88: 옥대 | E88: 1152 | F88: 구 | G88: 1966 | H88: 63 | J88: 국유지 | K88: 농림축산식품부 | O88: =COUNTIF(E88,E:E) -> 1 | P88: =IF(J88="국유지", "국유지", "사유지") -> 국유지 | Q88: =P88&F88 -> 국유지구 | R88: - | S88: =IF(R88="-","-",H88*R88) -> - | T88: =IF(R88="-","-",S88*3) -> -
A89: 86 | B89: 진도 | C89: 의신 | D89: 옥대 | E89: 1134 | F89: 천 | G89: 711 | H89: 711 | J89: 국유지 | K89: 전라남도 | O89: =COUNTIF(E89,E:E) -> 1 | P89: =IF(J89="국유지", "국유지", "사유지") -> 국유지 | Q89: =P89&F89 -> 국유지천 | R89: - | S89: =IF(R89="-","-",H89*R89) -> - | T89: =IF(R89="-","-",S89*3) -> -
A90: 87 | B90: 진도 | C90: 의신 | D90: 옥대 | E90: 1296-3 | F90: 천 | G90: 373 | H90: 351 | J90: 국유지 | K90: 국토교통부 | O90: =COUNTIF(E90,E:E) -> 1 | P90: =IF(J90="국유지", "국유지", "사유지") -> 국유지 | Q90: =P90&F90 -> 국유지천 | R90: - | S90: =IF(R90="-","-",H90*R90) -> - | T90: =IF(R90="-","-",S90*3) -> -
A91: 88 | B91: 진도 | C91: 의신 | D91: 옥대 | E91: 1135 | F91: 천 | G91: 1202 | H91: 1201 | J91: 서*문 | K91: 제주도 북제주군 임월면 임월리 | O91: =COUNTIF(E91,E:E) -> 1 | P91: =IF(J91="국유지", "국유지", "사유지") -> 사유지 | Q91: =P91&F91 -> 사유지천 | R91: 3150 | S91: =IF(R91="-","-",H91*R91) -> 3783150 | T91: =IF(R91="-","-",S91*3) -> 11349450
A92: 89 | B92: 진도 | C92: 의신 | D92: 옥대 | E92: 39-22 | F92: 답 | G92: 1478 | H92: 1208 | J92: 김*곤 | K92: 전라남도 진도군 의신면 옥대리 | O92: =COUNTIF(E92,E:E) -> 1 | P92: =IF(J92="국유지", "국유지", "사유지") -> 사유지 | Q92: =P92&F92 -> 사유지답 | R92: 4600 | S92: =IF(R92="-","-",H92*R92) -> 5556800 | T92: =IF(R92="-","-",S92*3) -> 16670400
A93: 90 | B93: 진도 | C93: 의신 | D93: 옥대 | E93: 1155 | F93: 구 | G93: 1352 | H93: 111 | J93: 국유지 | K93: 농림축산식품부 | O93: =COUNTIF(E93,E:E) -> 1 | P93: =IF(J93="국유지", "국유지", "사유지") -> 국유지 | Q93: =P93&F93 -> 국유지구 | R93: - | S93: =IF(R93="-","-",H93*R93) -> - | T93: =IF(R93="-","-",S93*3) -> -
A94: 91 | B94: 진도 | C94: 의신 | D94: 옥대 | E94: 39-21 | F94: 답 | G94: 1200 | H94: 63 | J94: 김*현 | K94: 전라남도 진도군 의신면 옥대리 | O94: =COUNTIF(E94,E:E) -> 1 | P94: =IF(J94="국유지", "국유지", "사유지") -> 사유지 | Q94: =P94&F94 -> 사유지답 | R94: 4600 | S94: =IF(R94="-","-",H94*R94) -> 289800 | T94: =IF(R94="-","-",S94*3) -> 869400
A95: 92 | B95: 진도 | C95: 의신 | D95: 옥대 | E95: 39-20 | F95: 답 | G95: 2050 | H95: 7 | J95: 김*현 | K95: 전라남도 진도군 의신면 옥대리 | O95: =COUNTIF(E95,E:E) -> 1 | P95: =IF(J95="국유지", "국유지", "사유지") -> 사유지 | Q95: =P95&F95 -> 사유지답 | R95: 4600 | S95: =IF(R95="-","-",H95*R95) -> 32200 | T95: =IF(R95="-","-",S95*3) -> 96600
A96: 93 | B96: 진도 | C96: 의신 | D96: 옥대 | E96: 1156 | F96: 도 | G96: 1536 | H96: 143 | J96: 국유지 | K96: 농림축산식품부 | O96: =COUNTIF(E96,E:E) -> 1 | P96: =IF(J96="국유지", "국유지", "사유지") -> 국유지 | Q96: =P96&F96 -> 국유지도 | R96: - | S96: =IF(R96="-","-",H96*R96) -> - | T96: =IF(R96="-","-",S96*3) -> -
A97: 94 | B97: 진도 | C97: 의신 | D97: 옥대 | E97: 40-23 | F97: 답 | G97: 1600 | H97: 8 | J97: 주*철 | K97: 인천 연수구 연수동 | O97: =COUNTIF(E97,E:E) -> 1 | P97: =IF(J97="국유지", "국유지", "사유지") -> 사유지 | Q97: =P97&F97 -> 사유지답 | R97: 4600 | S97: =IF(R97="-","-",H97*R97) -> 36800 | T97: =IF(R97="-","-",S97*3) -> 110400
A98: 95 | B98: 진도 | C98: 의신 | D98: 옥대 | E98: 40-24 | F98: 답 | G98: 3280 | H98: 1391 | J98: 채*원 | K98: 진도군 의신면 만길리 | O98: =COUNTIF(E98,E:E) -> 1 | P98: =IF(J98="국유지", "국유지", "사유지") -> 사유지 | Q98: =P98&F98 -> 사유지답 | R98: 4600 | S98: =IF(R98="-","-",H98*R98) -> 6398600 | T98: =IF(R98="-","-",S98*3) -> 19195800
A99: 96 | B99: 진도 | C99: 의신 | D99: 옥대 | E99: 1142 | F99: 천 | G99: 1542 | H99: 1542 | J99: 국유지 | K99: 전라남도 | O99: =COUNTIF(E99,E:E) -> 1 | P99: =IF(J99="국유지", "국유지", "사유지") -> 국유지 | Q99: =P99&F99 -> 국유지천 | R99: - | S99: =IF(R99="-","-",H99*R99) -> - | T99: =IF(R99="-","-",S99*3) -> -
A100: 97 | B100: 진도 | C100: 의신 | D100: 옥대 | E100: 1295 | F100: 도 | G100: 390 | H100: 287 | J100: 국유지 | K100: 건설부 | O100: =COUNTIF(E100,E:E) -> 1 | P100: =IF(J100="국유지", "국유지", "사유지") -> 국유지 | Q100: =P100&F100 -> 국유지도 | R100: - | S100: =IF(R100="-","-",H100*R100) -> - | T100: =IF(R100="-","-",S100*3) -> -
...

Sheet 편입용지집계표(상류)
A1: 편 입 면 적 집 계 표 (돈 지 지 구)
A3: 의신천 하천재해예방사업 실시설계
A4: 지목별 | C4: 계 | D4: 전 | E4: 답 | F4: 임야 | G4: 대지 | H4: 도로 | I4: 하천 | J4: 구 거 | K4: 묘 | L4: 제방 | M4: 유지 | N4: 종교 | O4: 공유 수면 | P4: 잡종지 | Q4: 철 도 용 지 | R4: 창 고 | S4: 공장 | T4: 비고
A5: 소유자별
A6: 국유지 | B6: 필지 | C6: =SUM(D6:S6) -> 55 | D6: =COUNTIF('편입용지조서(상류)'!$Q:$Q,CONCATENATE('편입용지집계표(상류)'!$A6,LEFT('편입용지집계표(상류)'!D$4,1))) -> 0 | E6: =COUNTIF('편입용지조서(상류)'!$Q:$Q,CONCATENATE('편입용지집계표(상류)'!$A6,LEFT('편입용지집계표(상류)'!E$4,1))) -> 3 | F6: =COUNTIF('편입용지조서(상류)'!$Q:$Q,CONCATENATE('편입용지집계표(상류)'!$A6,LEFT('편입용지집계표(상류)'!F$4,1))) -> 0 | G6: =COUNTIF('편입용지조서(상류)'!$Q:$Q,CONCATENATE('편입용지집계표(상류)'!$A6,LEFT('편입용지집계표(상류)'!G$4,1))) -> 0 | H6: =COUNTIF('편입용지조서(상류)'!$Q:$Q,CONCATENATE('편입용지집계표(상류)'!$A6,LEFT('편입용지집계표(상류)'!H$4,1))) -> 11 | I6: =COUNTIF('편입용지조서(상류)'!$Q:$Q,CONCATENATE('편입용지집계표(상류)'!$A6,RIGHT('편입용지집계표(상류)'!I$4,1))) -> 19 | J6: =COUNTIF('편입용지조서(상류)'!$Q:$Q,CONCATENATE('편입용지집계표(상류)'!$A6,LEFT('편입용지집계표(상류)'!J$4,1))) -> 16 | K6: =COUNTIF('편입용지조서(상류)'!$Q:$Q,CONCATENATE('편입용지집계표(상류)'!$A6,LEFT('편입용지집계표(상류)'!K$4,1))) -> 0 | L6: =COUNTIF('편입용지조서(상류)'!$Q:$Q,CONCATENATE('편입용지집계표(상류)'!$A6,LEFT('편입용지집계표(상류)'!L$4,1))) -> 6 | M6: =COUNTIF('편입용지조서(상류)'!$Q:$Q,CONCATENATE('편입용지집계표(상류)'!$A6,LEFT('편입용지집계표(상류)'!M$4,1))) -> 0 | N6: =COUNTIF('편입용지조서(상류)'!$Q:$Q,CONCATENATE('편입용지집계표(상류)'!$A6,LEFT('편입용지집계표(상류)'!N$4,1))) -> 0 | O6: =COUNTIF('편입용지조서(상류)'!$Q:$Q,CONCATENATE('편입용지집계표(상류)'!$A6,LEFT('편입용지집계표(상류)'!O$4,1))) -> 0 | P6: =COUNTIF('편입용지조서(상류)'!$Q:$Q,CONCATENATE('편입용지집계표(상류)'!$A6,LEFT('편입용지집계표(상류)'!P$4,1))) -> 0 | Q6: =COUNTIF('편입용지조서(상류)'!$Q:$Q,CONCATENATE('편입용지집계표(상류)'!$A6,LEFT('편입용지집계표(상류)'!Q$4,1))) -> 0 | R6: =COUNTIF('편입용지조서(상류)'!$Q:$Q,CONCATENATE('편입용지집계표(상류)'!$A6,LEFT('편입용지집계표(상류)'!R$4,1))) -> 0 | S6: 0
B7: 면적 | C7: =SUM(D7:S7) -> 65961 | D7: =SUMIF('편입용지조서(상류)'!$Q:$Q,CONCATENATE('편입용지집계표(상류)'!$A6,LEFT('편입용지집계표(상류)'!D$4,1)),'편입용지조서(상류)'!$H:$H) -> 0 | E7: =SUMIF('편입용지조서(상류)'!$Q:$Q,CONCATENATE('편입용지집계표(상류)'!$A6,LEFT('편입용지집계표(상류)'!E$4,1)),'편입용지조서(상류)'!$H:$H) -> 2182 | F7: =SUMIF('편입용지조서(상류)'!$Q:$Q,CONCATENATE('편입용지집계표(상류)'!$A6,LEFT('편입용지집계표(상류)'!F$4,1)),'편입용지조서(상류)'!$H:$H) -> 0 | G7: =SUMIF('편입용지조서(상류)'!$Q:$Q,CONCATENATE('편입용지집계표(상류)'!$A6,LEFT('편입용지집계표(상류)'!G$4,1)),'편입용지조서(상류)'!$H:$H) -> 0 | H7: =SUMIF('편입용지조서(상류)'!$Q:$Q,CONCATENATE('편입용지집계표(상류)'!$A6,LEFT('편입용지집계표(상류)'!H$4,1)),'편입용지조서(상류)'!$H:$H) -> 3813 | I7: =SUMIF('편입용지조서(상류)'!$Q:$Q,CONCATENATE('편입용지집계표(상류)'!$A6,RIGHT('편입용지집계표(상류)'!I$4,1)),'편입용지조서(상류)'!$H:$H) -> 49674 | J7: =SUMIF('편입용지조서(상류)'!$Q:$Q,CONCATENATE('편입용지집계표(상류)'!$A6,LEFT('편입용지집계표(상류)'!J$4,1)),'편입용지조서(상류)'!$H:$H) -> 5047 | K7: =SUMIF('편입용지조서(상류)'!$Q:$Q,CONCATENATE('편입용지집계표(상류)'!$A6,LEFT('편입용지집계표(상류)'!K$4,1)),'편입용지조서(상류)'!$H:$H) -> 0 | L7: =SUMIF('편입용지조서(상류)'!$Q:$Q,CONCATENATE('편입용지집계표(상류)'!$A6,LEFT('편입용지집계표(상류)'!L$4,1)),'편입용지조서(상류)'!$H:$H) -> 5245 | M7: =SUMIF('편입용지조서(상류)'!$Q:$Q,CONCATENATE('편입용지집계표(상류)'!$A6,LEFT('편입용지집계표(상류)'!M$4,1)),'편입용지조서(상류)'!$H:$H) -> 0 | N7: =SUMIF('편입용지조서(상류)'!$Q:$Q,CONCATENATE('편입용지집계표(상류)'!$A6,LEFT('편입용지집계표(상류)'!N$4,1)),'편입용지조서(상류)'!$H:$H) -> 0 | O7: =SUMIF('편입용지조서(상류)'!$Q:$Q,CONCATENATE('편입용지집계표(상류)'!$A6,LEFT('편입용지집계표(상류)'!O$4,1)),'편입용지조서(상류)'!$H:$H) -> 0 | P7: =SUMIF('편입용지조서(상류)'!$Q:$Q,CONCATENATE('편입용지집계표(상류)'!$A6,LEFT('편입용지집계표(상류)'!P$4,1)),'편입용지조서(상류)'!$H:$H) -> 0 | Q7: =SUMIF('편입용지조서(상류)'!$Q:$Q,CONCATENATE('편입용지집계표(상류)'!$A6,LEFT('편입용지집계표(상류)'!Q$4,1)),'편입용지조서(상류)'!$H:$H) -> 0 | R7: =SUMIF('편입용지조서(상류)'!$Q:$Q,CONCATENATE('편입용지집계표(상류)'!$A6,LEFT('편입용지집계표(상류)'!R$4,1)),'편입용지조서(상류)'!$H:$H) -> 0 | S7: 0
A8: 사유지 | B8: 필지 | C8: =SUM(D8:S8) -> 96 | D8: =COUNTIF('편입용지조서(상류)'!$Q:$Q,CONCATENATE('편입용지집계표(상류)'!$A8,LEFT('편입용지집계표(상류)'!D$4,1))) -> 0 | E8: =COUNTIF('편입용지조서(상류)'!$Q:$Q,CONCATENATE('편입용지집계표(상류)'!$A8,LEFT('편입용지집계표(상류)'!E$4,1))) -> 83 | F8: =COUNTIF('편입용지조서(상류)'!$Q:$Q,CONCATENATE('편입용지집계표(상류)'!$A8,LEFT('편입용지집계표(상류)'!F$4,1))) -> 2 | G8: =COUNTIF('편입용지조서(상류)'!$Q:$Q,CONCATENATE('편입용지집계표(상류)'!$A8,LEFT('편입용지집계표(상류)'!G$4,1))) -> 0 | H8: =COUNTIF('편입용지조서(상류)'!$Q:$Q,CONCATENATE('편입용지집계표(상류)'!$A8,LEFT('편입용지집계표(상류)'!H$4,1))) -> 0 | I8: =COUNTIF('편입용지조서(상류)'!$Q:$Q,CONCATENATE('편입용지집계표(상류)'!$A8,RIGHT('편입용지집계표(상류)'!I$4,1))) -> 11 | J8: =COUNTIF('편입용지조서(상류)'!$Q:$Q,CONCATENATE('편입용지집계표(상류)'!$A8,LEFT('편입용지집계표(상류)'!J$4,1))) -> 0 | K8: 0 | L8: =COUNTIF('편입용지조서(상류)'!$Q:$Q,CONCATENATE('편입용지집계표(상류)'!$A8,LEFT('편입용지집계표(상류)'!L$4,1))) -> 0 | M8: =COUNTIF('편입용지조서(상류)'!$Q:$Q,CONCATENATE('편입용지집계표(상류)'!$A8,LEFT('편입용지집계표(상류)'!M$4,1))) -> 0 | N8: =COUNTIF('편입용지조서(상류)'!$Q:$Q,CONCATENATE('편입용지집계표(상류)'!$A8,LEFT('편입용지집계표(상류)'!N$4,1))) -> 0 | O8: =COUNTIF('편입용지조서(상류)'!$Q:$Q,CONCATENATE('편입용지집계표(상류)'!$A8,LEFT('편입용지집계표(상류)'!O$4,1))) -> 0 | P8: =COUNTIF('편입용지조서(상류)'!$Q:$Q,CONCATENATE('편입용지집계표(상류)'!$A8,LEFT('편입용지집계표(상류)'!P$4,1))) -> 0 | Q8: =COUNTIF('편입용지조서(상류)'!$Q:$Q,CONCATENATE('편입용지집계표(상류)'!$A8,LEFT('편입용지집계표(상류)'!Q$4,1))) -> 0 | R8: =COUNTIF('편입용지조서(상류)'!$Q:$Q,CONCATENATE('편입용지집계표(상류)'!$A8,LEFT('편입용지집계표(상류)'!R$4,1))) -> 0 | S8: 0
B9: 면적 | C9: =SUM(D9:S9) -> 69304 | D9: =SUMIF('편입용지조서(상류)'!$Q:$Q,CONCATENATE('편입용지집계표(상류)'!$A8,LEFT('편입용지집계표(상류)'!D$4,1)),'편입용지조서(상류)'!$H:$H) -> 0 | E9: =SUMIF('편입용지조서(상류)'!$Q:$Q,CONCATENATE('편입용지집계표(상류)'!$A8,LEFT('편입용지집계표(상류)'!E$4,1)),'편입용지조서(상류)'!$H:$H) -> 53027 | F9: =SUMIF('편입용지조서(상류)'!$Q:$Q,CONCATENATE('편입용지집계표(상류)'!$A8,LEFT('편입용지집계표(상류)'!F$4,1)),'편입용지조서(상류)'!$H:$H) -> 627 | G9: =SUMIF('편입용지조서(상류)'!$Q:$Q,CONCATENATE('편입용지집계표(상류)'!$A8,LEFT('편입용지집계표(상류)'!G$4,1)),'편입용지조서(상류)'!$H:$H) -> 0 | H9: =SUMIF('편입용지조서(상류)'!$Q:$Q,CONCATENATE('편입용지집계표(상류)'!$A8,LEFT('편입용지집계표(상류)'!H$4,1)),'편입용지조서(상류)'!$H:$H) -> 0 | I9: =SUMIF('편입용지조서(상류)'!$Q:$Q,CONCATENATE('편입용지집계표(상류)'!$A8,RIGHT('편입용지집계표(상류)'!I$4,1)),'편입용지조서(상류)'!$H:$H) -> 15650 | J9: =SUMIF('편입용지조서(상류)'!$Q:$Q,CONCATENATE('편입용지집계표(상류)'!$A8,LEFT('편입용지집계표(상류)'!J$4,1)),'편입용지조서(상류)'!$H:$H) -> 0 | K9: =SUMIF('편입용지조서(상류)'!$Q:$Q,CONCATENATE('편입용지집계표(상류)'!$A8,LEFT('편입용지집계표(상류)'!K$4,1)),'편입용지조서(상류)'!$H:$H) -> 0 | L9: =SUMIF('편입용지조서(상류)'!$Q:$Q,CONCATENATE('편입용지집계표(상류)'!$A8,LEFT('편입용지집계표(상류)'!L$4,1)),'편입용지조서(상류)'!$H:$H) -> 0 | M9: =SUMIF('편입용지조서(상류)'!$Q:$Q,CONCATENATE('편입용지집계표(상류)'!$A8,LEFT('편입용지집계표(상류)'!M$4,1)),'편입용지조서(상류)'!$H:$H) -> 0 | N9: =SUMIF('편입용지조서(상류)'!$Q:$Q,CONCATENATE('편입용지집계표(상류)'!$A8,LEFT('편입용지집계표(상류)'!N$4,1)),'편입용지조서(상류)'!$H:$H) -> 0 | O9: =SUMIF('편입용지조서(상류)'!$Q:$Q,CONCATENATE('편입용지집계표(상류)'!$A8,LEFT('편입용지집계표(상류)'!O$4,1)),'편입용지조서(상류)'!$H:$H) -> 0 | P9: =SUMIF('편입용지조서(상류)'!$Q:$Q,CONCATENATE('편입용지집계표(상류)'!$A8,LEFT('편입용지집계표(상류)'!P$4,1)),'편입용지조서(상류)'!$H:$H) -> 0 | Q9: =SUMIF('편입용지조서(상류)'!$Q:$Q,CONCATENATE('편입용지집계표(상류)'!$A8,LEFT('편입용지집계표(상류)'!Q$4,1)),'편입용지조서(상류)'!$H:$H) -> 0 | R9: =SUMIF('편입용지조서(상류)'!$Q:$Q,CONCATENATE('편입용지집계표(상류)'!$A8,LEFT('편입용지집계표(상류)'!R$4,1)),'편입용지조서(상류)'!$H:$H) -> 0 | S9: 0
A10: 총 계 | B10: 필지 | C10: =C6+C8 -> 151 | D10: =D6+D8 -> 0 | E10: =E6+E8 -> 86 | F10: =F6+F8 -> 2 | G10: =G6+G8 -> 0 | H10: =H6+H8 -> 11 | I10: =I6+I8 -> 30 | J10: =J6+J8 -> 16 | ... S10: =S6+S8 -> 0
B11: 면적 | C11: =C7+C9 -> 135265 | D11: =D7+D9 -> 0 | E11: =E7+E9 -> 55209 | F11: =F7+F9 -> 627 | G11: =G7+G9 -> 0 | H11: =H7+H9 -> 3813 | I11: =I7+I9 -> 65324 | J11: =J7+J9 -> 5047 | ... S11: =S7+S9 -> 0
A12: 포 락 면 적 집 계 표 (돈 지 지 구)
A14: =A3 -> 의신천 하천재해예방사업 실시설계
A15: 지목별 | C15: 계 | D15: 전 | E15: 답 | F15: 임야 | G15: 대지 | H15: 도로 | I15: 하천 | J15: 구 거 | K15: 묘 | L15: 제방 | M15: 유지 | N15: 종교 | O15: 공유 수면 | P15: 잡종지 | Q15: 철 도 용 지 | R15: 창 고 | S15: 공장 | T15: 비고
A16: 소유자별
A17: 국유지 | B17: 필지 | C17: =SUM(D17:S17) -> 55 | D17: =COUNTIF('편입용지조서(상류)'!$Q:$Q,CONCATENATE('편입용지집계표(상류)'!$A17,LEFT('편입용지집계표(상류)'!D$4,1))) -> 0 | E17: =COUNTIF('편입용지조서(상류)'!$Q:$Q,CONCATENATE('편입용지집계표(상류)'!$A17,LEFT('편입용지집계표(상류)'!E$4,1))) -> 3 | F17: =COUNTIF('편입용지조서(상류)'!$Q:$Q,CONCATENATE('편입용지집계표(상류)'!$A17,LEFT('편입용지집계표(상류)'!F$4,1))) -> 0 | G17: =COUNTIF('편입용지조서(상류)'!$Q:$Q,CONCATENATE('편입용지집계표(상류)'!$A17,LEFT('편입용지집계표(상류)'!G$4,1))) -> 0 | H17: =COUNTIF('편입용지조서(상류)'!$Q:$Q,CONCATENATE('편입용지집계표(상류)'!$A17,LEFT('편입용지집계표(상류)'!H$4,1))) -> 11 | I17: =COUNTIF('편입용지조서(상류)'!$Q:$Q,CONCATENATE('편입용지집계표(상류)'!$A17,RIGHT('편입용지집계표(상류)'!I$4,1))) -> 19 | J17: =COUNTIF('편입용지조서(상류)'!$Q:$Q,CONCATENATE('편입용지집계표(상류)'!$A17,LEFT('편입용지집계표(상류)'!J$4,1))) -> 16 | K17: =COUNTIF('편입용지조서(상류)'!$Q:$Q,CONCATENATE('편입용지집계표(상류)'!$A17,LEFT('편입용지집계표(상류)'!K$4,1))) -> 0 | L17: =COUNTIF('편입용지조서(상류)'!$Q:$Q,CONCATENATE('편입용지집계표(상류)'!$A17,LEFT('편입용지집계표(상류)'!L$4,1))) -> 6 | M17: =COUNTIF('편입용지조서(상류)'!$Q:$Q,CONCATENATE('편입용지집계표(상류)'!$A17,LEFT('편입용지집계표(상류)'!M$4,1))) -> 0 | N17: =COUNTIF('편입용지조서(상류)'!$Q:$Q,CONCATENATE('편입용지집계표(상류)'!$A17,LEFT('편입용지집계표(상류)'!N$4,1))) -> 0 | O17: =COUNTIF('편입용지조서(상류)'!$Q:$Q,CONCATENATE('편입용지집계표(상류)'!$A17,LEFT('편입용지집계표(상류)'!O$4,1))) -> 0 | P17: =COUNTIF('편입용지조서(상류)'!$Q:$Q,CONCATENATE('편입용지집계표(상류)'!$A17,LEFT('편입용지집계표(상류)'!P$4,1))) -> 0 | Q17: =COUNTIF('편입용지조서(상류)'!$Q:$Q,CONCATENATE('편입용지집계표(상류)'!$A17,LEFT('편입용지집계표(상류)'!Q$4,1))) -> 0 | R17: =COUNTIF('편입용지조서(상류)'!$Q:$Q,CONCATENATE('편입용지집계표(상류)'!$A17,LEFT('편입용지집계표(상류)'!R$4,1))) -> 0 | S17: 0
B18: 면적 | C18: =SUM(D18:S18) -> 117986.3 | D18: =SUMIF('편입용지조서(상류)'!$Q:$Q,CONCATENATE('편입용지집계표(상류)'!$A17,LEFT('편입용지집계표(상류)'!D$4,1)),'편입용지조서(상류)'!$G:$G) -> 0 | E18: =SUMIF('편입용지조서(상류)'!$Q:$Q,CONCATENATE('편입용지집계표(상류)'!$A17,LEFT('편입용지집계표(상류)'!E$4,1)),'편입용지조서(상류)'!$G:$G) -> 2679 | F18: =SUMIF('편입용지조서(상류)'!$Q:$Q,CONCATENATE('편입용지집계표(상류)'!$A17,LEFT('편입용지집계표(상류)'!F$4,1)),'편입용지조서(상류)'!$G:$G) -> 0 | G18: =SUMIF('편입용지조서(상류)'!$Q:$Q,CONCATENATE('편입용지집계표(상류)'!$A17,LEFT('편입용지집계표(상류)'!G$4,1)),'편입용지조서(상류)'!$G:$G) -> 0 | H18: =SUMIF('편입용지조서(상류)'!$Q:$Q,CONCATENATE('편입용지집계표(상류)'!$A17,LEFT('편입용지집계표(상류)'!H$4,1)),'편입용지조서(상류)'!$G:$G) -> 11000.3 | I18: =SUMIF('편입용지조서(상류)'!$Q:$Q,CONCATENATE('편입용지집계표(상류)'!$A17,RIGHT('편입용지집계표(상류)'!I$4,1)),'편입용지조서(상류)'!$G:$G) -> 58697 | J18: =SUMIF('편입용지조서(상류)'!$Q:$Q,CONCATENATE('편입용지집계표(상류)'!$A17,LEFT('편입용지집계표(상류)'!J$4,1)),'편입용지조서(상류)'!$G:$G) -> 34637 | K18: =SUMIF('편입용지조서(상류)'!$Q:$Q,CONCATENATE('편입용지집계표(상류)'!$A17,LEFT('편입용지집계표(상류)'!K$4,1)),'편입용지조서(상류)'!$G:$G) -> 0 | L18: =SUMIF('편입용지조서(상류)'!$Q:$Q,CONCATENATE('편입용지집계표(상류)'!$A17,LEFT('편입용지집계표(상류)'!L$4,1)),'편입용지조서(상류)'!$G:$G) -> 10973 | M18: =SUMIF('편입용지조서(상류)'!$Q:$Q,CONCATENATE('편입용지집계표(상류)'!$A17,LEFT('편입용지집계표(상류)'!M$4,1)),'편입용지조서(상류)'!$G:$G) -> 0 | N18: =SUMIF('편입용지조서(상류)'!$Q:$Q,CONCATENATE('편입용지집계표(상류)'!$A17,LEFT('편입용지집계표(상류)'!N$4,1)),'편입용지조서(상류)'!$G:$G) -> 0 | O18: =SUMIF('편입용지조서(상류)'!$Q:$Q,CONCATENATE('편입용지집계표(상류)'!$A17,LEFT('편입용지집계표(상류)'!O$4,1)),'편입용지조서(상류)'!$G:$G) -> 0 | P18: =SUMIF('편입용지조서(상류)'!$Q:$Q,CONCATENATE('편입용지집계표(상류)'!$A17,LEFT('편입용지집계표(상류)'!P$4,1)),'편입용지조서(상류)'!$G:$G) -> 0 | Q18: =SUMIF('편입용지조서(상류)'!$Q:$Q,CONCATENATE('편입용지집계표(상류)'!$A17,LEFT('편입용지집계표(상류)'!Q$4,1)),'편입용지조서(상류)'!$G:$G) -> 0 | R18: =SUMIF('편입용지조서(상류)'!$Q:$Q,CONCATENATE('편입용지집계표(상류)'!$A17,LEFT('편입용지집계표(상류)'!R$4,1)),'편입용지조서(상류)'!$G:$G) -> 0 | S18: 0
A19: 사유지 | B19: 필지 | C19: =SUM(D19:S19) -> 96 | D19: =COUNTIF('편입용지조서(상류)'!$Q:$Q,CONCATENATE('편입용지집계표(상류)'!$A19,LEFT('편입용지집계표(상류)'!D$4,1))) -> 0 | E19: =COUNTIF('편입용지조서(상류)'!$Q:$Q,CONCATENATE('편입용지집계표(상류)'!$A19,LEFT('편입용지집계표(상류)'!E$4,1))) -> 83 | F19: =COUNTIF('편입용지조서(상류)'!$Q:$Q,CONCATENATE('편입용지집계표(상류)'!$A19,LEFT('편입용지집계표(상류)'!F$4,1))) -> 2 | G19: =COUNTIF('편입용지조서(상류)'!$Q:$Q,CONCATENATE('편입용지집계표(상류)'!$A19,LEFT('편입용지집계표(상류)'!G$4,1))) -> 0 | H19: =COUNTIF('편입용지조서(상류)'!$Q:$Q,CONCATENATE('편입용지집계표(상류)'!$A19,LEFT('편입용지집계표(상류)'!H$4,1))) -> 0 | I19: =COUNTIF('편입용지조서(상류)'!$Q:$Q,CONCATENATE('편입용지집계표(상류)'!$A19,RIGHT('편입용지집계표(상류)'!I$4,1))) -> 11 | J19: =COUNTIF('편입용지조서(상류)'!$Q:$Q,CONCATENATE('편입용지집계표(상류)'!$A19,LEFT('편입용지집계표(상류)'!J$4,1))) -> 0 | K19: 국.공유지 | L19: =COUNTIF('편입용지조서(상류)'!$Q:$Q,CONCATENATE('편입용지집계표(상류)'!$A19,LEFT('편입용지집계표(상류)'!L$4,1))) -> 0 | M19: =COUNTIF('편입용지조서(상류)'!$Q:$Q,CONCATENATE('편입용지집계표(상류)'!$A19,LEFT('편입용지집계표(상류)'!M$4,1))) -> 0 | N19: =COUNTIF('편입용지조서(상류)'!$Q:$Q,CONCATENATE('편입용지집계표(상류)'!$A19,LEFT('편입용지집계표(상류)'!N$4,1))) -> 0 | O19: =COUNTIF('편입용지조서(상류)'!$Q:$Q,CONCATENATE('편입용지집계표(상류)'!$A19,LEFT('편입용지집계표(상류)'!O$4,1))) -> 0 | P19: =COUNTIF('편입용지조서(상류)'!$Q:$Q,CONCATENATE('편입용지집계표(상류)'!$A19,LEFT('편입용지집계표(상류)'!P$4,1))) -> 0 | Q19: =COUNTIF('편입용지조서(상류)'!$Q:$Q,CONCATENATE('편입용지집계표(상류)'!$A19,LEFT('편입용지집계표(상류)'!Q$4,1))) -> 0 | R19: =COUNTIF('편입용지조서(상류)'!$Q:$Q,CONCATENATE('편입용지집계표(상류)'!$A19,LEFT('편입용지집계표(상류)'!R$4,1))) -> 0 | S19: 0
B20: 면적 | C20: =SUM(D20:S20) -> 204512.7 | D20: =SUMIF('편입용지조서(상류)'!$Q:$Q,CONCATENATE('편입용지집계표(상류)'!$A19,LEFT('편입용지집계표(상류)'!D$4,1)),'편입용지조서(상류)'!$G:$G) -> 0 | E20: =SUMIF('편입용지조서(상류)'!$Q:$Q,CONCATENATE('편입용지집계표(상류)'!$A19,LEFT('편입용지집계표(상류)'!E$4,1)),'편입용지조서(상류)'!$G:$G) -> 143983.7 | F20: =SUMIF('편입용지조서(상류)'!$Q:$Q,CONCATENATE('편입용지집계표(상류)'!$A19,LEFT('편입용지집계표(상류)'!F$4,1)),'편입용지조서(상류)'!$G:$G) -> 15163 | G20: =SUMIF('편입용지조서(상류)'!$Q:$Q,CONCATENATE('편입용지집계표(상류)'!$A19,LEFT('편입용지집계표(상류)'!G$4,1)),'편입용지조서(상류)'!$G:$G) -> 0 | H20: =SUMIF('편입용지조서(상류)'!$Q:$Q,CONCATENATE('편입용지집계표(상류)'!$A19,LEFT('편입용지집계표(상류)'!H$4,1)),'편입용지조서(상류)'!$G:$G) -> 0 | I20: =SUMIF('편입용지조서(상류)'!$Q:$Q,CONCATENATE('편입용지집계표(상류)'!$A19,RIGHT('편입용지집계표(상류)'!I$4,1)),'편입용지조서(상류)'!$G:$G) -> 45366 | J20: =SUMIF('편입용지조서(상류)'!$Q:$Q,CONCATENATE('편입용지집계표(상류)'!$A19,LEFT('편입용지집계표(상류)'!J$4,1)),'편입용지조서(상류)'!$G:$G) -> 0 | K20: =SUMIF('편입용지조서(상류)'!$Q:$Q,CONCATENATE('편입용지집계표(상류)'!$A19,LEFT('편입용지집계표(상류)'!K$4,1)),'편입용지조서(상류)'!$G:$G) -> 0 | L20: =SUMIF('편입용지조서(상류)'!$Q:$Q,CONCATENATE('편입용지집계표(상류)'!$A19,LEFT('편입용지집계표(상류)'!L$4,1)),'편입용지조서(상류)'!$G:$G) -> 0 | M20: =SUMIF('편입용지조서(상류)'!$Q:$Q,CONCATENATE('편입용지집계표(상류)'!$A19,LEFT('편입용지집계표(상류)'!M$4,1)),'편입용지조서(상류)'!$G:$G) -> 0 | N20: =SUMIF('편입용지조서(상류)'!$Q:$Q,CONCATENATE('편입용지집계표(상류)'!$A19,LEFT('편입용지집계표(상류)'!N$4,1)),'편입용지조서(상류)'!$G:$G) -> 0 | O20: =SUMIF('편입용지조서(상류)'!$Q:$Q,CONCATENATE('편입용지집계표(상류)'!$A19,LEFT('편입용지집계표(상류)'!O$4,1)),'편입용지조서(상류)'!$G:$G) -> 0 | P20: =SUMIF('편입용지조서(상류)'!$Q:$Q,CONCATENATE('편입용지집계표(상류)'!$A19,LEFT('편입용지집계표(상류)'!P$4,1)),'편입용지조서(상류)'!$G:$G) -> 0 | Q20: =SUMIF('편입용지조서(상류)'!$Q:$Q,CONCATENATE('편입용지집계표(상류)'!$A19,LEFT('편입용지집계표(상류)'!Q$4,1)),'편입용지조서(상류)'!$G:$G) -> 0 | R20: =SUMIF('편입용지조서(상류)'!$Q:$Q,CONCATENATE('편입용지집계표(상류)'!$A19,LEFT('편입용지집계표(상류)'!R$4,1)),'편입용지조서(상류)'!$G:$G) -> 0 | S20: 0
A21: 총 계 | B21: 필지 | C21: =C17+C19 -> 151 | D21: =D17+D19 -> 0 | E21: =E17+E19 -> 86 | F21: =F17+F19 -> 2 | G21: =G17+G19 -> 0 | H21: =H17+H19 -> 11 | I21: =I17+I19 -> 30 | J21: =J17+J19 -> 16 | ... S21: =S17+S19 -> 0
B22: 면적 | C22: =C18+C20 -> 322499 | D22: =D18+D20 -> 0 | E22: =E18+E20 -> 146662.7 | F22: =F18+F20 -> 15163 | G22: =G18+G20 -> 0 | H22: =H18+H20 -> 11000.3 | I22: =I18+I20 -> 104063 | J22: =J18+J20 -> 34637 | ... S22: =S18+S20 -> 0

Sheet 편입용지조서(상류)
A1: 편 입 용 지 조 서 (돈 지 지 구) | R1: 공시지가 | S1: 보상금액 | T1: 조정액(3배)
A2: 토 지 소 재 지 | F2: 지목 | G2: 지 적 | H2: 편입지적 | I2: 실제 이용 현황 | J2: 소 유 자 (토 지 대 장) | L2: 관 계 인 (등 기 부 등 본) | N2: 비 고 | O2: 필지수 | P2: 소유구분
A3: 번호 | B3: 군 | C3: 면 | D3: 리 | E3: 지 번 | G3: (㎡) | H3: (㎡) | J3: 성 명 | K3: 주 소 | L3: 성 명 | M3: 주 소
A4: 1 | B4: 진도 | C4: 의신 | D4: 돈지 | E4: 82-16 | F4: 답 | G4: 877 | H4: 41 | J4: 이부안 | K4: 전라남도 진도군 의신면 돈지리 592번지 | O4: =COUNTIF(E4,E:E) -> 1 | P4: =IF(J4="국유지", "국유지", "사유지") -> 사유지 | Q4: =P4&F4 -> 사유지답 | R4: 4900 | S4: =IF(R4="-","-",H4*R4) -> 200900 | T4: =IF(R4="-","-",S4*3) -> 602700
A5: 2 | B5: 진도 | C5: 의신 | D5: 돈지 | E5: 53-2 | F5: 천 | G5: 258 | H5: 157 | J5: 임향 | K5: 전라남도 진도군 의신면 돈지리 648번지 | O5: =COUNTIF(E5,E:E) -> 1 | P5: =IF(J5="국유지", "국유지", "사유지") -> 사유지 | Q5: =P5&F5 -> 사유지천 | R5: 3150 | S5: =IF(R5="-","-",H5*R5) -> 494550 | T5: =IF(R5="-","-",S5*3) -> 1483650
A6: 3 | B6: 진도 | C6: 의신 | D6: 돈지 | E6: 82-15 | F6: 답 | G6: 1986 | H6: 325 | J6: 이부안 | K6: 전라남도 진도군 의신면 돈지리 592번지 | O6: =COUNTIF(E6,E:E) -> 1 | P6: =IF(J6="국유지", "국유지", "사유지") -> 사유지 | Q6: =P6&F6 -> 사유지답 | R6: 4800 | S6: =IF(R6="-","-",H6*R6) -> 1560000 | T6: =IF(R6="-","-",S6*3) -> 4680000
A7: 4 | B7: 진도 | C7: 의신 | D7: 돈지 | E7: 100 | F7: 구 | G7: 1967 | H7: 389 | J7: 국유지 | K7: 농림축산식품부 | O7: =COUNTIF(E7,E:E) -> 1 | P7: =IF(J7="국유지", "국유지", "사유지") -> 국유지 | Q7: =P7&F7 -> 국유지구 | R7: - | S7: =IF(R7="-","-",H7*R7) -> - | T7: =IF(R7="-","-",S7*3) -> -
A8: 5 | B8: 진도 | C8: 의신 | D8: 돈지 | E8: 82-14 | F8: 답 | G8: 912 | H8: 195 | J8: 박기본 | K8: 전라남도 진도군 의신면 돈지리 793번지 | O8: =COUNTIF(E8,E:E) -> 1 | P8: =IF(J8="국유지", "국유지", "사유지") -> 사유지 | Q8: =P8&F8 -> 사유지답 | R8: 4800 | S8: =IF(R8="-","-",H8*R8) -> 936000 | T8: =IF(R8="-","-",S8*3) -> 2808000
A9: 6 | B9: 진도 | C9: 의신 | D9: 돈지 | E9: 52-2 | F9: 천 | G9: 631 | H9: 640 | J9: 박호환 | K9: 전라남도 진도군 의신면 돈지리 141번지 | O9: =COUNTIF(E9,E:E) -> 1 | P9: =IF(J9="국유지", "국유지", "사유지") -> 사유지 | Q9: =P9&F9 -> 사유지천 | R9: 3150 | S9: =IF(R9="-","-",H9*R9) -> 2016000 | T9: =IF(R9="-","-",S9*3) -> 6048000
A10: 7 | B10: 진도 | C10: 의신 | D10: 돈지 | E10: 82-13 | F10: 답 | G10: 1155 | H10: 226 | J10: 박기본 | K10: 전라남도 진도군 의신면 돈지리 793번지 | O10: =COUNTIF(E10,E:E) -> 1 | P10: =IF(J10="국유지", "국유지", "사유지") -> 사유지 | Q10: =P10&F10 -> 사유지답 | R10: 4800 | S10: =IF(R10="-","-",H10*R10) -> 1084800 | T10: =IF(R10="-","-",S10*3) -> 3254400
A11: 8 | B11: 진도 | C11: 의신 | D11: 돈지 | E11: 82-12 | F11: 답 | G11: 2587 | H11: 263 | J11: 이병원 | K11: 전라남도 진도군 의신면 돈지리 304번지 | O11: =COUNTIF(E11,E:E) -> 1 | P11: =IF(J11="국유지", "국유지", "사유지") -> 사유지 | Q11: =P11&F11 -> 사유지답 | R11: 4800 | S11: =IF(R11="-","-",H11*R11) -> 1262400 | T11: =IF(R11="-","-",S11*3) -> 3787200
A12: 9 | B12: 진도 | C12: 의신 | D12: 돈지 | E12: 82-11 | F12: 답 | G12: 905 | H12: 38 | J12: 조정희외 2인 | K12: 전라남도 진도군 의신면 돈지리 332번지 | O12: =COUNTIF(E12,E:E) -> 1 | P12: =IF(J12="국유지", "국유지", "사유지") -> 사유지 | Q12: =P12&F12 -> 사유지답 | R12: 4800 | S12: =IF(R12="-","-",H12*R12) -> 182400 | T12: =IF(R12="-","-",S12*3) -> 547200
A13: 10 | B13: 진도 | C13: 의신 | D13: 돈지 | E13: 82-10 | F13: 답 | G13: 1990 | H13: 14 | J13: 박치언외 3인 | K13: 전라남도 진도군 의신면 돈지리 804번지 | O13: =COUNTIF(E13,E:E) -> 1 | P13: =IF(J13="국유지", "국유지", "사유지") -> 사유지 | Q13: =P13&F13 -> 사유지답 | R13: 4800 | S13: =IF(R13="-","-",H13*R13) -> 67200 | T13: =IF(R13="-","-",S13*3) -> 201600
A14: 11 | B14: 진도 | C14: 의신 | D14: 돈지 | E14: 83-6 | F14: 답 | G14: 1274 | H14: 683 | J14: 박흥식외 2인 | K14: 전라남도 진도군 의신면 돈지리 162번지 | O14: =COUNTIF(E14,E:E) -> 1 | P14: =IF(J14="국유지", "국유지", "사유지") -> 사유지 | Q14: =P14&F14 -> 사유지답 | R14: 4650 | S14: =IF(R14="-","-",H14*R14) -> 3175950 | T14: =IF(R14="-","-",S14*3) -> 9527850
A15: 12 | B15: 진도 | C15: 의신 | D15: 돈지 | E15: 1029 | F15: 천 | G15: 13048 | H15: 13197 | J15: 국유지 | K15: 국토교통부 | O15: =COUNTIF(E15,E:E) -> 1 | P15: =IF(J15="국유지", "국유지", "사유지") -> 국유지 | Q15: =P15&F15 -> 국유지천 | R15: - | S15: =IF(R15="-","-",H15*R15) -> - | T15: =IF(R15="-","-",S15*3) -> -
A16: 13 | B16: 진도 | C16: 의신 | D16: 돈지 | E16: 48 | F16: 천 | G16: 1304 | H16: 1322 | J16: 조영 | K16: 서울특별시 송파구 올림픽로 43길 30, 5동 1311호(풍납동,우성APT) | O16: =COUNTIF(E16,E:E) -> 1 | P16: =IF(J16="국유지", "국유지", "사유지") -> 사유지 | Q16: =P16&F16 -> 사유지천 | R16: 3150 | S16: =IF(R16="-","-",H16*R16) -> 4164300 | T16: =IF(R16="-","-",S16*3) -> 12492900
A17: 14 | B17: 진도 | C17: 의신 | D17: 돈지 | E17: 83-5 | F17: 답 | G17: 2285 | H17: 550 | J17: 박복심 | K17: 전라남도 진도군 의신면 돈지리 817번지 | O17: =COUNTIF(E17,E:E) -> 1 | P17: =IF(J17="국유지", "국유지", "사유지") -> 사유지 | Q17: =P17&F17 -> 사유지답 | R17: 4650 | S17: =IF(R17="-","-",H17*R17) -> 2557500 | T17: =IF(R17="-","-",S17*3) -> 7672500
A18: 15 | B18: 진도 | C18: 의신 | D18: 돈지 | E18: 111 | F18: 구 | G18: 403 | H18: 395 | J18: 국유지 | K18: 농림축산식품부 | O18: =COUNTIF(E18,E:E) -> 1 | P18: =IF(J18="국유지", "국유지", "사유지") -> 국유지 | Q18: =P18&F18 -> 국유지구 | R18: - | S18: =IF(R18="-","-",H18*R18) -> - | T18: =IF(R18="-","-",S18*3) -> -
A19: 16 | B19: 진도 | C19: 의신 | D19: 돈지 | E19: 72-1 | F19: 답 | G19: 453 | H19: 455 | J19: 이기덕 | K19: 전라남도 진도군 의신면 돈지리 631번지 | O19: =COUNTIF(E19,E:E) -> 1 | P19: =IF(J19="국유지", "국유지", "사유지") -> 사유지 | Q19: =P19&F19 -> 사유지답 | R19: 990 | S19: =IF(R19="-","-",H19*R19) -> 450450 | T19: =IF(R19="-","-",S19*3) -> 1351350
A20: 17 | B20: 진도 | C20: 의신 | D20: 돈지 | E20: 83-4 | F20: 답 | G20: 1418 | H20: 301 | J20: 박복심 | K20: 전라남도 진도군 의신면 돈지리 817번지 | O20: =COUNTIF(E20,E:E) -> 1 | P20: =IF(J20="국유지", "국유지", "사유지") -> 사유지 | Q20: =P20&F20 -> 사유지답 | R20: 4650 | S20: =IF(R20="-","-",H20*R20) -> 1399650 | T20: =IF(R20="-","-",S20*3) -> 4198950
A21: 18 | B21: 진도 | C21: 의신 | D21: 돈지 | E21: 83-3 | F21: 답 | G21: 3056 | H21: 459 | J21: 박병락 | K21: 부산시 남구 수영동 437-1 현대APT 101-1406 | O21: =COUNTIF(E21,E:E) -> 1 | P21: =IF(J21="국유지", "국유지", "사유지") -> 사유지 | Q21: =P21&F21 -> 사유지답 | R21: 4650 | S21: =IF(R21="-","-",H21*R21) -> 2134350 | T21: =IF(R21="-","-",S21*3) -> 6403050
A22: 19 | B22: 진도 | C22: 의신 | D22: 돈지 | E22: 83-2 | F22: 답 | G22: 2000 | H22: 115 | J22: 이기덕 | K22: 전라남도 진도군 의신면 돈지리 631번지 | O22: =COUNTIF(E22,E:E) -> 1 | P22: =IF(J22="국유지", "국유지", "사유지") -> 사유지 | Q22: =P22&F22 -> 사유지답 | R22: 4650 | S22: =IF(R22="-","-",H22*R22) -> 534750 | T22: =IF(R22="-","-",S22*3) -> 1604250
A23: 20 | B23: 진도 | C23: 의신 | D23: 돈지 | E23: 83-1 | F23: 답 | G23: 1000 | H23: 29 | J23: 조정식 | K23: 전라남도 광양시 진등6길 51, 601동 903호 | O23: =COUNTIF(E23,E:E) -> 1 | P23: =IF(J23="국유지", "국유지", "사유지") -> 사유지 | Q23: =P23&F23 -> 사유지답 | R23: 4650 | S23: =IF(R23="-","-",H23*R23) -> 134850 | T23: =IF(R23="-","-",S23*3) -> 404550
A24: 21 | B24: 진도 | C24: 의신 | D24: 돈지 | E24: 112 | F24: 도 | G24: 176 | H24: 180 | J24: 국유지 | K24: 농림축산식품부 | O24: =COUNTIF(E24,E:E) -> 1 | P24: =IF(J24="국유지", "국유지", "사유지") -> 국유지 | Q24: =P24&F24 -> 국유지도 | R24: - | S24: =IF(R24="-","-",H24*R24) -> - | T24: =IF(R24="-","-",S24*3) -> -
A25: 22 | B25: 진도 | C25: 의신 | D25: 돈지 | E25: 84 | F25: 답 | G25: 1100 | H25: 1101 | J25: 이기덕 | K25: 전라남도 진도군 의신면 돈지리 631번지 | O25: =COUNTIF(E25,E:E) -> 1 | P25: =IF(J25="국유지", "국유지", "사유지") -> 사유지 | Q25: =P25&F25 -> 사유지답 | R25: 4650 | S25: =IF(R25="-","-",H25*R25) -> 5119650 | T25: =IF(R25="-","-",S25*3) -> 15358950
A26: 23 | B26: 진도 | C26: 의신 | D26: 돈지 | E26: 72 | F26: 답 | G26: 253 | H26: 254 | J26: 이기덕 | K26: 전라남도 진도군 의신면 돈지리 631번지 | O26: =COUNTIF(E26,E:E) -> 1 | P26: =IF(J26="국유지", "국유지", "사유지") -> 사유지 | Q26: =P26&F26 -> 사유지답 | R26: 990 | S26: =IF(R26="-","-",H26*R26) -> 251460 | T26: =IF(R26="-","-",S26*3) -> 754380
A27: 24 | B27: 진도 | C27: 의신 | D27: 돈지 | E27: 95 | F27: 구 | G27: 7161 | H27: 786 | J27: 국유지 | K27: 농림축산식품부 | O27: =COUNTIF(E27,E:E) -> 1 | P27: =IF(J27="국유지", "국유지", "사유지") -> 국유지 | Q27: =P27&F27 -> 국유지구 | R27: - | S27: =IF(R27="-","-",H27*R27) -> - | T27: =IF(R27="-","-",S27*3) -> -
A28: 25 | B28: 진도 | C28: 의신 | D28: 돈지 | E28: 1033-2 | F28: 도 | G28: 29 | H28: 31 | J28: 국유지 | K28: 국토교통부 | O28: =COUNTIF(E28,E:E) -> 1 | P28: =IF(J28="국유지", "국유지", "사유지") -> 국유지 | Q28: =P28&F28 -> 국유지도 | R28: - | S28: =IF(R28="-","-",H28*R28) -> - | T28: =IF(R28="-","-",S28*3) -> -
A29: 26 | B29: 진도 | C29: 의신 | D29: 돈지 | E29: 80-23 | F29: 답 | G29: 1474 | H29: 864 | J29: 김현덕 | K29: 전라남도 진도군 의신면 돈지리 602-1번지 | O29: =COUNTIF(E29,E:E) -> 1 | P29: =IF(J29="국유지", "국유지", "사유지") -> 사유지 | Q29: =P29&F29 -> 사유지답 | R29: 4800 | S29: =IF(R29="-","-",H29*R29) -> 4147200 | T29: =IF(R29="-","-",S29*3) -> 12441600
A30: 27 | B30: 진도 | C30: 의신 | D30: 돈지 | E30: 80-22 | F30: 답 | G30: 1111 | H30: 516 | J30: 김현덕 | K30: 전라남도 진도군 의신면 돈지리 602-1번지 | O30: =COUNTIF(E30,E:E) -> 1 | P30: =IF(J30="국유지", "국유지", "사유지") -> 사유지 | Q30: =P30&F30 -> 사유지답 | R30: 4800 | S30: =IF(R30="-","-",H30*R30) -> 2476800 | T30: =IF(R30="-","-",S30*3) -> 7430400
A31: 28 | B31: 진도 | C31: 의신 | D31: 돈지 | E31: 80-21 | F31: 답 | G31: 1846 | H31: 163 | J31: 채성일 | K31: 전라남도 진도군 의신면 만길리 1578-1번지 | O31: =COUNTIF(E31,E:E) -> 1 | P31: =IF(J31="국유지", "국유지", "사유지") -> 사유지 | Q31: =P31&F31 -> 사유지답 | R31: 4800 | S31: =IF(R31="-","-",H31*R31) -> 782400 | T31: =IF(R31="-","-",S31*3) -> 2347200
A32: 29 | B32: 진도 | C32: 의신 | D32: 돈지 | E32: 105 | F32: 구 | G32: 1904 | H32: 286 | J32: 국유지 | K32: 농림축산식품부 | O32: =COUNTIF(E32,E:E) -> 1 | P32: =IF(J32="국유지", "국유지", "사유지") -> 국유지 | Q32: =P32&F32 -> 국유지구 | R32: - | S32: =IF(R32="-","-",H32*R32) -> - | T32: =IF(R32="-","-",S32*3) -> -
A33: 30 | B33: 진도 | C33: 의신 | D33: 돈지 | E33: 106 | F33: 제 | G33: 2788 | H33: 468 | J33: 국유지 | K33: 농림축산식품부 | O33: =COUNTIF(E33,E:E) -> 1 | P33: =IF(J33="국유지", "국유지", "사유지") -> 국유지 | Q33: =P33&F33 -> 국유지제 | R33: - | S33: =IF(R33="-","-",H33*R33) -> - | T33: =IF(R33="-","-",S33*3) -> -
A34: 31 | B34: 진도 | C34: 의신 | D34: 돈지 | E34: 107 | F34: 천 | G34: 7332 | H34: 1099 | J34: 국유지 | K34: 농림축산식품부 | O34: =COUNTIF(E34,E:E) -> 1 | P34: =IF(J34="국유지", "국유지", "사유지") -> 국유지 | Q34: =P34&F34 -> 국유지천 | R34: - | S34: =IF(R34="-","-",H34*R34) -> - | T34: =IF(R34="-","-",S34*3) -> -
A35: 32 | B35: 진도 | C35: 의신 | D35: 돈지 | E35: 50-2 | F35: 천 | G35: 1458 | H35: 608 | J35: 조정희 | K35: 전라남도 진도군 의신면 돈지리 332번지 | O35: =COUNTIF(E35,E:E) -> 1 | P35: =IF(J35="국유지", "국유지", "사유지") -> 사유지 | Q35: =P35&F35 -> 사유지천 | R35: 3150 | S35: =IF(R35="-","-",H35*R35) -> 1915200 | T35: =IF(R35="-","-",S35*3) -> 5745600
A36: 33 | B36: 진도 | C36: 의신 | D36: 돈지 | E36: 1054 | F36: 천 | G36: 1024.5 | H36: 220 | J36: 국유지 | K36: 국토교통부 | O36: =COUNTIF(E36,E:E) -> 1 | P36: =IF(J36="국유지", "국유지", "사유지") -> 국유지 | Q36: =P36&F36 -> 국유지천 | R36: - | S36: =IF(R36="-","-",H36*R36) -> - | T36: =IF(R36="-","-",S36*3) -> -
A37: 34 | B37: 진도 | C37: 의신 | D37: 돈지 | E37: 1045 | F37: 도 | G37: 2871.2 | H37: 275 | J37: 국유지 | K37: 농림축산식품부 | O37: =COUNTIF(E37,E:E) -> 1 | P37: =IF(J37="국유지", "국유지", "사유지") -> 국유지 | Q37: =P37&F37 -> 국유지도 | R37: - | S37: =IF(R37="-","-",H37*R37) -> - | T37: =IF(R37="-","-",S37*3) -> -
A38: 35 | B38: 진도 | C38: 의신 | D38: 돈지 | E38: 1046 | F38: 구 | G38: 1095.2 | H38: 78 | J38: 국유지 | K38: 농림축산식품부 | O38: =COUNTIF(E38,E:E) -> 1 | P38: =IF(J38="국유지", "국유지", "사유지") -> 국유지 | Q38: =P38&F38 -> 국유지구 | R38: - | S38: =IF(R38="-","-",H38*R38) -> - | T38: =IF(R38="-","-",S38*3) -> -
A39: 36 | B39: 진도 | C39: 의신 | D39: 돈지 | E39: 1041-7 | F39: 답 | G39: 1034.6 | H39: 408 | J39: 박소심 | K39: 전라남도 진도군 의신면 돈지2길 27-20 | O39: =COUNTIF(E39,E:E) -> 1 | P39: =IF(J39="국유지", "국유지", "사유지") -> 사유지 | Q39: =P39&F39 -> 사유지답 | R39: 4040 | S39: =IF(R39="-","-",H39*R39) -> 1648320 | T39: =IF(R39="-","-",S39*3) -> 4944960
A40: 37 | B40: 진도 | C40: 의신 | D40: 돈지 | E40: 1048-2 | F40: 구 | G40: 3773.5 | H40: 427 | J40: 국유지 | K40: 농림축산식품부 | O40: =COUNTIF(E40,E:E) -> 1 | P40: =IF(J40="국유지", "국유지", "사유지") -> 국유지 | Q40: =P40&F40 -> 국유지구 | R40: - | S40: =IF(R40="-","-",H40*R40) -> - | T40: =IF(R40="-","-",S40*3) -> -
A41: 38 | B41: 진도 | C41: 의신 | D41: 돈지 | E41: 1052 | F41: 도 | G41: 426.9 | H41: 274 | J41: 국유지 | K41: 농림축산식품부 | O41: =COUNTIF(E41,E:E) -> 1 | P41: =IF(J41="국유지", "국유지", "사유지") -> 국유지 | Q41: =P41&F41 -> 국유지도 | R41: - | S41: =IF(R41="-","-",H41*R41) -> - | T41: =IF(R41="-","-",S41*3) -> -
A42: 39 | B42: 진도 | C42: 의신 | D42: 돈지 | E42: 51-2 | F42: 천 | G42: 2215 | H42: 2238 | J42: 이남수 외2인 | K42: 전라남도 진도군 의신면 돈지리 328번지 | O42: =COUNTIF(E42,E:E) -> 1 | P42: =IF(J42="국유지", "국유지", "사유지") -> 사유지 | Q42: =P42&F42 -> 사유지천 | R42: 1050 | S42: =IF(R42="-","-",H42*R42) -> 2349900 | T42: =IF(R42="-","-",S42*3) -> 7049700
A43: 40 | B43: 진도 | C43: 의신 | D43: 돈지 | E43: 1042-1 | F43: 답 | G43: 2606.7 | H43: 845 | J43: 조규창 | K43: 전라남도 진도군 의신면 돈지리 172번지 | O43: =COUNTIF(E43,E:E) -> 1 | P43: =IF(J43="국유지", "국유지", "사유지") -> 사유지 | Q43: =P43&F43 -> 사유지답 | R43: 4600 | S43: =IF(R43="-","-",H43*R43) -> 3887000 | T43: =IF(R43="-","-",S43*3) -> 11661000
A44: 41 | B44: 진도 | C44: 의신 | D44: 돈지 | E44: 1049 | F44: 도 | G44: 1806.2 | H44: 1793 | J44: 국유지 | K44: 농림축산식품부 | O44: =COUNTIF(E44,E:E) -> 1 | P44: =IF(J44="국유지", "국유지", "사유지") -> 국유지 | Q44: =P44&F44 -> 국유지도 | R44: - | S44: =IF(R44="-","-",H44*R44) -> - | T44: =IF(R44="-","-",S44*3) -> -
A45: 42 | B45: 진도 | C45: 의신 | D45: 돈지 | E45: 1050 | F45: 구 | G45: 846 | H45: 847 | J45: 국유지 | K45: 농림축산식품부 | O45: =COUNTIF(E45,E:E) -> 1 | P45: =IF(J45="국유지", "국유지", "사유지") -> 국유지 | Q45: =P45&F45 -> 국유지구 | R45: - | S45: =IF(R45="-","-",H45*R45) -> - | T45: =IF(R45="-","-",S45*3) -> -
A46: 43 | B46: 진도 | C46: 의신 | D46: 돈지 | E46: 1042-2 | F46: 답 | G46: 342.2 | H46: 89 | J46: 박흥식 | K46: 전라남도 진도군 의신면 돈지리 165번지 | O46: =COUNTIF(E46,E:E) -> 1 | P46: =IF(J46="국유지", "국유지", "사유지") -> 사유지 | Q46: =P46&F46 -> 사유지답 | R46: 4600 | S46: =IF(R46="-","-",H46*R46) -> 409400 | T46: =IF(R46="-","-",S46*3) -> 1228200
A47: 44 | B47: 진도 | C47: 의신 | D47: 돈지 | E47: 1051 | F47: 도 | G47: 271 | H47: 85 | J47: 국유지 | K47: 농림축산식품부 | O47: =COUNTIF(E47,E:E) -> 1 | P47: =IF(J47="국유지", "국유지", "사유지") -> 국유지 | Q47: =P47&F47 -> 국유지도 | R47: - | S47: =IF(R47="-","-",H47*R47) -> - | T47: =IF(R47="-","-",S47*3) -> -
A48: 45 | B48: 진도 | C48: 의신 | D48: 돈지 | E48: 1043-1 | F48: 답 | G48: 4218.9 | H48: 983 | J48: 박흥식 | K48: 전라남도 진도군 의신면 돈지리 165번지 | O48: =COUNTIF(E48,E:E) -> 1 | P48: =IF(J48="국유지", "국유지", "사유지") -> 사유지 | Q48: =P48&F48 -> 사유지답 | R48: 4600 | S48: =IF(R48="-","-",H48*R48) -> 4521800 | T48: =IF(R48="-","-",S48*3) -> 13565400
A49: 46 | B49: 진도 | C49: 의신 | D49: 돈지 | E49: 1043-2 | F49: 답 | G49: 847.8 | H49: 218 | J49: 박흥식 | K49: 전라남도 진도군 의신면 돈지리 165번지 | O49: =COUNTIF(E49,E:E) -> 1 | P49: =IF(J49="국유지", "국유지", "사유지") -> 사유지 | Q49: =P49&F49 -> 사유지답 | R49: 4600 | S49: =IF(R49="-","-",H49*R49) -> 1002800 | T49: =IF(R49="-","-",S49*3) -> 3008400
A50: 47 | B50: 진도 | C50: 의신 | D50: 돈지 | E50: 1043-3 | F50: 답 | G50: 2847.4 | H50: 862 | J50: 박준현 | K50: 서울시 송파구 방이동 225 한양3차APT 2동 203호 | O50: =COUNTIF(E50,E:E) -> 1 | P50: =IF(J50="국유지", "국유지", "사유지") -> 사유지 | Q50: =P50&F50 -> 사유지답 | R50: 4600 | S50: =IF(R50="-","-",H50*R50) -> 3965200 | T50: =IF(R50="-","-",S50*3) -> 11895600
A51: 48 | B51: 진도 | C51: 의신 | D51: 돈지 | E51: 1043-4 | F51: 답 | G51: 2499.1 | H51: 865 | J51: 박병대 | K51: 전라남도 진도군 의신면 돈지리 368번지 | O51: =COUNTIF(E51,E:E) -> 1 | P51: =IF(J51="국유지", "국유지", "사유지") -> 사유지 | Q51: =P51&F51 -> 사유지답 | R51: 4600 | S51: =IF(R51="-","-",H51*R51) -> 3979000 | T51: =IF(R51="-","-",S51*3) -> 11937000
A52: 49 | B52: 진도 | C52: 의신 | D52: 돈지 | E52: 1043-5 | F52: 답 | G52: 2570.9 | H52: 825 | J52: 허태관 | K52: 전라남도 진도군 진도읍 교동리 615 인산APT-505 | O52: =COUNTIF(E52,E:E) -> 1 | P52: =IF(J52="국유지", "국유지", "사유지") -> 사유지 | Q52: =P52&F52 -> 사유지답 | R52: 4600 | S52: =IF(R52="-","-",H52*R52) -> 3795000 | T52: =IF(R52="-","-",S52*3) -> 11385000
A53: 50 | B53: 진도 | C53: 의신 | D53: 돈지 | E53: 1043-6 | F53: 답 | G53: 1780 | H53: 498 | J53: 허태관 | K53: 전라남도 진도군 진도읍 교동리 615 인산APT-505 | O53: =COUNTIF(E53,E:E) -> 1 | P53: =IF(J53="국유지", "국유지", "사유지") -> 사유지 | Q53: =P53&F53 -> 사유지답 | R53: 4600 | S53: =IF(R53="-","-",H53*R53) -> 2290800 | T53: =IF(R53="-","-",S53*3) -> 6872400
A54: 51 | B54: 진도 | C54: 의신 | D54: 돈지 | E54: 1055 | F54: 천 | G54: 493.5 | H54: 494 | J54: 국유지 | K54: 국토교통부 | O54: =COUNTIF(E54,E:E) -> 1 | P54: =IF(J54="국유지", "국유지", "사유지") -> 국유지 | Q54: =P54&F54 -> 국유지천 | R54: - | S54: =IF(R54="-","-",H54*R54) -> - | T54: =IF(R54="-","-",S54*3) -> -
A55: 52 | B55: 진도 | C55: 의신 | D55: 돈지 | E55: 1043-7 | F55: 답 | G55: 1055.9 | H55: 250 | J55: 허태관 | K55: 전라남도 진도군 진도읍 교동리 615 인산APT-505 | O55: =COUNTIF(E55,E:E) -> 1 | P55: =IF(J55="국유지", "국유지", "사유지") -> 사유지 | Q55: =P55&F55 -> 사유지답 | R55: 4600 | S55: =IF(R55="-","-",H55*R55) -> 1150000 | T55: =IF(R55="-","-",S55*3) -> 3450000
A56: 53 | B56: 진도 | C56: 의신 | D56: 돈지 | E56: 1043-8 | F56: 답 | G56: 3101.1 | H56: 523 | J56: 이순예 | K56: 전라남도 진도군 의신면 돈지1길 67-10 | O56: =COUNTIF(E56,E:E) -> 1 | P56: =IF(J56="국유지", "국유지", "사유지") -> 사유지 | Q56: =P56&F56 -> 사유지답 | R56: 4600 | S56: =IF(R56="-","-",H56*R56) -> 2405800 | T56: =IF(R56="-","-",S56*3) -> 7217400
A57: 54 | B57: 진도 | C57: 의신 | D57: 돈지 | E57: 1043-9 | F57: 답 | G57: 3333.5 | H57: 358 | J57: 채성일 | K57: 전라남도 진도군 의신면 만길리 1578-1번지 | O57: =COUNTIF(E57,E:E) -> 1 | P57: =IF(J57="국유지", "국유지", "사유지") -> 사유지 | Q57: =P57&F57 -> 사유지답 | R57: 4600 | S57: =IF(R57="-","-",H57*R57) -> 1646800 | T57: =IF(R57="-","-",S57*3) -> 4940400
A58: 55 | B58: 진도 | C58: 의신 | D58: 돈지 | E58: 1043-10 | F58: 답 | G58: 1451.5 | H58: 154 | J58: 채성일 | K58: 전라남도 진도군 의신면 만길리 1578-1번지 | O58: =COUNTIF(E58,E:E) -> 1 | P58: =IF(J58="국유지", "국유지", "사유지") -> 사유지 | Q58: =P58&F58 -> 사유지답 | R58: 4600 | S58: =IF(R58="-","-",H58*R58) -> 708400 | T58: =IF(R58="-","-",S58*3) -> 2125200
A59: 56 | B59: 진도 | C59: 의신 | D59: 돈지 | E59: 1043-11 | F59: 답 | G59: 1923.6 | H59: 272 | J59: 채성일 | K59: 전라남도 진도군 의신면 만길리 1578-1번지 | O59: =COUNTIF(E59,E:E) -> 1 | P59: =IF(J59="국유지", "국유지", "사유지") -> 사유지 | Q59: =P59&F59 -> 사유지답 | R59: 4600 | S59: =IF(R59="-","-",H59*R59) -> 1251200 | T59: =IF(R59="-","-",S59*3) -> 3753600
A60: 57 | B60: 진도 | C60: 의신 | D60: 돈지 | E60: 1043-12 | F60: 답 | G60: 1194.2 | H60: 217 | J60: 채성일 | K60: 전라남도 진도군 의신면 만길리 1578-1번지 | O60: =COUNTIF(E60,E:E) -> 1 | P60: =IF(J60="국유지", "국유지", "사유지") -> 사유지 | Q60: =P60&F60 -> 사유지답 | R60: 4600 | S60: =IF(R60="-","-",H60*R60) -> 998200 | T60: =IF(R60="-","-",S60*3) -> 2994600
A61: 58 | B61: 진도 | C61: 의신 | D61: 돈지 | E61: 1043-13 | F61: 답 | G61: 1839 | H61: 315 | J61: 채성일 | K61: 전라남도 진도군 의신면 만길리 1578-1번지 | O61: =COUNTIF(E61,E:E) -> 1 | P61: =IF(J61="국유지", "국유지", "사유지") -> 사유지 | Q61: =P61&F61 -> 사유지답 | R61: 4600 | S61: =IF(R61="-","-",H61*R61) -> 1449000 | T61: =IF(R61="-","-",S61*3) -> 4347000
A62: 59 | B62: 진도 | C62: 의신 | D62: 돈지 | E62: 1043-14 | F62: 답 | G62: 2701 | H62: 432 | J62: 홍옥례 | K62: 전라남도 진도군 의신면 옥대리 862번지 | O62: =COUNTIF(E62,E:E) -> 1 | P62: =IF(J62="국유지", "국유지", "사유지") -> 사유지 | Q62: =P62&F62 -> 사유지답 | R62: 4600 | S62: =IF(R62="-","-",H62*R62) -> 1987200 | T62: =IF(R62="-","-",S62*3) -> 5961600
A63: 60 | B63: 진도 | C63: 의신 | D63: 돈지 | E63: 1043-15 | F63: 답 | G63: 1255.4 | H63: 148 | J63: 홍옥례 | K63: 전라남도 진도군 의신면 옥대리 862번지 | O63: =COUNTIF(E63,E:E) -> 1 | P63: =IF(J63="국유지", "국유지", "사유지") -> 사유지 | Q63: =P63&F63 -> 사유지답 | R63: 4460 | S63: =IF(R63="-","-",H63*R63) -> 660080 | T63: =IF(R63="-","-",S63*3) -> 1980240
A64: 61 | B64: 진도 | C64: 의신 | D64: 돈지 | E64: 1043-16 | F64: 답 | G64: 962 | H64: 75 | J64: 홍옥례 | K64: 전라남도 진도군 의신면 옥대리 862번지 | O64: =COUNTIF(E64,E:E) -> 1 | P64: =IF(J64="국유지", "국유지", "사유지") -> 사유지 | Q64: =P64&F64 -> 사유지답 | R64: 4460 | S64: =IF(R64="-","-",H64*R64) -> 334500 | T64: =IF(R64="-","-",S64*3) -> 1003500
A65: 62 | B65: 진도 | C65: 의신 | D65: 돈지 | E65: 1043-17 | F65: 답 | G65: 1206.9 | H65: 32 | J65: 홍옥례 | K65: 전라남도 진도군 의신면 옥대리 862번지 | O65: =COUNTIF(E65,E:E) -> 1 | P65: =IF(J65="국유지", "국유지", "사유지") -> 사유지 | Q65: =P65&F65 -> 사유지답 | R65: 4460 | S65: =IF(R65="-","-",H65*R65) -> 142720 | T65: =IF(R65="-","-",S65*3) -> 428160
A66: 63 | B66: 진도 | C66: 의신 | D66: 돈지 | E66: 1043-20 | F66: 답 | G66: 561 | H66: 56 | J66: 국유지 | K66: 전라남도 | O66: =COUNTIF(E66,E:E) -> 1 | P66: =IF(J66="국유지", "국유지", "사유지") -> 국유지 | Q66: =P66&F66 -> 국유지답 | R66: - | S66: =IF(R66="-","-",H66*R66) -> - | T66: =IF(R66="-","-",S66*3) -> -
A67: 64 | B67: 진도 | C67: 의신 | D67: 돈지 | E67: 1053 | F67: 구 | G67: 3025.3 | H67: 50 | J67: 국유지 | K67: 농림축산식품부 | O67: =COUNTIF(E67,E:E) -> 1 | P67: =IF(J67="국유지", "국유지", "사유지") -> 국유지 | Q67: =P67&F67 -> 국유지구 | R67: - | S67: =IF(R67="-","-",H67*R67) -> - | T67: =IF(R67="-","-",S67*3) -> -
A68: 65 | B68: 진도 | C68: 의신 | D68: 돈지 | E68: 14 | F68: 천 | G68: 179 | H68: 187 | J68: 조석황 | O68: =COUNTIF(E68,E:E) -> 1 | P68: =IF(J68="국유지", "국유지", "사유지") -> 사유지 | Q68: =P68&F68 -> 사유지천 | R68: 1050 | S68: =IF(R68="-","-",H68*R68) -> 196350 | T68: =IF(R68="-","-",S68*3) -> 589050
A69: 66 | B69: 진도 | C69: 의신 | D69: 돈지 | E69: 산98 | F69: 임 | G69: 14777 | H69: 237 | J69: 박병정 외1인 | K69: 전라남도 진도군 의신면 돈지리 111번지 | O69: =COUNTIF(E69,E:E) -> 1 | P69: =IF(J69="국유지", "국유지", "사유지") -> 사유지 | Q69: =P69&F69 -> 사유지임 | R69: 252 | S69: =IF(R69="-","-",H69*R69) -> 59724 | T69: =IF(R69="-","-",S69*3) -> 179172
A70: 67 | B70: 진도 | C70: 의신 | D70: 옥대 | E70: 1147 | F70: 제 | G70: 2566 | H70: 446 | J70: 국유지 | K70: 농림축산식품부 | O70: =COUNTIF(E70,E:E) -> 1 | P70: =IF(J70="국유지", "국유지", "사유지") -> 국유지 | Q70: =P70&F70 -> 국유지제 | R70: - | S70: =IF(R70="-","-",H70*R70) -> - | T70: =IF(R70="-","-",S70*3) -> -
A71: 68 | B71: 진도 | C71: 의신 | D71: 옥대 | E71: 1148 | F71: 구 | G71: 1868 | H71: 288 | J71: 국유지 | K71: 농림축산식품부 | O71: =COUNTIF(E71,E:E) -> 1 | P71: =IF(J71="국유지", "국유지", "사유지") -> 국유지 | Q71: =P71&F71 -> 국유지구 | R71: - | S71: =IF(R71="-","-",H71*R71) -> - | T71: =IF(R71="-","-",S71*3) -> -
A72: 69 | B72: 진도 | C72: 의신 | D72: 옥대 | E72: 37-19 | F72: 답 | G72: 1427 | H72: 43 | J72: 박명우 | K72: 전라남도 목포시 중앙동 1가 5 | O72: =COUNTIF(E72,E:E) -> 1 | P72: =IF(J72="국유지", "국유지", "사유지") -> 사유지 | Q72: =P72&F72 -> 사유지답 | R72: 4600 | S72: =IF(R72="-","-",H72*R72) -> 197800 | T72: =IF(R72="-","-",S72*3) -> 593400
A73: 70 | B73: 진도 | C73: 의신 | D73: 옥대 | E73: 37-18 | F73: 답 | G73: 1600 | H73: 39 | J73: 박명우 | K73: 전라남도 목포시 중앙동 1가 5 | O73: =COUNTIF(E73,E:E) -> 1 | P73: =IF(J73="국유지", "국유지", "사유지") -> 사유지 | Q73: =P73&F73 -> 사유지답 | R73: 4600 | S73: =IF(R73="-","-",H73*R73) -> 179400 | T73: =IF(R73="-","-",S73*3) -> 538200
A74: 71 | B74: 진도 | C74: 의신 | D74: 옥대 | E74: 37-20 | F74: 답 | G74: 1824 | H74: 429 | J74: 김희곤 | K74: 전라남도 목포시 옥암로96번길 15 102동605호 (옥암동, 초원샤르망) | O74: =COUNTIF(E74,E:E) -> 1 | P74: =IF(J74="국유지", "국유지", "사유지") -> 사유지 | Q74: =P74&F74 -> 사유지답 | R74: 4600 | S74: =IF(R74="-","-",H74*R74) -> 1973400 | T74: =IF(R74="-","-",S74*3) -> 5920200
A75: 72 | B75: 진도 | C75: 의신 | D75: 옥대 | E75: 1128 | F75: 천 | G75: 477 | H75: 474 | J75: 국유지 | K75: 진도군 | O75: =COUNTIF(E75,E:E) -> 1 | P75: =IF(J75="국유지", "국유지", "사유지") -> 국유지 | Q75: =P75&F75 -> 국유지천 | R75: - | S75: =IF(R75="-","-",H75*R75) -> - | T75: =IF(R75="-","-",S75*3) -> -
A76: 73 | B76: 진도 | C76: 의신 | D76: 옥대 | E76: 37-21 | F76: 답 | G76: 452 | H76: 456 | J76: 국유지 | K76: 기획제청부 | O76: =COUNTIF(E76,E:E) -> 1 | P76: =IF(J76="국유지", "국유지", "사유지") -> 국유지 | Q76: =P76&F76 -> 국유지답 | R76: - | S76: =IF(R76="-","-",H76*R76) -> - | T76: =IF(R76="-","-",S76*3) -> -
A77: 74 | B77: 진도 | C77: 의신 | D77: 옥대 | E77: 1296-2 | F77: 천 | G77: 394 | H77: 371 | J77: 국유지 | K77: 국토교통부 | O77: =COUNTIF(E77,E:E) -> 1 | P77: =IF(J77="국유지", "국유지", "사유지") -> 국유지 | Q77: =P77&F77 -> 국유지천 | R77: - | S77: =IF(R77="-","-",H77*R77) -> - | T77: =IF(R77="-","-",S77*3) -> -
A78: 75 | B78: 진도 | C78: 의신 | D78: 옥대 | E78: 1131-3 | F78: 천 | G78: 6148 | H78: 6153 | J78: 국유지 | K78: 전라남도 | O78: =COUNTIF(E78,E:E) -> 1 | P78: =IF(J78="국유지", "국유지", "사유지") -> 국유지 | Q78: =P78&F78 -> 국유지천 | R78: - | S78: =IF(R78="-","-",H78*R78) -> - | T78: =IF(R78="-","-",S78*3) -> -
A79: 76 | B79: 진도 | C79: 의신 | D79: 옥대 | E79: 1149 | F79: 제 | G79: 65 | H79: 64 | J79: 국유지 | K79: 농림축산식품부 | O79: =COUNTIF(E79,E:E) -> 1 | P79: =IF(J79="국유지", "국유지", "사유지") -> 국유지 | Q79: =P79&F79 -> 국유지제 | R79: - | S79: =IF(R79="-","-",H79*R79) -> - | T79: =IF(R79="-","-",S79*3) -> -
A80: 77 | B80: 진도 | C80: 의신 | D80: 옥대 | E80: 1150 | F80: 구 | G80: 1431 | H80: 98 | J80: 국유지 | K80: 농림축산식품부 | O80: =COUNTIF(E80,E:E) -> 1 | P80: =IF(J80="국유지", "국유지", "사유지") -> 국유지 | Q80: =P80&F80 -> 국유지구 | R80: - | S80: =IF(R80="-","-",H80*R80) -> - | T80: =IF(R80="-","-",S80*3) -> -
A81: 78 | B81: 진도 | C81: 의신 | D81: 옥대 | E81: 1151 | F81: 도 | G81: 1738 | H81: 152 | J81: 국유지 | K81: 농림축산식품부 | O81: =COUNTIF(E81,E:E) -> 1 | P81: =IF(J81="국유지", "국유지", "사유지") -> 국유지 | Q81: =P81&F81 -> 국유지도 | R81: - | S81: =IF(R81="-","-",H81*R81) -> - | T81: =IF(R81="-","-",S81*3) -> -
A82: 79 | B82: 진도 | C82: 의신 | D82: 옥대 | E82: 38-22 | F82: 답 | G82: 1665 | H82: 14 | J82: 박두극 | K82: 전라남도 진도군 의신면 옥대리 872 | O82: =COUNTIF(E82,E:E) -> 1 | P82: =IF(J82="국유지", "국유지", "사유지") -> 사유지 | Q82: =P82&F82 -> 사유지답 | R82: 4600 | S82: =IF(R82="-","-",H82*R82) -> 64400 | T82: =IF(R82="-","-",S82*3) -> 193200
A83: 80 | B83: 진도 | C83: 의신 | D83: 옥대 | E83: 1296 | F83: 도 | G83: 469 | H83: 459 | J83: 국유지 | K83: 국토교통부 | O83: =COUNTIF(E83,E:E) -> 1 | P83: =IF(J83="국유지", "국유지", "사유지") -> 국유지 | Q83: =P83&F83 -> 국유지도 | R83: - | S83: =IF(R83="-","-",H83*R83) -> - | T83: =IF(R83="-","-",S83*3) -> -
A84: 81 | B84: 진도 | C84: 의신 | D84: 옥대 | E84: 1132 | F84: 천 | G84: 812 | H84: 800 | J84: 국유지 | K84: 진도군 | O84: =COUNTIF(E84,E:E) -> 1 | P84: =IF(J84="국유지", "국유지", "사유지") -> 국유지 | Q84: =P84&F84 -> 국유지천 | R84: - | S84: =IF(R84="-","-",H84*R84) -> - | T84: =IF(R84="-","-",S84*3) -> -
A85: 82 | B85: 진도 | C85: 의신 | D85: 옥대 | E85: 1146 | F85: 답 | G85: 46 | H85: 48 | J85: 김상현 | K85: 전라남도 진도군 의신면 옥대리 914 | O85: =COUNTIF(E85,E:E) -> 1 | P85: =IF(J85="국유지", "국유지", "사유지") -> 사유지 | Q85: =P85&F85 -> 사유지답 | R85: 2080 | S85: =IF(R85="-","-",H85*R85) -> 99840 | T85: =IF(R85="-","-",S85*3) -> 299520
A86: 83 | B86: 진도 | C86: 의신 | D86: 옥대 | E86: 1131 | F86: 임 | G86: 386 | H86: 390 | J86: 옥대리 | O86: =COUNTIF(E86,E:E) -> 1 | P86: =IF(J86="국유지", "국유지", "사유지") -> 사유지 | Q86: =P86&F86 -> 사유지임 | R86: 924 | S86: =IF(R86="-","-",H86*R86) -> 360360 | T86: =IF(R86="-","-",S86*3) -> 1081080
A87: 84 | B87: 진도 | C87: 의신 | D87: 옥대 | E87: 38-23 | F87: 답 | G87: 1805 | H87: 1023 | J87: 박경선 | K87: 광주시 서구 진월동 413-55 | O87: =COUNTIF(E87,E:E) -> 1 | P87: =IF(J87="국유지", "국유지", "사유지") -> 사유지 | Q87: =P87&F87 -> 사유지답 | R87: 4600 | S87: =IF(R87="-","-",H87*R87) -> 4705800 | T87: =IF(R87="-","-",S87*3) -> 14117400
A88: 85 | B88: 진도 | C88: 의신 | D88: 옥대 | E88: 1152 | F88: 구 | G88: 1966 | H88: 63 | J88: 국유지 | K88: 농림축산식품부 | O88: =COUNTIF(E88,E:E) -> 1 | P88: =IF(J88="국유지", "국유지", "사유지") -> 국유지 | Q88: =P88&F88 -> 국유지구 | R88: - | S88: =IF(R88="-","-",H88*R88) -> - | T88: =IF(R88="-","-",S88*3) -> -
A89: 86 | B89: 진도 | C89: 의신 | D89: 옥대 | E89: 1134 | F89: 천 | G89: 711 | H89: 724 | J89: 국유지 | K89: 전라남도 | O89: =COUNTIF(E89,E:E) -> 1 | P89: =IF(J89="국유지", "국유지", "사유지") -> 국유지 | Q89: =P89&F89 -> 국유지천 | R89: - | S89: =IF(R89="-","-",H89*R89) -> - | T89: =IF(R89="-","-",S89*3) -> -
A90: 87 | B90: 진도 | C90: 의신 | D90: 옥대 | E90: 1296-3 | F90: 천 | G90: 373 | H90: 351 | J90: 국유지 | K90: 국토교통부 | O90: =COUNTIF(E90,E:E) -> 1 | P90: =IF(J90="국유지", "국유지", "사유지") -> 국유지 | Q90: =P90&F90 -> 국유지천 | R90: - | S90: =IF(R90="-","-",H90*R90) -> - | T90: =IF(R90="-","-",S90*3) -> -
A91: 88 | B91: 진도 | C91: 의신 | D91: 옥대 | E91: 1135 | F91: 천 | G91: 1202 | H91: 1201 | J91: 서기문 | K91: 제주도 북제주군 임월면 임월리 1717 | O91: =COUNTIF(E91,E:E) -> 1 | P91: =IF(J91="국유지", "국유지", "사유지") -> 사유지 | Q91: =P91&F91 -> 사유지천 | R91: 3150 | S91: =IF(R91="-","-",H91*R91) -> 3783150 | T91: =IF(R91="-","-",S91*3) -> 11349450
A92: 89 | B92: 진도 | C92: 의신 | D92: 옥대 | E92: 39-22 | F92: 답 | G92: 1478 | H92: 1208 | J92: 김재곤 | K92: 전라남도 진도군 의신면 옥대리 717 | O92: =COUNTIF(E92,E:E) -> 1 | P92: =IF(J92="국유지", "국유지", "사유지") -> 사유지 | Q92: =P92&F92 -> 사유지답 | R92: 4600 | S92: =IF(R92="-","-",H92*R92) -> 5556800 | T92: =IF(R92="-","-",S92*3) -> 16670400
A93: 90 | B93: 진도 | C93: 의신 | D93: 옥대 | E93: 1155 | F93: 구 | G93: 1352 | H93: 111 | J93: 국유지 | K93: 농림축산식품부 | O93: =COUNTIF(E93,E:E) -> 1 | P93: =IF(J93="국유지", "국유지", "사유지") -> 국유지 | Q93: =P93&F93 -> 국유지구 | R93: - | S93: =IF(R93="-","-",H93*R93) -> - | T93: =IF(R93="-","-",S93*3) -> -
A94: 91 | B94: 진도 | C94: 의신 | D94: 옥대 | E94: 39-21 | F94: 답 | G94: 1200 | H94: 63 | J94: 김봉현 | K94: 전라남도 진도군 의신면 옥대리 689 | O94: =COUNTIF(E94,E:E) -> 1 | P94: =IF(J94="국유지", "국유지", "사유지") -> 사유지 | Q94: =P94&F94 -> 사유지답 | R94: 4600 | S94: =IF(R94="-","-",H94*R94) -> 289800 | T94: =IF(R94="-","-",S94*3) -> 869400
A95: 92 | B95: 진도 | C95: 의신 | D95: 옥대 | E95: 39-20 | F95: 답 | G95: 2050 | H95: 7 | J95: 김봉현 | K95: 전라남도 진도군 의신면 옥대리 689 | O95: =COUNTIF(E95,E:E) -> 1 | P95: =IF(J95="국유지", "국유지", "사유지") -> 사유지 | Q95: =P95&F95 -> 사유지답 | R95: 4600 | S95: =IF(R95="-","-",H95*R95) -> 32200 | T95: =IF(R95="-","-",S95*3) -> 96600
A96: 93 | B96: 진도 | C96: 의신 | D96: 옥대 | E96: 1156 | F96: 도 | G96: 1536 | H96: 143 | J96: 국유지 | K96: 농림축산식품부 | O96: =COUNTIF(E96,E:E) -> 1 | P96: =IF(J96="국유지", "국유지", "사유지") -> 국유지 | Q96: =P96&F96 -> 국유지도 | R96: - | S96: =IF(R96="-","-",H96*R96) -> - | T96: =IF(R96="-","-",S96*3) -> -
A97: 94 | B97: 진도 | C97: 의신 | D97: 옥대 | E97: 40-23 | F97: 답 | G97: 1600 | H97: 8 | J97: 주현철 | K97: 인천 연수구 연수동 516-14 | O97: =COUNTIF(E97,E:E) -> 1 | P97: =IF(J97="국유지", "국유지", "사유지") -> 사유지 | Q97: =P97&F97 -> 사유지답 | R97: 4600 | S97: =IF(R97="-","-",H97*R97) -> 36800 | T97: =IF(R97="-","-",S97*3) -> 110400
A98: 95 | B98: 진도 | C98: 의신 | D98: 옥대 | E98: 40-24 | F98: 답 | G98: 3280 | H98: 1391 | J98: 채성원 | K98: 진도군 의신면 만길리 375 | O98: =COUNTIF(E98,E:E) -> 1 | P98: =IF(J98="국유지", "국유지", "사유지") -> 사유지 | Q98: =P98&F98 -> 사유지답 | R98: 4600 | S98: =IF(R98="-","-",H98*R98) -> 6398600 | T98: =IF(R98="-","-",S98*3) -> 19195800
A99: 96 | B99: 진도 | C99: 의신 | D99: 옥대 | E99: 1142 | F99: 천 | G99: 1542 | H99: 1554 | J99: 국유지 | K99: 전라남도 | O99: =COUNTIF(E99,E:E) -> 1 | P99: =IF(J99="국유지", "국유지", "사유지") -> 국유지 | Q99: =P99&F99 -> 국유지천 | R99: - | S99: =IF(R99="-","-",H99*R99) -> - | T99: =IF(R99="-","-",S99*3) -> -
A100: 97 | B100: 진도 | C100: 의신 | D100: 옥대 | E100: 1295 | F100: 도 | G100: 390 | H100: 287 | J100: 국유지 | K100: 건설부 | O100: =COUNTIF(E100,E:E) -> 1 | P100: =IF(J100="국유지", "국유지", "사유지") -> 국유지 | Q100: =P100&F100 -> 국유지도 | R100: - | S100: =IF(R100="-","-",H100*R100) -> - | T100: =IF(R100="-","-",S100*3) -> -
...

Sheet 편입용지집계표(하류)
A1: 편 입 면 적 집 계 표 (의 신 지 구)
A3: 의신천 하천재해예방사업 실시설계
A4: 지목별 | C4: 계 | D4: 전 | E4: 답 | F4: 임야 | G4: 대지 | H4: 도로 | I4: 하천 | J4: 구 거 | K4: 묘 | L4: 제방 | M4: 유지 | N4: 종교 | O4: 공유 수면 | P4: 잡종지 | Q4: 철 도 용 지 | R4: 창 고 | S4: 공장 | T4: 비고
A5: 소유자별
A6: 국유지 | B6: 필지 | C6: =SUM(D6:S6) -> 50 | D6: =COUNTIF('편입용지조서(하류)'!$Q:$Q,CONCATENATE('편입용지집계표(하류)'!$A6,LEFT('편입용지집계표(하류)'!D$4,1))) -> 0 | E6: =COUNTIF('편입용지조서(하류)'!$Q:$Q,CONCATENATE('편입용지집계표(하류)'!$A6,LEFT('편입용지집계표(하류)'!E$4,1))) -> 8 | F6: =COUNTIF('편입용지조서(하류)'!$Q:$Q,CONCATENATE('편입용지집계표(하류)'!$A6,LEFT('편입용지집계표(하류)'!F$4,1))) -> 0 | G6: =COUNTIF('편입용지조서(하류)'!$Q:$Q,CONCATENATE('편입용지집계표(하류)'!$A6,LEFT('편입용지집계표(하류)'!G$4,1))) -> 0 | H6: =COUNTIF('편입용지조서(하류)'!$Q:$Q,CONCATENATE('편입용지집계표(하류)'!$A6,LEFT('편입용지집계표(하류)'!H$4,1))) -> 19 | I6: =COUNTIF('편입용지조서(하류)'!$Q:$Q,CONCATENATE('편입용지집계표(하류)'!$A6,RIGHT('편입용지집계표(하류)'!I$4,1))) -> 1 | J6: =COUNTIF('편입용지조서(하류)'!$Q:$Q,CONCATENATE('편입용지집계표(하류)'!$A6,LEFT('편입용지집계표(하류)'!J$4,1))) -> 21 | K6: =COUNTIF('편입용지조서(하류)'!$Q:$Q,CONCATENATE('편입용지집계표(하류)'!$A6,LEFT('편입용지집계표(하류)'!K$4,1))) -> 0 | L6: =COUNTIF('편입용지조서(하류)'!$Q:$Q,CONCATENATE('편입용지집계표(하류)'!$A6,LEFT('편입용지집계표(하류)'!L$4,1))) -> 1 | M6: =COUNTIF('편입용지조서(하류)'!$Q:$Q,CONCATENATE('편입용지집계표(하류)'!$A6,LEFT('편입용지집계표(하류)'!M$4,1))) -> 0 | N6: =COUNTIF('편입용지조서(하류)'!$Q:$Q,CONCATENATE('편입용지집계표(하류)'!$A6,LEFT('편입용지집계표(하류)'!N$4,1))) -> 0 | O6: =COUNTIF('편입용지조서(하류)'!$Q:$Q,CONCATENATE('편입용지집계표(하류)'!$A6,LEFT('편입용지집계표(하류)'!O$4,1))) -> 0 | P6: =COUNTIF('편입용지조서(하류)'!$Q:$Q,CONCATENATE('편입용지집계표(하류)'!$A6,LEFT('편입용지집계표(하류)'!P$4,1))) -> 0 | Q6: =COUNTIF('편입용지조서(하류)'!$Q:$Q,CONCATENATE('편입용지집계표(하류)'!$A6,LEFT('편입용지집계표(하류)'!Q$4,1))) -> 0 | R6: =COUNTIF('편입용지조서(하류)'!$Q:$Q,CONCATENATE('편입용지집계표(하류)'!$A6,LEFT('편입용지집계표(하류)'!R$4,1))) -> 0 | S6: 0
B7: 면적 | C7: =SUM(D7:S7) -> 11914 | D7: =SUMIF('편입용지조서(하류)'!$Q:$Q,CONCATENATE('편입용지집계표(하류)'!$A6,LEFT('편입용지집계표(하류)'!D$4,1)),'편입용지조서(하류)'!$H:$H) -> 0 | E7: =SUMIF('편입용지조서(하류)'!$Q:$Q,CONCATENATE('편입용지집계표(하류)'!$A6,LEFT('편입용지집계표(하류)'!E$4,1)),'편입용지조서(하류)'!$H:$H) -> 2511 | F7: =SUMIF('편입용지조서(하류)'!$Q:$Q,CONCATENATE('편입용지집계표(하류)'!$A6,LEFT('편입용지집계표(하류)'!F$4,1)),'편입용지조서(하류)'!$H:$H) -> 0 | G7: =SUMIF('편입용지조서(하류)'!$Q:$Q,CONCATENATE('편입용지집계표(하류)'!$A6,LEFT('편입용지집계표(하류)'!G$4,1)),'편입용지조서(하류)'!$H:$H) -> 0 | H7: =SUMIF('편입용지조서(하류)'!$Q:$Q,CONCATENATE('편입용지집계표(하류)'!$A6,LEFT('편입용지집계표(하류)'!H$4,1)),'편입용지조서(하류)'!$H:$H) -> 3241 | I7: =SUMIF('편입용지조서(하류)'!$Q:$Q,CONCATENATE('편입용지집계표(하류)'!$A6,RIGHT('편입용지집계표(하류)'!I$4,1)),'편입용지조서(하류)'!$H:$H) -> 2295 | J7: =SUMIF('편입용지조서(하류)'!$Q:$Q,CONCATENATE('편입용지집계표(하류)'!$A6,LEFT('편입용지집계표(하류)'!J$4,1)),'편입용지조서(하류)'!$H:$H) -> 2961 | K7: =SUMIF('편입용지조서(하류)'!$Q:$Q,CONCATENATE('편입용지집계표(하류)'!$A6,LEFT('편입용지집계표(하류)'!K$4,1)),'편입용지조서(하류)'!$H:$H) -> 0 | L7: =SUMIF('편입용지조서(하류)'!$Q:$Q,CONCATENATE('편입용지집계표(하류)'!$A6,LEFT('편입용지집계표(하류)'!L$4,1)),'편입용지조서(하류)'!$H:$H) -> 906 | M7: =SUMIF('편입용지조서(하류)'!$Q:$Q,CONCATENATE('편입용지집계표(하류)'!$A6,LEFT('편입용지집계표(하류)'!M$4,1)),'편입용지조서(하류)'!$H:$H) -> 0 | N7: =SUMIF('편입용지조서(하류)'!$Q:$Q,CONCATENATE('편입용지집계표(하류)'!$A6,LEFT('편입용지집계표(하류)'!N$4,1)),'편입용지조서(하류)'!$H:$H) -> 0 | O7: =SUMIF('편입용지조서(하류)'!$Q:$Q,CONCATENATE('편입용지집계표(하류)'!$A6,LEFT('편입용지집계표(하류)'!O$4,1)),'편입용지조서(하류)'!$H:$H) -> 0 | P7: =SUMIF('편입용지조서(하류)'!$Q:$Q,CONCATENATE('편입용지집계표(하류)'!$A6,LEFT('편입용지집계표(하류)'!P$4,1)),'편입용지조서(하류)'!$H:$H) -> 0 | Q7: =SUMIF('편입용지조서(하류)'!$Q:$Q,CONCATENATE('편입용지집계표(하류)'!$A6,LEFT('편입용지집계표(하류)'!Q$4,1)),'편입용지조서(하류)'!$H:$H) -> 0 | R7: =SUMIF('편입용지조서(하류)'!$Q:$Q,CONCATENATE('편입용지집계표(하류)'!$A6,LEFT('편입용지집계표(하류)'!R$4,1)),'편입용지조서(하류)'!$H:$H) -> 0 | S7: 0
A8: 사유지 | B8: 필지 | C8: =SUM(D8:S8) -> 58 | D8: =COUNTIF('편입용지조서(하류)'!$Q:$Q,CONCATENATE('편입용지집계표(하류)'!$A8,LEFT('편입용지집계표(하류)'!D$4,1))) -> 0 | E8: =COUNTIF('편입용지조서(하류)'!$Q:$Q,CONCATENATE('편입용지집계표(하류)'!$A8,LEFT('편입용지집계표(하류)'!E$4,1))) -> 49 | F8: =COUNTIF('편입용지조서(하류)'!$Q:$Q,CONCATENATE('편입용지집계표(하류)'!$A8,LEFT('편입용지집계표(하류)'!F$4,1))) -> 2 | G8: =COUNTIF('편입용지조서(하류)'!$Q:$Q,CONCATENATE('편입용지집계표(하류)'!$A8,LEFT('편입용지집계표(하류)'!G$4,1))) -> 0 | H8: =COUNTIF('편입용지조서(하류)'!$Q:$Q,CONCATENATE('편입용지집계표(하류)'!$A8,LEFT('편입용지집계표(하류)'!H$4,1))) -> 0 | I8: =COUNTIF('편입용지조서(하류)'!$Q:$Q,CONCATENATE('편입용지집계표(하류)'!$A8,RIGHT('편입용지집계표(하류)'!I$4,1))) -> 2 | J8: =COUNTIF('편입용지조서(하류)'!$Q:$Q,CONCATENATE('편입용지집계표(하류)'!$A8,LEFT('편입용지집계표(하류)'!J$4,1))) -> 1 | K8: 0 | L8: =COUNTIF('편입용지조서(하류)'!$Q:$Q,CONCATENATE('편입용지집계표(하류)'!$A8,LEFT('편입용지집계표(하류)'!L$4,1))) -> 3 | M8: =COUNTIF('편입용지조서(하류)'!$Q:$Q,CONCATENATE('편입용지집계표(하류)'!$A8,LEFT('편입용지집계표(하류)'!M$4,1))) -> 0 | N8: =COUNTIF('편입용지조서(하류)'!$Q:$Q,CONCATENATE('편입용지집계표(하류)'!$A8,LEFT('편입용지집계표(하류)'!N$4,1))) -> 0 | O8: =COUNTIF('편입용지조서(하류)'!$Q:$Q,CONCATENATE('편입용지집계표(하류)'!$A8,LEFT('편입용지집계표(하류)'!O$4,1))) -> 0 | P8: =COUNTIF('편입용지조서(하류)'!$Q:$Q,CONCATENATE('편입용지집계표(하류)'!$A8,LEFT('편입용지집계표(하류)'!P$4,1))) -> 1 | Q8: =COUNTIF('편입용지조서(하류)'!$Q:$Q,CONCATENATE('편입용지집계표(하류)'!$A8,LEFT('편입용지집계표(하류)'!Q$4,1))) -> 0 | R8: =COUNTIF('편입용지조서(하류)'!$Q:$Q,CONCATENATE('편입용지집계표(하류)'!$A8,LEFT('편입용지집계표(하류)'!R$4,1))) -> 0 | S8: 0
B9: 면적 | C9: =SUM(D9:S9) -> 124569 | D9: =SUMIF('편입용지조서(하류)'!$Q:$Q,CONCATENATE('편입용지집계표(하류)'!$A8,LEFT('편입용지집계표(하류)'!D$4,1)),'편입용지조서(하류)'!$H:$H) -> 0 | E9: =SUMIF('편입용지조서(하류)'!$Q:$Q,CONCATENATE('편입용지집계표(하류)'!$A8,LEFT('편입용지집계표(하류)'!E$4,1)),'편입용지조서(하류)'!$H:$H) -> 50376 | F9: =SUMIF('편입용지조서(하류)'!$Q:$Q,CONCATENATE('편입용지집계표(하류)'!$A8,LEFT('편입용지집계표(하류)'!F$4,1)),'편입용지조서(하류)'!$H:$H) -> 57 | G9: =SUMIF('편입용지조서(하류)'!$Q:$Q,CONCATENATE('편입용지집계표(하류)'!$A8,LEFT('편입용지집계표(하류)'!G$4,1)),'편입용지조서(하류)'!$H:$H) -> 0 | H9: =SUMIF('편입용지조서(하류)'!$Q:$Q,CONCATENATE('편입용지집계표(하류)'!$A8,LEFT('편입용지집계표(하류)'!H$4,1)),'편입용지조서(하류)'!$H:$H) -> 0 | I9: =SUMIF('편입용지조서(하류)'!$Q:$Q,CONCATENATE('편입용지집계표(하류)'!$A8,RIGHT('편입용지집계표(하류)'!I$4,1)),'편입용지조서(하류)'!$H:$H) -> 47375 | J9: =SUMIF('편입용지조서(하류)'!$Q:$Q,CONCATENATE('편입용지집계표(하류)'!$A8,LEFT('편입용지집계표(하류)'!J$4,1)),'편입용지조서(하류)'!$H:$H) -> 75 | K9: =SUMIF('편입용지조서(하류)'!$Q:$Q,CONCATENATE('편입용지집계표(하류)'!$A8,LEFT('편입용지집계표(하류)'!K$4,1)),'편입용지조서(하류)'!$H:$H) -> 0 | L9: =SUMIF('편입용지조서(하류)'!$Q:$Q,CONCATENATE('편입용지집계표(하류)'!$A8,LEFT('편입용지집계표(하류)'!L$4,1)),'편입용지조서(하류)'!$H:$H) -> 26616 | M9: =SUMIF('편입용지조서(하류)'!$Q:$Q,CONCATENATE('편입용지집계표(하류)'!$A8,LEFT('편입용지집계표(하류)'!M$4,1)),'편입용지조서(하류)'!$H:$H) -> 0 | N9: =SUMIF('편입용지조서(하류)'!$Q:$Q,CONCATENATE('편입용지집계표(하류)'!$A8,LEFT('편입용지집계표(하류)'!N$4,1)),'편입용지조서(하류)'!$H:$H) -> 0 | O9: =SUMIF('편입용지조서(하류)'!$Q:$Q,CONCATENATE('편입용지집계표(하류)'!$A8,LEFT('편입용지집계표(하류)'!O$4,1)),'편입용지조서(하류)'!$H:$H) -> 0 | P9: =SUMIF('편입용지조서(하류)'!$Q:$Q,CONCATENATE('편입용지집계표(하류)'!$A8,LEFT('편입용지집계표(하류)'!P$4,1)),'편입용지조서(하류)'!$H:$H) -> 70 | Q9: =SUMIF('편입용지조서(하류)'!$Q:$Q,CONCATENATE('편입용지집계표(하류)'!$A8,LEFT('편입용지집계표(하류)'!Q$4,1)),'편입용지조서(하류)'!$H:$H) -> 0 | R9: =SUMIF('편입용지조서(하류)'!$Q:$Q,CONCATENATE('편입용지집계표(하류)'!$A8,LEFT('편입용지집계표(하류)'!R$4,1)),'편입용지조서(하류)'!$H:$H) -> 0 | S9: 0
A10: 총 계 | B10: 필지 | C10: =C6+C8 -> 108 | D10: =D6+D8 -> 0 | E10: =E6+E8 -> 57 | F10: =F6+F8 -> 2 | G10: =G6+G8 -> 0 | H10: =H6+H8 -> 19 | I10: =I6+I8 -> 3 | J10: =J6+J8 -> 22 | ... S10: =S6+S8 -> 0
B11: 면적 | C11: =C7+C9 -> 136483 | D11: =D7+D9 -> 0 | E11: =E7+E9 -> 52887 | F11: =F7+F9 -> 57 | G11: =G7+G9 -> 0 | H11: =H7+H9 -> 3241 | I11: =I7+I9 -> 49670 | J11: =J7+J9 -> 3036 | ... S11: =S7+S9 -> 0
A12: 포 락 면 적 집 계 표 (의 신 지 구)
A14: =A3 -> 의신천 하천재해예방사업 실시설계
A15: 지목별 | C15: 계 | D15: 전 | E15: 답 | F15: 임야 | G15: 대지 | H15: 도로 | I15: 하천 | J15: 구 거 | K15: 묘 | L15: 제방 | M15: 유지 | N15: 종교 | O15: 공유 수면 | P15: 잡종지 | Q15: 철 도 용 지 | R15: 창 고 | S15: 공장 | T15: 비고
A16: 소유자별
A17: 국유지 | B17: 필지 | C17: =SUM(D17:S17) -> 50 | D17: =COUNTIF('편입용지조서(하류)'!$Q:$Q,CONCATENATE('편입용지집계표(하류)'!$A17,LEFT('편입용지집계표(하류)'!D$4,1))) -> 0 | E17: =COUNTIF('편입용지조서(하류)'!$Q:$Q,CONCATENATE('편입용지집계표(하류)'!$A17,LEFT('편입용지집계표(하류)'!E$4,1))) -> 8 | F17: =COUNTIF('편입용지조서(하류)'!$Q:$Q,CONCATENATE('편입용지집계표(하류)'!$A17,LEFT('편입용지집계표(하류)'!F$4,1))) -> 0 | G17: =COUNTIF('편입용지조서(하류)'!$Q:$Q,CONCATENATE('편입용지집계표(하류)'!$A17,LEFT('편입용지집계표(하류)'!G$4,1))) -> 0 | H17: =COUNTIF('편입용지조서(하류)'!$Q:$Q,CONCATENATE('편입용지집계표(하류)'!$A17,LEFT('편입용지집계표(하류)'!H$4,1))) -> 19 | I17: =COUNTIF('편입용지조서(하류)'!$Q:$Q,CONCATENATE('편입용지집계표(하류)'!$A17,RIGHT('편입용지집계표(하류)'!I$4,1))) -> 1 | J17: =COUNTIF('편입용지조서(하류)'!$Q:$Q,CONCATENATE('편입용지집계표(하류)'!$A17,LEFT('편입용지집계표(하류)'!J$4,1))) -> 21 | K17: =COUNTIF('편입용지조서(하류)'!$Q:$Q,CONCATENATE('편입용지집계표(하류)'!$A17,LEFT('편입용지집계표(하류)'!K$4,1))) -> 0 | L17: =COUNTIF('편입용지조서(하류)'!$Q:$Q,CONCATENATE('편입용지집계표(하류)'!$A17,LEFT('편입용지집계표(하류)'!L$4,1))) -> 1 | M17: =COUNTIF('편입용지조서(하류)'!$Q:$Q,CONCATENATE('편입용지집계표(하류)'!$A17,LEFT('편입용지집계표(하류)'!M$4,1))) -> 0 | N17: =COUNTIF('편입용지조서(하류)'!$Q:$Q,CONCATENATE('편입용지집계표(하류)'!$A17,LEFT('편입용지집계표(하류)'!N$4,1))) -> 0 | O17: =COUNTIF('편입용지조서(하류)'!$Q:$Q,CONCATENATE('편입용지집계표(하류)'!$A17,LEFT('편입용지집계표(하류)'!O$4,1))) -> 0 | P17: =COUNTIF('편입용지조서(하류)'!$Q:$Q,CONCATENATE('편입용지집계표(하류)'!$A17,LEFT('편입용지집계표(하류)'!P$4,1))) -> 0 | Q17: =COUNTIF('편입용지조서(하류)'!$Q:$Q,CONCATENATE('편입용지집계표(하류)'!$A17,LEFT('편입용지집계표(하류)'!Q$4,1))) -> 0 | R17: =COUNTIF('편입용지조서(하류)'!$Q:$Q,CONCATENATE('편입용지집계표(하류)'!$A17,LEFT('편입용지집계표(하류)'!R$4,1))) -> 0 | S17: 0
B18: 면적 | C18: =SUM(D18:S18) -> 83559 | D18: =SUMIF('편입용지조서(하류)'!$Q:$Q,CONCATENATE('편입용지집계표(하류)'!$A17,LEFT('편입용지집계표(하류)'!D$4,1)),'편입용지조서(하류)'!$G:$G) -> 0 | E18: =SUMIF('편입용지조서(하류)'!$Q:$Q,CONCATENATE('편입용지집계표(하류)'!$A17,LEFT('편입용지집계표(하류)'!E$4,1)),'편입용지조서(하류)'!$G:$G) -> 5613 | F18: =SUMIF('편입용지조서(하류)'!$Q:$Q,CONCATENATE('편입용지집계표(하류)'!$A17,LEFT('편입용지집계표(하류)'!F$4,1)),'편입용지조서(하류)'!$G:$G) -> 0 | G18: =SUMIF('편입용지조서(하류)'!$Q:$Q,CONCATENATE('편입용지집계표(하류)'!$A17,LEFT('편입용지집계표(하류)'!G$4,1)),'편입용지조서(하류)'!$G:$G) -> 0 | H18: =SUMIF('편입용지조서(하류)'!$Q:$Q,CONCATENATE('편입용지집계표(하류)'!$A17,LEFT('편입용지집계표(하류)'!H$4,1)),'편입용지조서(하류)'!$G:$G) -> 28110 | I18: =SUMIF('편입용지조서(하류)'!$Q:$Q,CONCATENATE('편입용지집계표(하류)'!$A17,RIGHT('편입용지집계표(하류)'!I$4,1)),'편입용지조서(하류)'!$G:$G) -> 11408 | J18: =SUMIF('편입용지조서(하류)'!$Q:$Q,CONCATENATE('편입용지집계표(하류)'!$A17,LEFT('편입용지집계표(하류)'!J$4,1)),'편입용지조서(하류)'!$G:$G) -> 31995 | K18: =SUMIF('편입용지조서(하류)'!$Q:$Q,CONCATENATE('편입용지집계표(하류)'!$A17,LEFT('편입용지집계표(하류)'!K$4,1)),'편입용지조서(하류)'!$G:$G) -> 0 | L18: =SUMIF('편입용지조서(하류)'!$Q:$Q,CONCATENATE('편입용지집계표(하류)'!$A17,LEFT('편입용지집계표(하류)'!L$4,1)),'편입용지조서(하류)'!$G:$G) -> 6433 | M18: =SUMIF('편입용지조서(하류)'!$Q:$Q,CONCATENATE('편입용지집계표(하류)'!$A17,LEFT('편입용지집계표(하류)'!M$4,1)),'편입용지조서(하류)'!$G:$G) -> 0 | N18: =SUMIF('편입용지조서(하류)'!$Q:$Q,CONCATENATE('편입용지집계표(하류)'!$A17,LEFT('편입용지집계표(하류)'!N$4,1)),'편입용지조서(하류)'!$G:$G) -> 0 | O18: =SUMIF('편입용지조서(하류)'!$Q:$Q,CONCATENATE('편입용지집계표(하류)'!$A17,LEFT('편입용지집계표(하류)'!O$4,1)),'편입용지조서(하류)'!$G:$G) -> 0 | P18: =SUMIF('편입용지조서(하류)'!$Q:$Q,CONCATENATE('편입용지집계표(하류)'!$A17,LEFT('편입용지집계표(하류)'!P$4,1)),'편입용지조서(하류)'!$G:$G) -> 0 | Q18: =SUMIF('편입용지조서(하류)'!$Q:$Q,CONCATENATE('편입용지집계표(하류)'!$A17,LEFT('편입용지집계표(하류)'!Q$4,1)),'편입용지조서(하류)'!$G:$G) -> 0 | R18: =SUMIF('편입용지조서(하류)'!$Q:$Q,CONCATENATE('편입용지집계표(하류)'!$A17,LEFT('편입용지집계표(하류)'!R$4,1)),'편입용지조서(하류)'!$G:$G) -> 0 | S18: 0
A19: 사유지 | B19: 필지 | C19: =SUM(D19:S19) -> 58 | D19: =COUNTIF('편입용지조서(하류)'!$Q:$Q,CONCATENATE('편입용지집계표(하류)'!$A19,LEFT('편입용지집계표(하류)'!D$4,1))) -> 0 | E19: =COUNTIF('편입용지조서(하류)'!$Q:$Q,CONCATENATE('편입용지집계표(하류)'!$A19,LEFT('편입용지집계표(하류)'!E$4,1))) -> 49 | F19: =COUNTIF('편입용지조서(하류)'!$Q:$Q,CONCATENATE('편입용지집계표(하류)'!$A19,LEFT('편입용지집계표(하류)'!F$4,1))) -> 2 | G19: =COUNTIF('편입용지조서(하류)'!$Q:$Q,CONCATENATE('편입용지집계표(하류)'!$A19,LEFT('편입용지집계표(하류)'!G$4,1))) -> 0 | H19: =COUNTIF('편입용지조서(하류)'!$Q:$Q,CONCATENATE('편입용지집계표(하류)'!$A19,LEFT('편입용지집계표(하류)'!H$4,1))) -> 0 | I19: =COUNTIF('편입용지조서(하류)'!$Q:$Q,CONCATENATE('편입용지집계표(하류)'!$A19,RIGHT('편입용지집계표(하류)'!I$4,1))) -> 2 | J19: =COUNTIF('편입용지조서(하류)'!$Q:$Q,CONCATENATE('편입용지집계표(하류)'!$A19,LEFT('편입용지집계표(하류)'!J$4,1))) -> 1 | K19: 국.공유지 | L19: =COUNTIF('편입용지조서(하류)'!$Q:$Q,CONCATENATE('편입용지집계표(하류)'!$A19,LEFT('편입용지집계표(하류)'!L$4,1))) -> 3 | M19: =COUNTIF('편입용지조서(하류)'!$Q:$Q,CONCATENATE('편입용지집계표(하류)'!$A19,LEFT('편입용지집계표(하류)'!M$4,1))) -> 0 | N19: =COUNTIF('편입용지조서(하류)'!$Q:$Q,CONCATENATE('편입용지집계표(하류)'!$A19,LEFT('편입용지집계표(하류)'!N$4,1))) -> 0 | O19: =COUNTIF('편입용지조서(하류)'!$Q:$Q,CONCATENATE('편입용지집계표(하류)'!$A19,LEFT('편입용지집계표(하류)'!O$4,1))) -> 0 | P19: =COUNTIF('편입용지조서(하류)'!$Q:$Q,CONCATENATE('편입용지집계표(하류)'!$A19,LEFT('편입용지집계표(하류)'!P$4,1))) -> 1 | Q19: =COUNTIF('편입용지조서(하류)'!$Q:$Q,CONCATENATE('편입용지집계표(하류)'!$A19,LEFT('편입용지집계표(하류)'!Q$4,1))) -> 0 | R19: =COUNTIF('편입용지조서(하류)'!$Q:$Q,CONCATENATE('편입용지집계표(하류)'!$A19,LEFT('편입용지집계표(하류)'!R$4,1))) -> 0 | S19: 0
B20: 면적 | C20: =SUM(D20:S20) -> 254117 | D20: =SUMIF('편입용지조서(하류)'!$Q:$Q,CONCATENATE('편입용지집계표(하류)'!$A19,LEFT('편입용지집계표(하류)'!D$4,1)),'편입용지조서(하류)'!$G:$G) -> 0 | E20: =SUMIF('편입용지조서(하류)'!$Q:$Q,CONCATENATE('편입용지집계표(하류)'!$A19,LEFT('편입용지집계표(하류)'!E$4,1)),'편입용지조서(하류)'!$G:$G) -> 125292 | F20: =SUMIF('편입용지조서(하류)'!$Q:$Q,CONCATENATE('편입용지집계표(하류)'!$A19,LEFT('편입용지집계표(하류)'!F$4,1)),'편입용지조서(하류)'!$G:$G) -> 29058 | G20: =SUMIF('편입용지조서(하류)'!$Q:$Q,CONCATENATE('편입용지집계표(하류)'!$A19,LEFT('편입용지집계표(하류)'!G$4,1)),'편입용지조서(하류)'!$G:$G) -> 0 | H20: =SUMIF('편입용지조서(하류)'!$Q:$Q,CONCATENATE('편입용지집계표(하류)'!$A19,LEFT('편입용지집계표(하류)'!H$4,1)),'편입용지조서(하류)'!$G:$G) -> 0 | I20: =SUMIF('편입용지조서(하류)'!$Q:$Q,CONCATENATE('편입용지집계표(하류)'!$A19,RIGHT('편입용지집계표(하류)'!I$4,1)),'편입용지조서(하류)'!$G:$G) -> 62896 | J20: =SUMIF('편입용지조서(하류)'!$Q:$Q,CONCATENATE('편입용지집계표(하류)'!$A19,LEFT('편입용지집계표(하류)'!J$4,1)),'편입용지조서(하류)'!$G:$G) -> 890 | K20: =SUMIF('편입용지조서(하류)'!$Q:$Q,CONCATENATE('편입용지집계표(하류)'!$A19,LEFT('편입용지집계표(하류)'!K$4,1)),'편입용지조서(하류)'!$G:$G) -> 0 | L20: =SUMIF('편입용지조서(하류)'!$Q:$Q,CONCATENATE('편입용지집계표(하류)'!$A19,LEFT('편입용지집계표(하류)'!L$4,1)),'편입용지조서(하류)'!$G:$G) -> 35911 | M20: =SUMIF('편입용지조서(하류)'!$Q:$Q,CONCATENATE('편입용지집계표(하류)'!$A19,LEFT('편입용지집계표(하류)'!M$4,1)),'편입용지조서(하류)'!$G:$G) -> 0 | N20: =SUMIF('편입용지조서(하류)'!$Q:$Q,CONCATENATE('편입용지집계표(하류)'!$A19,LEFT('편입용지집계표(하류)'!N$4,1)),'편입용지조서(하류)'!$G:$G) -> 0 | O20: =SUMIF('편입용지조서(하류)'!$Q:$Q,CONCATENATE('편입용지집계표(하류)'!$A19,LEFT('편입용지집계표(하류)'!O$4,1)),'편입용지조서(하류)'!$G:$G) -> 0 | P20: =SUMIF('편입용지조서(하류)'!$Q:$Q,CONCATENATE('편입용지집계표(하류)'!$A19,LEFT('편입용지집계표(하류)'!P$4,1)),'편입용지조서(하류)'!$G:$G) -> 70 | Q20: =SUMIF('편입용지조서(하류)'!$Q:$Q,CONCATENATE('편입용지집계표(하류)'!$A19,LEFT('편입용지집계표(하류)'!Q$4,1)),'편입용지조서(하류)'!$G:$G) -> 0 | R20: =SUMIF('편입용지조서(하류)'!$Q:$Q,CONCATENATE('편입용지집계표(하류)'!$A19,LEFT('편입용지집계표(하류)'!R$4,1)),'편입용지조서(하류)'!$G:$G) -> 0 | S20: 0
A21: 총 계 | B21: 필지 | C21: =C17+C19 -> 108 | D21: =D17+D19 -> 0 | E21: =E17+E19 -> 57 | F21: =F17+F19 -> 2 | G21: =G17+G19 -> 0 | H21: =H17+H19 -> 19 | I21: =I17+I19 -> 3 | J21: =J17+J19 -> 22 | ... S21: =S17+S19 -> 0
B22: 면적 | C22: =C18+C20 -> 337676 | D22: =D18+D20 -> 0 | E22: =E18+E20 -> 130905 | F22: =F18+F20 -> 29058 | G22: =G18+G20 -> 0 | H22: =H18+H20 -> 28110 | I22: =I18+I20 -> 74304 | J22: =J18+J20 -> 32885 | ... S22: =S18+S20 -> 0

Sheet 편입용지조서(하류)
A1: 편 입 용 지 조 서 (의 신 지 구) | R1: 공시지가 | S1: 보상금액 | T1: 조정액(3배)
A2: 토 지 소 재 지 | F2: 지목 | G2: 지 적 | H2: 편입지적 | I2: 실제 이용 현황 | J2: 소 유 자 (토 지 대 장) | L2: 관 계 인 (등 기 부 등 본) | N2: 비 고 | O2: 필지수 | P2: 소유구분
A3: 번호 | B3: 군 | C3: 면 | D3: 리 | E3: 지 번 | G3: (㎡) | H3: (㎡) | J3: 성 명 | K3: 주 소 | L3: 성 명 | M3: 주 소
A4: 152 | B4: 진도 | C4: 의신 | D4: 옥대 | E4: 산89 | F4: 임 | G4: 2479 | H4: 51 | J4: 주종렬 | K4: 전라남도 진도군 의신면 금갑리 20번지 | O4: =COUNTIF(E4,E:E) -> 1 | P4: =IF(J4="국유지", "국유지", "사유지") -> 사유지 | Q4: =P4&F4 -> 사유지임 | R4: 326 | S4: =IF(R4="-","-",H4*R4) -> 16626 | T4: =IF(R4="-","-",S4*3) -> 49878
A5: 153 | B5: 진도 | C5: 의신 | D5: 옥대 | E5: 1409 | F5: 천 | G5: 32965 | H5: 26822 | J5: 진도토지개량조합 | K5: 진도읍 성내리 43-14 | O5: =COUNTIF(E5,E:E) -> 1 | P5: =IF(J5="국유지", "국유지", "사유지") -> 사유지 | Q5: =P5&F5 -> 사유지천 | R5: - | S5: =IF(R5="-","-",H5*R5) -> - | T5: =IF(R5="-","-",S5*3) -> -
A6: 154 | B6: 진도 | C6: 의신 | D6: 옥대 | E6: 45-18 | F6: 답 | G6: 2987 | H6: 866 | J6: 김준영 | K6: 전라남도 진도군 의신면 중리길 18-10 | O6: =COUNTIF(E6,E:E) -> 1 | P6: =IF(J6="국유지", "국유지", "사유지") -> 사유지 | Q6: =P6&F6 -> 사유지답 | R6: 5590 | S6: =IF(R6="-","-",H6*R6) -> 4840940 | T6: =IF(R6="-","-",S6*3) -> 14522820
A7: 155 | B7: 진도 | C7: 의신 | D7: 옥대 | E7: 1310-8 | F7: 구 | G7: 3288 | H7: 159 | J7: 국유지 | K7: 농림수산부 | O7: =COUNTIF(E7,E:E) -> 1 | P7: =IF(J7="국유지", "국유지", "사유지") -> 국유지 | Q7: =P7&F7 -> 국유지구 | R7: 1550 | S7: =IF(R7="-","-",H7*R7) -> 246450 | T7: =IF(R7="-","-",S7*3) -> 739350
A8: 156 | B8: 진도 | C8: 의신 | D8: 옥대 | E8: 45-17 | F8: 답 | G8: 3465 | H8: 129 | J8: 김준영 | K8: 전라남도 진도군 의신면 중리길 18-10 | O8: =COUNTIF(E8,E:E) -> 1 | P8: =IF(J8="국유지", "국유지", "사유지") -> 사유지 | Q8: =P8&F8 -> 사유지답 | R8: 5590 | S8: =IF(R8="-","-",H8*R8) -> 721110 | T8: =IF(R8="-","-",S8*3) -> 2163330
A9: 157 | B9: 진도 | C9: 의신 | D9: 옥대 | E9: 45-16 | F9: 답 | G9: 2995 | H9: 41 | J9: 채성원 | K9: 전라남도 진도군 의신면 만길로 302-7 | O9: =COUNTIF(E9,E:E) -> 1 | P9: =IF(J9="국유지", "국유지", "사유지") -> 사유지 | Q9: =P9&F9 -> 사유지답 | R9: 5590 | S9: =IF(R9="-","-",H9*R9) -> 229190 | T9: =IF(R9="-","-",S9*3) -> 687570
A10: 158 | B10: 진도 | C10: 의신 | D10: 옥대 | E10: 1170 | F10: 도 | G10: 4616 | H10: 434 | J10: 국유지 | K10: 농림수산부 | O10: =COUNTIF(E10,E:E) -> 1 | P10: =IF(J10="국유지", "국유지", "사유지") -> 국유지 | Q10: =P10&F10 -> 국유지도 | R10: 1580 | S10: =IF(R10="-","-",H10*R10) -> 685720 | T10: =IF(R10="-","-",S10*3) -> 2057160
A11: 159 | B11: 진도 | C11: 의신 | D11: 옥대 | E11: 1171 | F11: 구 | G11: 1153 | H11: 262 | J11: 국유지 | K11: 농림수산부 | O11: =COUNTIF(E11,E:E) -> 1 | P11: =IF(J11="국유지", "국유지", "사유지") -> 국유지 | Q11: =P11&F11 -> 국유지구 | R11: 1580 | S11: =IF(R11="-","-",H11*R11) -> 413960 | T11: =IF(R11="-","-",S11*3) -> 1241880
A12: 160 | B12: 진도 | C12: 의신 | D12: 옥대 | E12: 46-15 | F12: 도 | G12: 931 | H12: 273 | J12: 국유지 | K12: 진도군 | O12: =COUNTIF(E12,E:E) -> 1 | P12: =IF(J12="국유지", "국유지", "사유지") -> 국유지 | Q12: =P12&F12 -> 국유지도 | R12: 1580 | S12: =IF(R12="-","-",H12*R12) -> 431340 | T12: =IF(R12="-","-",S12*3) -> 1294020
A13: 161 | B13: 진도 | C13: 의신 | D13: 옥대 | E13: 46-12 | F13: 답 | G13: 2207 | H13: 60 | J13: 김준영 | K13: 전라남도 진도군 의신면 중리길 18-10 | O13: =COUNTIF(E13,E:E) -> 1 | P13: =IF(J13="국유지", "국유지", "사유지") -> 사유지 | Q13: =P13&F13 -> 사유지답 | R13: 5590 | S13: =IF(R13="-","-",H13*R13) -> 335400 | T13: =IF(R13="-","-",S13*3) -> 1006200
A14: 162 | B14: 진도 | C14: 의신 | D14: 옥대 | E14: 1310-7 | F14: 도 | G14: 1372 | H14: 94 | J14: 국유지 | K14: 농림수산부 | O14: =COUNTIF(E14,E:E) -> 1 | P14: =IF(J14="국유지", "국유지", "사유지") -> 국유지 | Q14: =P14&F14 -> 국유지도 | R14: 1580 | S14: =IF(R14="-","-",H14*R14) -> 148520 | T14: =IF(R14="-","-",S14*3) -> 445560
A15: 163 | B15: 진도 | C15: 의신 | D15: 옥대 | E15: 1310-9 | F15: 도 | G15: 37 | H15: 37 | J15: 국유지 | K15: 진도군 | O15: =COUNTIF(E15,E:E) -> 1 | P15: =IF(J15="국유지", "국유지", "사유지") -> 국유지 | Q15: =P15&F15 -> 국유지도 | R15: 1550 | S15: =IF(R15="-","-",H15*R15) -> 57350 | T15: =IF(R15="-","-",S15*3) -> 172050
A16: 164 | B16: 진도 | C16: 의신 | D16: 옥대 | E16: 1310-6 | F16: 구 | G16: 614 | H16: 83 | J16: 국유지 | K16: 농림수산부 | O16: =COUNTIF(E16,E:E) -> 1 | P16: =IF(J16="국유지", "국유지", "사유지") -> 국유지 | Q16: =P16&F16 -> 국유지구 | R16: 1580 | S16: =IF(R16="-","-",H16*R16) -> 131140 | T16: =IF(R16="-","-",S16*3) -> 393420
A17: 165 | B17: 진도 | C17: 의신 | D17: 옥대 | E17: 1408 | F17: 제 | G17: 12992 | H17: 12992 | J17: 진도토지개량조합 | K17: 진도읍 성내리 43-14 | O17: =COUNTIF(E17,E:E) -> 1 | P17: =IF(J17="국유지", "국유지", "사유지") -> 사유지 | Q17: =P17&F17 -> 사유지제 | R17: 1550 | S17: =IF(R17="-","-",H17*R17) -> 20137600 | T17: =IF(R17="-","-",S17*3) -> 60412800
... A22: 170 | B22: 진도 | C22: 의신 | D22: 옥대 | E22: 1311-6 | F22: 답 | G22: 3126 | H22: 2113 | J22: 채성원 | K22: 전라남도 진도군 의신면 만길리 375 | O22: =COUNTIF(E22,E:E) -> 1 | P22: =IF(J22="국유지", "국유지", "사유지") -> 사유지 | Q22: =P22&F22 -> 사유지답 | R22: 4700 | S22: =IF(R22="-","-",H22*R22) -> 9931100 | T22: =IF(R22="-","-",S22*3) -> 29793300
A23: 171 | B23: 진도 | C23: 의신 | D23: 옥대 | E23: 1311-5 | F23: 답 | G23: 3000 | H23: 9 | J23: 김애신 | K23: 974 | O23: =COUNTIF(E23,E:E) -> 1 | P23: =IF(J23="국유지", "국유지", "사유지") -> 사유지 | Q23: =P23&F23 -> 사유지답 | R23: 4700 | S23: =IF(R23="-","-",H23*R23) -> 42300 | T23: =IF(R23="-","-",S23*3) -> 126900
A24: 172 | B24: 진도 | C24: 의신 | D24: 옥대 | E24: 1312-7 | F24: 도 | G24: 1470 | H24: 167 | J24: 국유지 | K24: 농림수산부 | O24: =COUNTIF(E24,E:E) -> 1 | P24: =IF(J24="국유지", "국유지", "사유지") -> 국유지 | Q24: =P24&F24 -> 국유지도 | R24: 1550 | S24: =IF(R24="-","-",H24*R24) -> 258850 | T24: =IF(R24="-","-",S24*3) -> 776550
A25: 173 | B25: 진도 | C25: 의신 | D25: 옥대 | E25: 1312-6 | F25: 답 | G25: 3465 | H25: 2129 | J25: 박근성 | K25: 전라남도 진도군 의신면 창포길 29 | O25: =COUNTIF(E25,E:E) -> 1 | P25: =IF(J25="국유지", "국유지", "사유지") -> 사유지 | Q25: =P25&F25 -> 사유지답 | R25: 4700 | S25: =IF(R25="-","-",H25*R25) -> 10006300 | T25: =IF(R25="-","-",S25*3) -> 30018900
A26: 174 | B26: 진도 | C26: 의신 | D26: 옥대 | E26: 1313-8 | F26: 도 | G26: 500 | H26: 120 | J26: 국유지 | K26: 농림수산부 | O26: =COUNTIF(E26,E:E) -> 1 | P26: =IF(J26="국유지", "국유지", "사유지") -> 국유지 | Q26: =P26&F26 -> 국유지도 | R26: 1550 | S26: =IF(R26="-","-",H26*R26) -> 186000 | T26: =IF(R26="-","-",S26*3) -> 558000
A27: 175 | B27: 진도 | C27: 의신 | D27: 옥대 | E27: 1313-7 | F27: 구 | G27: 403 | H27: 110 | J27: 국유지 | K27: 농림수산부 | O27: =COUNTIF(E27,E:E) -> 1 | P27: =IF(J27="국유지", "국유지", "사유지") -> 국유지 | Q27: =P27&F27 -> 국유지구 | R27: 1550 | S27: =IF(R27="-","-",H27*R27) -> 170500 | T27: =IF(R27="-","-",S27*3) -> 511500
A28: 176 | B28: 진도 | C28: 의신 | D28: 옥대 | E28: 1313-4 | F28: 답 | G28: 3000 | H28: 6 | J28: 최말례 | K28: 전라남도 진도군 의신면 옥대길 24-4 | O28: =COUNTIF(E28,E:E) -> 1 | P28: =IF(J28="국유지", "국유지", "사유지") -> 사유지 | Q28: =P28&F28 -> 사유지답 | R28: 4700 | S28: =IF(R28="-","-",H28*R28) -> 28200 | T28: =IF(R28="-","-",S28*3) -> 84600
A29: 177 | B29: 진도 | C29: 의신 | D29: 옥대 | E29: 1313-5 | F29: 답 | G29: 3000 | H29: 1041 | J29: 주현석 | K29: 인천광역시 남동구 호구포로 803, 2201동 1004호 | O29: =COUNTIF(E29,E:E) -> 1 | P29: =IF(J29="국유지", "국유지", "사유지") -> 사유지 | Q29: =P29&F29 -> 사유지답 | R29: 4700 | S29: =IF(R29="-","-",H29*R29) -> 4892700 | T29: =IF(R29="-","-",S29*3) -> 14678100
A30: 178 | B30: 진도 | C30: 의신 | D30: 옥대 | E30: 1313-6 | F30: 답 | G30: 1276 | H30: 1269 | J30: 박숙례 | K30: 광주광역시 북구 연제동 1007 연제1차대주피오레 104-1101 | O30: =COUNTIF(E30,E:E) -> 1 | P30: =IF(J30="국유지", "국유지", "사유지") -> 사유지 | Q30: =P30&F30 -> 사유지답 | R30: 4700 | S30: =IF(R30="-","-",H30*R30) -> 5964300 | T30: =IF(R30="-","-",S30*3) -> 17892900
A31: 179 | B31: 진도 | C31: 의신 | D31: 옥대 | E31: 1314-10 | F31: 구 | G31: 1102 | H31: 112 | J31: 국유지 | K31: 농림수산부 | O31: =COUNTIF(E31,E:E) -> 1 | P31: =IF(J31="국유지", "국유지", "사유지") -> 국유지 | Q31: =P31&F31 -> 국유지구 | R31: 1550 | S31: =IF(R31="-","-",H31*R31) -> 173600 | T31: =IF(R31="-","-",S31*3) -> 520800
A32: 180 | B32: 진도 | C32: 의신 | D32: 옥대 | E32: 1314-8 | F32: 답 | G32: 2870 | H32: 1225 | J32: 박종월 | K32: 청용리 443 | O32: =COUNTIF(E32,E:E) -> 1 | P32: =IF(J32="국유지", "국유지", "사유지") -> 사유지 | Q32: =P32&F32 -> 사유지답 | R32: 4700 | S32: =IF(R32="-","-",H32*R32) -> 5757500 | T32: =IF(R32="-","-",S32*3) -> 17272500
A33: 181 | B33: 진도 | C33: 의신 | D33: 옥대 | E33: 1314-9 | F33: 답 | G33: 1024 | H33: 1024 | J33: 박종월 | K33: 청용리 443 | O33: =COUNTIF(E33,E:E) -> 1 | P33: =IF(J33="국유지", "국유지", "사유지") -> 사유지 | Q33: =P33&F33 -> 사유지답 | R33: 4700 | S33: =IF(R33="-","-",H33*R33) -> 4812800 | T33: =IF(R33="-","-",S33*3) -> 14438400
A34: 182 | B34: 진도 | C34: 의신 | D34: 옥대 | E34: 1410 | F34: 제 | G34: 4056 | H34: 2810 | J34: 진도토지개량조합 | K34: 진도읍 성내리 43-14 | O34: =COUNTIF(E34,E:E) -> 1 | P34: =IF(J34="국유지", "국유지", "사유지") -> 사유지 | Q34: =P34&F34 -> 사유지제 | R34: 1550 | S34: =IF(R34="-","-",H34*R34) -> 4355500 | T34: =IF(R34="-","-",S34*3) -> 13066500
A35: 183 | B35: 진도 | C35: 의신 | D35: 옥대 | E35: 산76 | F35: 임 | G35: 26579 | H35: 6 | J35: 선명숙 | K35: 경기도 성남시 수정구 신흥동 4545 | O35: =COUNTIF(E35,E:E) -> 1 | P35: =IF(J35="국유지", "국유지", "사유지") -> 사유지 | Q35: =P35&F35 -> 사유지임 | R35: 448 | S35: =IF(R35="-","-",H35*R35) -> 2688 | T35: =IF(R35="-","-",S35*3) -> 8064
... A79: 227 | B79: 진도 | C79: 의신 | D79: 연주 | E79: 931-17 | F79: 답 | G79: 852 | H79: 852 | J79: 채성일 | K79: 진도군 의신면 만길리 1578-1 | O79: =COUNTIF(E79,E:E) -> 1 | P79: =IF(J79="국유지", "국유지", "사유지") -> 사유지 | Q79: =P79&F79 -> 사유지답 | R79: 4260 | S79: =IF(R79="-","-",H79*R79) -> 3629520 | T79: =IF(R79="-","-",S79*3) -> 10888560
A80: 228 | B80: 진도 | C80: 의신 | D80: 연주 | E80: 1033 | F80: 제 | G80: 6433 | H80: 906 | J80: 국유지 | K80: 건설교통부 | O80: =COUNTIF(E80,E:E) -> 1 | P80: =IF(J80="국유지", "국유지", "사유지") -> 국유지 | Q80: =P80&F80 -> 국유지제 | R80: - | S80: =IF(R80="-","-",H80*R80) -> - | T80: =IF(R80="-","-",S80*3) -> -
A81: 229 | B81: 진도 | C81: 의신 | D81: 연주 | E81: 1034 | F81: 천 | G81: 11408 | H81: 2295 | J81: 국유지 | K81: 건설교통부 | O81: =COUNTIF(E81,E:E) -> 1 | P81: =IF(J81="국유지", "국유지", "사유지") -> 국유지 | Q81: =P81&F81 -> 국유지천 | R81: - | S81: =IF(R81="-","-",H81*R81) -> - | T81: =IF(R81="-","-",S81*3) -> -
A82: 230 | B82: 진도 | C82: 의신 | D82: 연주 | E82: 931-16 | F82: 답 | G82: 2780 | H82: 1089 | J82: 채성일 | K82: 진도군 의신면 만길리 1578-1 | O82: =COUNTIF(E82,E:E) -> 1 | P82: =IF(J82="국유지", "국유지", "사유지") -> 사유지 | Q82: =P82&F82 -> 사유지답 | R82: 4260 | S82: =IF(R82="-","-",H82*R82) -> 4639140 | T82: =IF(R82="-","-",S82*3) -> 13917420
A83: 231 | B83: 진도 | C83: 의신 | D83: 연주 | E83: 931-24 | F83: 답 | G83: 51 | H83: 51 | J83: 국유지 | K83: 진도군 | O83: =COUNTIF(E83,E:E) -> 1 | P83: =IF(J83="국유지", "국유지", "사유지") -> 국유지 | Q83: =P83&F83 -> 국유지답 | R83: 1610 | S83: =IF(R83="-","-",H83*R83) -> 82110 | T83: =IF(R83="-","-",S83*3) -> 246330
A84: 232 | B84: 진도 | C84: 의신 | D84: 연주 | E84: 931-23 | F84: 답 | G84: 73 | H84: 73 | J84: 국유지 | K84: 진도군 | O84: =COUNTIF(E84,E:E) -> 1 | P84: =IF(J84="국유지", "국유지", "사유지") -> 국유지 | Q84: =P84&F84 -> 국유지답 | R84: 1610 | S84: =IF(R84="-","-",H84*R84) -> 117530 | T84: =IF(R84="-","-",S84*3) -> 352590
A85: 233 | B85: 진도 | C85: 의신 | D85: 연주 | E85: 931-22 | F85: 답 | G85: 23 | H85: 23 | J85: 국유지 | K85: 진도군 | O85: =COUNTIF(E85,E:E) -> 1 | P85: =IF(J85="국유지", "국유지", "사유지") -> 국유지 | Q85: =P85&F85 -> 국유지답 | R85: 1610 | S85: =IF(R85="-","-",H85*R85) -> 37030 | T85: =IF(R85="-","-",S85*3) -> 111090
A86: 234 | B86: 진도 | C86: 의신 | D86: 연주 | E86: 931-21 | F86: 답 | G86: 147 | H86: 82 | J86: 국유지 | K86: 진도군 | O86: =COUNTIF(E86,E:E) -> 1 | P86: =IF(J86="국유지", "국유지", "사유지") -> 국유지 | Q86: =P86&F86 -> 국유지답 | R86: 1610 | S86: =IF(R86="-","-",H86*R86) -> 132020 | T86: =IF(R86="-","-",S86*3) -> 396060
A87: 235 | B87: 진도 | C87: 의신 | D87: 연주 | E87: 931-18 | F87: 도 | G87: 1647 | H87: 40 | J87: 국유지 | K87: 농림수산부 | O87: =COUNTIF(E87,E:E) -> 1 | P87: =IF(J87="국유지", "국유지", "사유지") -> 국유지 | Q87: =P87&F87 -> 국유지도 | R87: 1610 | S87: =IF(R87="-","-",H87*R87) -> 64400 | T87: =IF(R87="-","-",S87*3) -> 193200
A88: 236 | B88: 진도 | C88: 의신 | D88: 만길 | E88: 1782-15 | F88: 도 | G88: 1252 | H88: 140 | J88: 국유지 | K88: 농림수산부 | O88: =COUNTIF(E88,E:E) -> 1 | P88: =IF(J88="국유지", "국유지", "사유지") -> 국유지 | Q88: =P88&F88 -> 국유지도 | R88: 1480 | S88: =IF(R88="-","-",H88*R88) -> 207200 | T88: =IF(R88="-","-",S88*3) -> 621600
A89: 237 | B89: 진도 | C89: 의신 | D89: 만길 | E89: 1783-1 | F89: 답 | G89: 2560 | H89: 2293 | J89: 채성일 | K89: 전라남도 진도군 의신면 만길리 1578-1 | O89: =COUNTIF(E89,E:E) -> 1 | P89: =IF(J89="국유지", "국유지", "사유지") -> 사유지 | Q89: =P89&F89 -> 사유지답 | R89: 4500 | S89: =IF(R89="-","-",H89*R89) -> 10318500 | T89: =IF(R89="-","-",S89*3) -> 30955500
A90: 238 | B90: 진도 | C90: 의신 | D90: 만길 | E90: 1783-2 | F90: 답 | G90: 3000 | H90: 296 | J90: 김애신 | K90: 진도읍 남동리 974 | O90: =COUNTIF(E90,E:E) -> 1 | P90: =IF(J90="국유지", "국유지", "사유지") -> 사유지 | Q90: =P90&F90 -> 사유지답 | R90: 4500 | S90: =IF(R90="-","-",H90*R90) -> 1332000 | T90: =IF(R90="-","-",S90*3) -> 3996000
A91: 239 | B91: 진도 | C91: 의신 | D91: 만길 | E91: 1783-10 | F91: 구 | G91: 1225 | H91: 125 | J91: 국유지 | K91: 농림수산부 | O91: =COUNTIF(E91,E:E) -> 1 | P91: =IF(J91="국유지", "국유지", "사유지") -> 국유지 | Q91: =P91&F91 -> 국유지구 | R91: 1480 | S91: =IF(R91="-","-",H91*R91) -> 185000 | T91: =IF(R91="-","-",S91*3) -> 555000
A92: 240 | B92: 진도 | C92: 의신 | D92: 만길 | E92: 1784-1 | F92: 답 | G92: 3036 | H92: 2593 | J92: 이정옥 | K92: 전라남도 진도군 의신면 수품길 15 | O92: =COUNTIF(E92,E:E) -> 1 | P92: =IF(J92="국유지", "국유지", "사유지") -> 사유지 | Q92: =P92&F92 -> 사유지답 | R92: 4500 | S92: =IF(R92="-","-",H92*R92) -> 11668500 | T92: =IF(R92="-","-",S92*3) -> 35005500
A93: 241 | B93: 진도 | C93: 의신 | D93: 만길 | E93: 1784-2 | F93: 답 | G93: 3000 | H93: 154 | J93: 박석준 | K93: 돈지리 177 | O93: =COUNTIF(E93,E:E) -> 1 | P93: =IF(J93="국유지", "국유지", "사유지") -> 사유지 | Q93: =P93&F93 -> 사유지답 | R93: 4500 | S93: =IF(R93="-","-",H93*R93) -> 693000 | T93: =IF(R93="-","-",S93*3) -> 2079000
... A106: 254 | B106: 진도 | C106: 의신 | D106: 만길 | E106: 1788-18 | F106: 구 | G106: 2018 | H106: 95 | J106: 국유지 | K106: 농림수산부 | O106: =COUNTIF(E106,E:E) -> 1 | P106: =IF(J106="국유지", "국유지", "사유지") -> 국유지 | Q106: =P106&F106 -> 국유지구 | R106: 1480 | S106: =IF(R106="-","-",H106*R106) -> 140600 | T106: =IF(R106="-","-",S106*3) -> 421800
A107: 255 | B107: 진도 | C107: 의신 | D107: 만길 | E107: 1788-2 | F107: 답 | G107: 3601 | H107: 742 | J107: 이일철 | K107: 2 | O107: =COUNTIF(E107,E:E) -> 1 | P107: =IF(J107="국유지", "국유지", "사유지") -> 사유지 | Q107: =P107&F107 -> 사유지답 | R107: 4500 | S107: =IF(R107="-","-",H107*R107) -> 3339000 | T107: =IF(R107="-","-",S107*3) -> 10017000
A108: 256 | B108: 진도 | C108: 의신 | D108: 만길 | E108: 1788-1 | F108: 답 | G108: 1231 | H108: 1231 | J108: 박현일 | K108: 전라남도 진도군 의신면 만길리 157-1 | O108: =COUNTIF(E108,E:E) -> 1 | P108: =IF(J108="국유지", "국유지", "사유지") -> 사유지 | Q108: =P108&F108 -> 사유지답 | R108: 4500 | S108: =IF(R108="-","-",H108*R108) -> 5539500 | T108: =IF(R108="-","-",S108*3) -> 16618500
A109: 257 | B109: 진도 | C109: 의신 | D109: 만길 | E109: 1788-21 | F109: 답 | G109: 119 | H109: 119 | J109: 국유지 | K109: 진도군 | O109: =COUNTIF(E109,E:E) -> 1 | P109: =IF(J109="국유지", "국유지", "사유지") -> 국유지 | Q109: =P109&F109 -> 국유지답 | R109: 1480 | S109: =IF(R109="-","-",H109*R109) -> 176120 | T109: =IF(R109="-","-",S109*3) -> 528360
A110: 258 | B110: 진도 | C110: 의신 | D110: 만길 | E110: 1788-22 | F110: 답 | G110: 116 | H110: 8 | J110: 국유지 | K110: 진도군 | O110: =COUNTIF(E110,E:E) -> 1 | P110: =IF(J110="국유지", "국유지", "사유지") -> 국유지 | Q110: =P110&F110 -> 국유지답 | R110: 1480 | S110: =IF(R110="-","-",H110*R110) -> 11840 | T110: =IF(R110="-","-",S110*3) -> 35520
A111: 259 | B111: 진도 | C111: 의신 | D111: 만길 | E111: 1788-19 | F111: 도 | G111: 2189 | H111: 43 | J111: 국유지 | K111: 농림수산부 | O111: =COUNTIF(E111,E:E) -> 1 | P111: =IF(J111="국유지", "국유지", "사유지") -> 국유지 | Q111: =P111&F111 -> 국유지도 | R111: 1480 | S111: =IF(R111="-","-",H111*R111) -> 63640 | T111: =IF(R111="-","-",S111*3) -> 190920
T315: =SUM(T4:T4) -> 49878
